{"text_format":"1","workbook":"xlsx","n_sheets":4,"sheets":["Turma","Relatório","dadosPercentis2","tblMLS2"],"not_rendered":{"charts":0,"images":4,"macros":1,"external_links":0,"defined_names":3,"comments":1,"pivot_tables":0},"unopened":[],"bounds":{"document_bytes":16777216,"sheet_cells":100000,"rows_first":2000,"rows_last":500,"rows_between":2000,"halvings":0,"cell_chars":16384,"cell_head_chars":4096},"cells_cut":0,"cells_raw":0,"read":"whole","date_system":"1900"}

{"sheet":"Turma","index":0,"n_rows":53,"n_cols":8,"rows_kept":53,"cut":false,"hidden":false,"merged":[]}
[null,"Ano:",null,null,null,"Média Global:",{"$f":"IF(COUNTA(G4:G53)>0,AVERAGE(G4:G53),\"\")","v":""}]
[{"$f":"COUNTIF(B4:B53,\"x\")","v":0},"Turma:",null,null,null,"Desvio Padrão Global:",{"$f":"IF(COUNTA(G4:G53)>0,_xlfn.STDEV.P(G4:G53),\"\")","v":""}]
["ID Aluno",{"$f":"_xlfn.CONCAT(\"Ver: \",A2)","v":"Ver: 0"},"Nome","Género","Data de nascimento","Data de avaliação","Altura","Idade"]
[1,null,null,null,null,null,null,{"$f":"IF(AND(E4<>\"\",F4<>\"\"),INT(12*_xlfn.DAYS(F4,E4)/365),\"\")","v":""}]
[{"$f":"A4+1","v":2},null,null,null,null,null,null,{"$f":"IF(AND(E5<>\"\",F5<>\"\"),INT(12*_xlfn.DAYS(F5,E5)/365),\"\")","v":""}]
[{"$f":"A5+1","v":3},null,null,null,null,null,null,""]
[4,null,null,null,null,null,null,""]
[5,null,null,null,null,null,null,""]
[6,null,null,null,null,null,null,""]
[7,null,null,null,null,null,null,""]
[8,null,null,null,null,null,null,""]
[9,null,null,null,null,null,null,""]
[10,null,null,null,null,null,null,""]
[11,null,null,null,null,null,null,""]
[12,null,null,null,null,null,null,""]
[13,null,null,null,null,null,null,""]
[14,null,null,null,null,null,null,""]
[15,null,null,null,null,null,null,""]
[16,null,null,null,null,null,null,""]
[17,null,null,null,null,null,null,""]
[18,null,null,null,null,null,null,""]
[19,null,null,null,null,null,null,""]
[20,null,null,null,null,null,null,""]
[21,null,null,null,null,null,null,""]
[22,null,null,null,null,null,null,""]
[23,null,null,null,null,null,null,""]
[24,null,null,null,null,null,null,""]
[25,null,null,null,null,null,null,""]
[26,null,null,null,null,null,null,""]
[27,null,null,null,null,null,null,""]
[28,null,null,null,null,null,null,""]
[29,null,null,null,null,null,null,""]
[30,null,null,null,null,null,null,""]
[31,null,null,null,null,null,null,""]
[32,null,null,null,null,null,null,""]
[33,null,null,null,null,null,null,""]
[34,null,null,null,null,null,null,""]
[35,null,null,null,null,null,null,""]
[36,null,null,null,null,null,null,""]
[37,null,null,null,null,null,null,""]
[38,null,null,null,null,null,null,""]
[39,null,null,null,null,null,null,""]
[40,null,null,null,null,null,null,""]
[41,null,null,null,null,null,null,""]
[42,null,null,null,null,null,null,""]
[43,null,null,null,null,null,null,""]
[44,null,null,null,null,null,null,""]
[45,null,null,null,null,null,null,""]
[46,null,null,null,null,null,null,""]
[47,null,null,null,null,null,null,""]
[48,null,null,null,null,null,null,""]
[49,null,null,null,null,null,null,""]
[50,null,null,null,null,null,null,""]

{"sheet":"Relatório","index":1,"n_rows":50,"n_cols":11,"rows_kept":50,"cut":false,"hidden":false,"merged":[[12,0,12,9],[14,0,14,6],[31,0,31,5]]}
["RELATÓRIO INDIVIDUAL - ALTURA"]
[{"$f":"IF(Turma!A2=1,VLOOKUP(\"x\",Turma!B$4:G$53,2,0),\"\")","v":""}]
[{"$f":"IF(Turma!A2=1,_xlfn.CONCAT(TEXT(VLOOKUP(\"x\",Turma!B$4:G$53,4,0),\"dd-mm-aaaa\"),\" | \",Turma!C1,\"º ano\",\" | \",Turma!C2),\"\")","v":""}]
[]
[null,"Resultado",null,"Média",null,"Mínimo",null,"Máximo"]
[null,"da criança",null,"da turma",null,"da turma",null,"da turma"]
["Altura (cm)",{"$f":"IF(Turma!$A$2=1,VLOOKUP(\"x\",Turma!B4:J53,6,0),0)","v":0},null,{"$f":"IF(Turma!$A$2=1,Turma!G1,0)","v":0},null,{"$f":"IF(Turma!$A$2=1,SMALL(Turma!G4:G53,1),0)","v":0},null,{"$f":"IF(Turma!$A$2=1,LARGE(Turma!G4:G53,1),0)","v":0}]
[]
[]
[]
[]
[]
["Cartas de Referência da altura do concelho de Matosinhos"]
[]
[]
[]
[]
[]
[]
[]
[]
[]
[]
[]
[]
[]
[]
[]
[]
[]
[]
[]
[]
[]
[]
[]
[]
[]
[]
[]
[]
[]
[]
[]
[]
[]
[]
[]
[]
[null,null,null,null,null,null,null,null,null,null,"Este relatório foi gerado a partir de uma aplicação desenvolvida no contexto do projeto REACT financiado pela FCT (https://doi.org/10.54499/PTDC/SAU-DES/2286/2021)"]

{"sheet":"dadosPercentis2","index":2,"n_rows":170,"n_cols":13,"rows_kept":170,"cut":false,"hidden":true,"merged":[]}
["meses","anos","P3","P10","P25","P50","P75","P90","P97",null,"Género","Meses","Altura"]
[60,{"$f":"IF(A2/12=INT(A2/12),A2/12,\"\")","v":5},null,null,null,null,null,null,null,null,{"$f":"IF(Turma!A2=1,VLOOKUP(\"x\",Turma!B4:G53,3,0),\"\")","v":""},{"$f":"IF(Turma!A2=1,VLOOKUP(\"x\",Turma!B4:H53,7,0),\"\")","v":""},{"$f":"IF(Turma!A2=1,VLOOKUP(\"x\",Turma!B4:H53,6,0),\"\")","v":""}]
[61,{"$f":"IF(A3/12=INT(A3/12),A3/12,\"\")","v":""},{"$f":"IF(Turma!A$2=1,IF(VLOOKUP(\"x\",Turma!$B$4:$G$53,3,0)=\"Menina\",tblMLS2!K2,tblMLS2!K170),\"\")","v":""},{"$f":"IF(Turma!A$2=1,IF(VLOOKUP(\"x\",Turma!$B$4:$G$53,3,0)=\"Menina\",tblMLS2!M2,tblMLS2!M170),\"\")","v":""},{"$f":"IF(Turma!A$2=1,IF(VLOOKUP(\"x\",Turma!$B$4:$G$53,3,0)=\"Menina\",tblMLS2!O2,tblMLS2!O170),\"\")","v":""},{"$f":"IF(Turma!A$2=1,IF(VLOOKUP(\"x\",Turma!$B$4:$G$53,3,0)=\"Menina\",tblMLS2!P2,tblMLS2!P170),\"\")","v":""},{"$f":"IF(Turma!A$2=1,IF(VLOOKUP(\"x\",Turma!$B$4:$G$53,3,0)=\"Menina\",tblMLS2!Q2,tblMLS2!Q170),\"\")","v":""},{"$f":"IF(Turma!A$2=1,IF(VLOOKUP(\"x\",Turma!$B$4:$G$53,3,0)=\"Menina\",tblMLS2!S2,tblMLS2!S170),\"\")","v":""},{"$f":"IF(Turma!A$2=1,IF(VLOOKUP(\"x\",Turma!$B$4:$G$53,3,0)=\"Menina\",tblMLS2!U2,tblMLS2!U170),\"\")","v":""}]
[62,"",{"$f":"IF(Turma!A$2=1,IF(VLOOKUP(\"x\",Turma!$B$4:$G$53,3,0)=\"Menina\",tblMLS2!K3,tblMLS2!K171),\"\")","v":""},{"$f":"IF(Turma!A$2=1,IF(VLOOKUP(\"x\",Turma!$B$4:$G$53,3,0)=\"Menina\",tblMLS2!M3,tblMLS2!M171),\"\")","v":""},{"$f":"IF(Turma!A$2=1,IF(VLOOKUP(\"x\",Turma!$B$4:$G$53,3,0)=\"Menina\",tblMLS2!O3,tblMLS2!O171),\"\")","v":""},{"$f":"IF(Turma!A$2=1,IF(VLOOKUP(\"x\",Turma!$B$4:$G$53,3,0)=\"Menina\",tblMLS2!P3,tblMLS2!P171),\"\")","v":""},{"$f":"IF(Turma!A$2=1,IF(VLOOKUP(\"x\",Turma!$B$4:$G$53,3,0)=\"Menina\",tblMLS2!Q3,tblMLS2!Q171),\"\")","v":""},{"$f":"IF(Turma!A$2=1,IF(VLOOKUP(\"x\",Turma!$B$4:$G$53,3,0)=\"Menina\",tblMLS2!S3,tblMLS2!S171),\"\")","v":""},{"$f":"IF(Turma!A$2=1,IF(VLOOKUP(\"x\",Turma!$B$4:$G$53,3,0)=\"Menina\",tblMLS2!U3,tblMLS2!U171),\"\")","v":""}]
[63,"",{"$f":"IF(Turma!A$2=1,IF(VLOOKUP(\"x\",Turma!$B$4:$G$53,3,0)=\"Menina\",tblMLS2!K4,tblMLS2!K172),\"\")","v":""},{"$f":"IF(Turma!A$2=1,IF(VLOOKUP(\"x\",Turma!$B$4:$G$53,3,0)=\"Menina\",tblMLS2!M4,tblMLS2!M172),\"\")","v":""},{"$f":"IF(Turma!A$2=1,IF(VLOOKUP(\"x\",Turma!$B$4:$G$53,3,0)=\"Menina\",tblMLS2!O4,tblMLS2!O172),\"\")","v":""},{"$f":"IF(Turma!A$2=1,IF(VLOOKUP(\"x\",Turma!$B$4:$G$53,3,0)=\"Menina\",tblMLS2!P4,tblMLS2!P172),\"\")","v":""},{"$f":"IF(Turma!A$2=1,IF(VLOOKUP(\"x\",Turma!$B$4:$G$53,3,0)=\"Menina\",tblMLS2!Q4,tblMLS2!Q172),\"\")","v":""},{"$f":"IF(Turma!A$2=1,IF(VLOOKUP(\"x\",Turma!$B$4:$G$53,3,0)=\"Menina\",tblMLS2!S4,tblMLS2!S172),\"\")","v":""},{"$f":"IF(Turma!A$2=1,IF(VLOOKUP(\"x\",Turma!$B$4:$G$53,3,0)=\"Menina\",tblMLS2!U4,tblMLS2!U172),\"\")","v":""}]
[64,"",{"$f":"IF(Turma!A$2=1,IF(VLOOKUP(\"x\",Turma!$B$4:$G$53,3,0)=\"Menina\",tblMLS2!K5,tblMLS2!K173),\"\")","v":""},{"$f":"IF(Turma!A$2=1,IF(VLOOKUP(\"x\",Turma!$B$4:$G$53,3,0)=\"Menina\",tblMLS2!M5,tblMLS2!M173),\"\")","v":""},{"$f":"IF(Turma!A$2=1,IF(VLOOKUP(\"x\",Turma!$B$4:$G$53,3,0)=\"Menina\",tblMLS2!O5,tblMLS2!O173),\"\")","v":""},{"$f":"IF(Turma!A$2=1,IF(VLOOKUP(\"x\",Turma!$B$4:$G$53,3,0)=\"Menina\",tblMLS2!P5,tblMLS2!P173),\"\")","v":""},{"$f":"IF(Turma!A$2=1,IF(VLOOKUP(\"x\",Turma!$B$4:$G$53,3,0)=\"Menina\",tblMLS2!Q5,tblMLS2!Q173),\"\")","v":""},{"$f":"IF(Turma!A$2=1,IF(VLOOKUP(\"x\",Turma!$B$4:$G$53,3,0)=\"Menina\",tblMLS2!S5,tblMLS2!S173),\"\")","v":""},{"$f":"IF(Turma!A$2=1,IF(VLOOKUP(\"x\",Turma!$B$4:$G$53,3,0)=\"Menina\",tblMLS2!U5,tblMLS2!U173),\"\")","v":""}]
[65,"",{"$f":"IF(Turma!A$2=1,IF(VLOOKUP(\"x\",Turma!$B$4:$G$53,3,0)=\"Menina\",tblMLS2!K6,tblMLS2!K174),\"\")","v":""},{"$f":"IF(Turma!A$2=1,IF(VLOOKUP(\"x\",Turma!$B$4:$G$53,3,0)=\"Menina\",tblMLS2!M6,tblMLS2!M174),\"\")","v":""},{"$f":"IF(Turma!A$2=1,IF(VLOOKUP(\"x\",Turma!$B$4:$G$53,3,0)=\"Menina\",tblMLS2!O6,tblMLS2!O174),\"\")","v":""},{"$f":"IF(Turma!A$2=1,IF(VLOOKUP(\"x\",Turma!$B$4:$G$53,3,0)=\"Menina\",tblMLS2!P6,tblMLS2!P174),\"\")","v":""},{"$f":"IF(Turma!A$2=1,IF(VLOOKUP(\"x\",Turma!$B$4:$G$53,3,0)=\"Menina\",tblMLS2!Q6,tblMLS2!Q174),\"\")","v":""},{"$f":"IF(Turma!A$2=1,IF(VLOOKUP(\"x\",Turma!$B$4:$G$53,3,0)=\"Menina\",tblMLS2!S6,tblMLS2!S174),\"\")","v":""},{"$f":"IF(Turma!A$2=1,IF(VLOOKUP(\"x\",Turma!$B$4:$G$53,3,0)=\"Menina\",tblMLS2!U6,tblMLS2!U174),\"\")","v":""}]
[66,"",{"$f":"IF(Turma!A$2=1,IF(VLOOKUP(\"x\",Turma!$B$4:$G$53,3,0)=\"Menina\",tblMLS2!K7,tblMLS2!K175),\"\")","v":""},{"$f":"IF(Turma!A$2=1,IF(VLOOKUP(\"x\",Turma!$B$4:$G$53,3,0)=\"Menina\",tblMLS2!M7,tblMLS2!M175),\"\")","v":""},{"$f":"IF(Turma!A$2=1,IF(VLOOKUP(\"x\",Turma!$B$4:$G$53,3,0)=\"Menina\",tblMLS2!O7,tblMLS2!O175),\"\")","v":""},{"$f":"IF(Turma!A$2=1,IF(VLOOKUP(\"x\",Turma!$B$4:$G$53,3,0)=\"Menina\",tblMLS2!P7,tblMLS2!P175),\"\")","v":""},{"$f":"IF(Turma!A$2=1,IF(VLOOKUP(\"x\",Turma!$B$4:$G$53,3,0)=\"Menina\",tblMLS2!Q7,tblMLS2!Q175),\"\")","v":""},{"$f":"IF(Turma!A$2=1,IF(VLOOKUP(\"x\",Turma!$B$4:$G$53,3,0)=\"Menina\",tblMLS2!S7,tblMLS2!S175),\"\")","v":""},{"$f":"IF(Turma!A$2=1,IF(VLOOKUP(\"x\",Turma!$B$4:$G$53,3,0)=\"Menina\",tblMLS2!U7,tblMLS2!U175),\"\")","v":""}]
[67,"",{"$f":"IF(Turma!A$2=1,IF(VLOOKUP(\"x\",Turma!$B$4:$G$53,3,0)=\"Menina\",tblMLS2!K8,tblMLS2!K176),\"\")","v":""},{"$f":"IF(Turma!A$2=1,IF(VLOOKUP(\"x\",Turma!$B$4:$G$53,3,0)=\"Menina\",tblMLS2!M8,tblMLS2!M176),\"\")","v":""},{"$f":"IF(Turma!A$2=1,IF(VLOOKUP(\"x\",Turma!$B$4:$G$53,3,0)=\"Menina\",tblMLS2!O8,tblMLS2!O176),\"\")","v":""},{"$f":"IF(Turma!A$2=1,IF(VLOOKUP(\"x\",Turma!$B$4:$G$53,3,0)=\"Menina\",tblMLS2!P8,tblMLS2!P176),\"\")","v":""},{"$f":"IF(Turma!A$2=1,IF(VLOOKUP(\"x\",Turma!$B$4:$G$53,3,0)=\"Menina\",tblMLS2!Q8,tblMLS2!Q176),\"\")","v":""},{"$f":"IF(Turma!A$2=1,IF(VLOOKUP(\"x\",Turma!$B$4:$G$53,3,0)=\"Menina\",tblMLS2!S8,tblMLS2!S176),\"\")","v":""},{"$f":"IF(Turma!A$2=1,IF(VLOOKUP(\"x\",Turma!$B$4:$G$53,3,0)=\"Menina\",tblMLS2!U8,tblMLS2!U176),\"\")","v":""}]
[68,"",{"$f":"IF(Turma!A$2=1,IF(VLOOKUP(\"x\",Turma!$B$4:$G$53,3,0)=\"Menina\",tblMLS2!K9,tblMLS2!K177),\"\")","v":""},{"$f":"IF(Turma!A$2=1,IF(VLOOKUP(\"x\",Turma!$B$4:$G$53,3,0)=\"Menina\",tblMLS2!M9,tblMLS2!M177),\"\")","v":""},{"$f":"IF(Turma!A$2=1,IF(VLOOKUP(\"x\",Turma!$B$4:$G$53,3,0)=\"Menina\",tblMLS2!O9,tblMLS2!O177),\"\")","v":""},{"$f":"IF(Turma!A$2=1,IF(VLOOKUP(\"x\",Turma!$B$4:$G$53,3,0)=\"Menina\",tblMLS2!P9,tblMLS2!P177),\"\")","v":""},{"$f":"IF(Turma!A$2=1,IF(VLOOKUP(\"x\",Turma!$B$4:$G$53,3,0)=\"Menina\",tblMLS2!Q9,tblMLS2!Q177),\"\")","v":""},{"$f":"IF(Turma!A$2=1,IF(VLOOKUP(\"x\",Turma!$B$4:$G$53,3,0)=\"Menina\",tblMLS2!S9,tblMLS2!S177),\"\")","v":""},{"$f":"IF(Turma!A$2=1,IF(VLOOKUP(\"x\",Turma!$B$4:$G$53,3,0)=\"Menina\",tblMLS2!U9,tblMLS2!U177),\"\")","v":""}]
[69,"",{"$f":"IF(Turma!A$2=1,IF(VLOOKUP(\"x\",Turma!$B$4:$G$53,3,0)=\"Menina\",tblMLS2!K10,tblMLS2!K178),\"\")","v":""},{"$f":"IF(Turma!A$2=1,IF(VLOOKUP(\"x\",Turma!$B$4:$G$53,3,0)=\"Menina\",tblMLS2!M10,tblMLS2!M178),\"\")","v":""},{"$f":"IF(Turma!A$2=1,IF(VLOOKUP(\"x\",Turma!$B$4:$G$53,3,0)=\"Menina\",tblMLS2!O10,tblMLS2!O178),\"\")","v":""},{"$f":"IF(Turma!A$2=1,IF(VLOOKUP(\"x\",Turma!$B$4:$G$53,3,0)=\"Menina\",tblMLS2!P10,tblMLS2!P178),\"\")","v":""},{"$f":"IF(Turma!A$2=1,IF(VLOOKUP(\"x\",Turma!$B$4:$G$53,3,0)=\"Menina\",tblMLS2!Q10,tblMLS2!Q178),\"\")","v":""},{"$f":"IF(Turma!A$2=1,IF(VLOOKUP(\"x\",Turma!$B$4:$G$53,3,0)=\"Menina\",tblMLS2!S10,tblMLS2!S178),\"\")","v":""},{"$f":"IF(Turma!A$2=1,IF(VLOOKUP(\"x\",Turma!$B$4:$G$53,3,0)=\"Menina\",tblMLS2!U10,tblMLS2!U178),\"\")","v":""}]
[70,"",{"$f":"IF(Turma!A$2=1,IF(VLOOKUP(\"x\",Turma!$B$4:$G$53,3,0)=\"Menina\",tblMLS2!K11,tblMLS2!K179),\"\")","v":""},{"$f":"IF(Turma!A$2=1,IF(VLOOKUP(\"x\",Turma!$B$4:$G$53,3,0)=\"Menina\",tblMLS2!M11,tblMLS2!M179),\"\")","v":""},{"$f":"IF(Turma!A$2=1,IF(VLOOKUP(\"x\",Turma!$B$4:$G$53,3,0)=\"Menina\",tblMLS2!O11,tblMLS2!O179),\"\")","v":""},{"$f":"IF(Turma!A$2=1,IF(VLOOKUP(\"x\",Turma!$B$4:$G$53,3,0)=\"Menina\",tblMLS2!P11,tblMLS2!P179),\"\")","v":""},{"$f":"IF(Turma!A$2=1,IF(VLOOKUP(\"x\",Turma!$B$4:$G$53,3,0)=\"Menina\",tblMLS2!Q11,tblMLS2!Q179),\"\")","v":""},{"$f":"IF(Turma!A$2=1,IF(VLOOKUP(\"x\",Turma!$B$4:$G$53,3,0)=\"Menina\",tblMLS2!S11,tblMLS2!S179),\"\")","v":""},{"$f":"IF(Turma!A$2=1,IF(VLOOKUP(\"x\",Turma!$B$4:$G$53,3,0)=\"Menina\",tblMLS2!U11,tblMLS2!U179),\"\")","v":""}]
[71,"",{"$f":"IF(Turma!A$2=1,IF(VLOOKUP(\"x\",Turma!$B$4:$G$53,3,0)=\"Menina\",tblMLS2!K12,tblMLS2!K180),\"\")","v":""},{"$f":"IF(Turma!A$2=1,IF(VLOOKUP(\"x\",Turma!$B$4:$G$53,3,0)=\"Menina\",tblMLS2!M12,tblMLS2!M180),\"\")","v":""},{"$f":"IF(Turma!A$2=1,IF(VLOOKUP(\"x\",Turma!$B$4:$G$53,3,0)=\"Menina\",tblMLS2!O12,tblMLS2!O180),\"\")","v":""},{"$f":"IF(Turma!A$2=1,IF(VLOOKUP(\"x\",Turma!$B$4:$G$53,3,0)=\"Menina\",tblMLS2!P12,tblMLS2!P180),\"\")","v":""},{"$f":"IF(Turma!A$2=1,IF(VLOOKUP(\"x\",Turma!$B$4:$G$53,3,0)=\"Menina\",tblMLS2!Q12,tblMLS2!Q180),\"\")","v":""},{"$f":"IF(Turma!A$2=1,IF(VLOOKUP(\"x\",Turma!$B$4:$G$53,3,0)=\"Menina\",tblMLS2!S12,tblMLS2!S180),\"\")","v":""},{"$f":"IF(Turma!A$2=1,IF(VLOOKUP(\"x\",Turma!$B$4:$G$53,3,0)=\"Menina\",tblMLS2!U12,tblMLS2!U180),\"\")","v":""}]
[72,6,{"$f":"IF(Turma!A$2=1,IF(VLOOKUP(\"x\",Turma!$B$4:$G$53,3,0)=\"Menina\",tblMLS2!K13,tblMLS2!K181),\"\")","v":""},{"$f":"IF(Turma!A$2=1,IF(VLOOKUP(\"x\",Turma!$B$4:$G$53,3,0)=\"Menina\",tblMLS2!M13,tblMLS2!M181),\"\")","v":""},{"$f":"IF(Turma!A$2=1,IF(VLOOKUP(\"x\",Turma!$B$4:$G$53,3,0)=\"Menina\",tblMLS2!O13,tblMLS2!O181),\"\")","v":""},{"$f":"IF(Turma!A$2=1,IF(VLOOKUP(\"x\",Turma!$B$4:$G$53,3,0)=\"Menina\",tblMLS2!P13,tblMLS2!P181),\"\")","v":""},{"$f":"IF(Turma!A$2=1,IF(VLOOKUP(\"x\",Turma!$B$4:$G$53,3,0)=\"Menina\",tblMLS2!Q13,tblMLS2!Q181),\"\")","v":""},{"$f":"IF(Turma!A$2=1,IF(VLOOKUP(\"x\",Turma!$B$4:$G$53,3,0)=\"Menina\",tblMLS2!S13,tblMLS2!S181),\"\")","v":""},{"$f":"IF(Turma!A$2=1,IF(VLOOKUP(\"x\",Turma!$B$4:$G$53,3,0)=\"Menina\",tblMLS2!U13,tblMLS2!U181),\"\")","v":""}]
[73,"",{"$f":"IF(Turma!A$2=1,IF(VLOOKUP(\"x\",Turma!$B$4:$G$53,3,0)=\"Menina\",tblMLS2!K14,tblMLS2!K182),\"\")","v":""},{"$f":"IF(Turma!A$2=1,IF(VLOOKUP(\"x\",Turma!$B$4:$G$53,3,0)=\"Menina\",tblMLS2!M14,tblMLS2!M182),\"\")","v":""},{"$f":"IF(Turma!A$2=1,IF(VLOOKUP(\"x\",Turma!$B$4:$G$53,3,0)=\"Menina\",tblMLS2!O14,tblMLS2!O182),\"\")","v":""},{"$f":"IF(Turma!A$2=1,IF(VLOOKUP(\"x\",Turma!$B$4:$G$53,3,0)=\"Menina\",tblMLS2!P14,tblMLS2!P182),\"\")","v":""},{"$f":"IF(Turma!A$2=1,IF(VLOOKUP(\"x\",Turma!$B$4:$G$53,3,0)=\"Menina\",tblMLS2!Q14,tblMLS2!Q182),\"\")","v":""},{"$f":"IF(Turma!A$2=1,IF(VLOOKUP(\"x\",Turma!$B$4:$G$53,3,0)=\"Menina\",tblMLS2!S14,tblMLS2!S182),\"\")","v":""},{"$f":"IF(Turma!A$2=1,IF(VLOOKUP(\"x\",Turma!$B$4:$G$53,3,0)=\"Menina\",tblMLS2!U14,tblMLS2!U182),\"\")","v":""}]
[74,"",{"$f":"IF(Turma!A$2=1,IF(VLOOKUP(\"x\",Turma!$B$4:$G$53,3,0)=\"Menina\",tblMLS2!K15,tblMLS2!K183),\"\")","v":""},{"$f":"IF(Turma!A$2=1,IF(VLOOKUP(\"x\",Turma!$B$4:$G$53,3,0)=\"Menina\",tblMLS2!M15,tblMLS2!M183),\"\")","v":""},{"$f":"IF(Turma!A$2=1,IF(VLOOKUP(\"x\",Turma!$B$4:$G$53,3,0)=\"Menina\",tblMLS2!O15,tblMLS2!O183),\"\")","v":""},{"$f":"IF(Turma!A$2=1,IF(VLOOKUP(\"x\",Turma!$B$4:$G$53,3,0)=\"Menina\",tblMLS2!P15,tblMLS2!P183),\"\")","v":""},{"$f":"IF(Turma!A$2=1,IF(VLOOKUP(\"x\",Turma!$B$4:$G$53,3,0)=\"Menina\",tblMLS2!Q15,tblMLS2!Q183),\"\")","v":""},{"$f":"IF(Turma!A$2=1,IF(VLOOKUP(\"x\",Turma!$B$4:$G$53,3,0)=\"Menina\",tblMLS2!S15,tblMLS2!S183),\"\")","v":""},{"$f":"IF(Turma!A$2=1,IF(VLOOKUP(\"x\",Turma!$B$4:$G$53,3,0)=\"Menina\",tblMLS2!U15,tblMLS2!U183),\"\")","v":""}]
[75,"",{"$f":"IF(Turma!A$2=1,IF(VLOOKUP(\"x\",Turma!$B$4:$G$53,3,0)=\"Menina\",tblMLS2!K16,tblMLS2!K184),\"\")","v":""},{"$f":"IF(Turma!A$2=1,IF(VLOOKUP(\"x\",Turma!$B$4:$G$53,3,0)=\"Menina\",tblMLS2!M16,tblMLS2!M184),\"\")","v":""},{"$f":"IF(Turma!A$2=1,IF(VLOOKUP(\"x\",Turma!$B$4:$G$53,3,0)=\"Menina\",tblMLS2!O16,tblMLS2!O184),\"\")","v":""},{"$f":"IF(Turma!A$2=1,IF(VLOOKUP(\"x\",Turma!$B$4:$G$53,3,0)=\"Menina\",tblMLS2!P16,tblMLS2!P184),\"\")","v":""},{"$f":"IF(Turma!A$2=1,IF(VLOOKUP(\"x\",Turma!$B$4:$G$53,3,0)=\"Menina\",tblMLS2!Q16,tblMLS2!Q184),\"\")","v":""},{"$f":"IF(Turma!A$2=1,IF(VLOOKUP(\"x\",Turma!$B$4:$G$53,3,0)=\"Menina\",tblMLS2!S16,tblMLS2!S184),\"\")","v":""},{"$f":"IF(Turma!A$2=1,IF(VLOOKUP(\"x\",Turma!$B$4:$G$53,3,0)=\"Menina\",tblMLS2!U16,tblMLS2!U184),\"\")","v":""}]
[76,"",{"$f":"IF(Turma!A$2=1,IF(VLOOKUP(\"x\",Turma!$B$4:$G$53,3,0)=\"Menina\",tblMLS2!K17,tblMLS2!K185),\"\")","v":""},{"$f":"IF(Turma!A$2=1,IF(VLOOKUP(\"x\",Turma!$B$4:$G$53,3,0)=\"Menina\",tblMLS2!M17,tblMLS2!M185),\"\")","v":""},{"$f":"IF(Turma!A$2=1,IF(VLOOKUP(\"x\",Turma!$B$4:$G$53,3,0)=\"Menina\",tblMLS2!O17,tblMLS2!O185),\"\")","v":""},{"$f":"IF(Turma!A$2=1,IF(VLOOKUP(\"x\",Turma!$B$4:$G$53,3,0)=\"Menina\",tblMLS2!P17,tblMLS2!P185),\"\")","v":""},{"$f":"IF(Turma!A$2=1,IF(VLOOKUP(\"x\",Turma!$B$4:$G$53,3,0)=\"Menina\",tblMLS2!Q17,tblMLS2!Q185),\"\")","v":""},{"$f":"IF(Turma!A$2=1,IF(VLOOKUP(\"x\",Turma!$B$4:$G$53,3,0)=\"Menina\",tblMLS2!S17,tblMLS2!S185),\"\")","v":""},{"$f":"IF(Turma!A$2=1,IF(VLOOKUP(\"x\",Turma!$B$4:$G$53,3,0)=\"Menina\",tblMLS2!U17,tblMLS2!U185),\"\")","v":""}]
[77,"",{"$f":"IF(Turma!A$2=1,IF(VLOOKUP(\"x\",Turma!$B$4:$G$53,3,0)=\"Menina\",tblMLS2!K18,tblMLS2!K186),\"\")","v":""},{"$f":"IF(Turma!A$2=1,IF(VLOOKUP(\"x\",Turma!$B$4:$G$53,3,0)=\"Menina\",tblMLS2!M18,tblMLS2!M186),\"\")","v":""},{"$f":"IF(Turma!A$2=1,IF(VLOOKUP(\"x\",Turma!$B$4:$G$53,3,0)=\"Menina\",tblMLS2!O18,tblMLS2!O186),\"\")","v":""},{"$f":"IF(Turma!A$2=1,IF(VLOOKUP(\"x\",Turma!$B$4:$G$53,3,0)=\"Menina\",tblMLS2!P18,tblMLS2!P186),\"\")","v":""},{"$f":"IF(Turma!A$2=1,IF(VLOOKUP(\"x\",Turma!$B$4:$G$53,3,0)=\"Menina\",tblMLS2!Q18,tblMLS2!Q186),\"\")","v":""},{"$f":"IF(Turma!A$2=1,IF(VLOOKUP(\"x\",Turma!$B$4:$G$53,3,0)=\"Menina\",tblMLS2!S18,tblMLS2!S186),\"\")","v":""},{"$f":"IF(Turma!A$2=1,IF(VLOOKUP(\"x\",Turma!$B$4:$G$53,3,0)=\"Menina\",tblMLS2!U18,tblMLS2!U186),\"\")","v":""}]
[78,"",{"$f":"IF(Turma!A$2=1,IF(VLOOKUP(\"x\",Turma!$B$4:$G$53,3,0)=\"Menina\",tblMLS2!K19,tblMLS2!K187),\"\")","v":""},{"$f":"IF(Turma!A$2=1,IF(VLOOKUP(\"x\",Turma!$B$4:$G$53,3,0)=\"Menina\",tblMLS2!M19,tblMLS2!M187),\"\")","v":""},{"$f":"IF(Turma!A$2=1,IF(VLOOKUP(\"x\",Turma!$B$4:$G$53,3,0)=\"Menina\",tblMLS2!O19,tblMLS2!O187),\"\")","v":""},{"$f":"IF(Turma!A$2=1,IF(VLOOKUP(\"x\",Turma!$B$4:$G$53,3,0)=\"Menina\",tblMLS2!P19,tblMLS2!P187),\"\")","v":""},{"$f":"IF(Turma!A$2=1,IF(VLOOKUP(\"x\",Turma!$B$4:$G$53,3,0)=\"Menina\",tblMLS2!Q19,tblMLS2!Q187),\"\")","v":""},{"$f":"IF(Turma!A$2=1,IF(VLOOKUP(\"x\",Turma!$B$4:$G$53,3,0)=\"Menina\",tblMLS2!S19,tblMLS2!S187),\"\")","v":""},{"$f":"IF(Turma!A$2=1,IF(VLOOKUP(\"x\",Turma!$B$4:$G$53,3,0)=\"Menina\",tblMLS2!U19,tblMLS2!U187),\"\")","v":""}]
[79,"",{"$f":"IF(Turma!A$2=1,IF(VLOOKUP(\"x\",Turma!$B$4:$G$53,3,0)=\"Menina\",tblMLS2!K20,tblMLS2!K188),\"\")","v":""},{"$f":"IF(Turma!A$2=1,IF(VLOOKUP(\"x\",Turma!$B$4:$G$53,3,0)=\"Menina\",tblMLS2!M20,tblMLS2!M188),\"\")","v":""},{"$f":"IF(Turma!A$2=1,IF(VLOOKUP(\"x\",Turma!$B$4:$G$53,3,0)=\"Menina\",tblMLS2!O20,tblMLS2!O188),\"\")","v":""},{"$f":"IF(Turma!A$2=1,IF(VLOOKUP(\"x\",Turma!$B$4:$G$53,3,0)=\"Menina\",tblMLS2!P20,tblMLS2!P188),\"\")","v":""},{"$f":"IF(Turma!A$2=1,IF(VLOOKUP(\"x\",Turma!$B$4:$G$53,3,0)=\"Menina\",tblMLS2!Q20,tblMLS2!Q188),\"\")","v":""},{"$f":"IF(Turma!A$2=1,IF(VLOOKUP(\"x\",Turma!$B$4:$G$53,3,0)=\"Menina\",tblMLS2!S20,tblMLS2!S188),\"\")","v":""},{"$f":"IF(Turma!A$2=1,IF(VLOOKUP(\"x\",Turma!$B$4:$G$53,3,0)=\"Menina\",tblMLS2!U20,tblMLS2!U188),\"\")","v":""}]
[80,"",{"$f":"IF(Turma!A$2=1,IF(VLOOKUP(\"x\",Turma!$B$4:$G$53,3,0)=\"Menina\",tblMLS2!K21,tblMLS2!K189),\"\")","v":""},{"$f":"IF(Turma!A$2=1,IF(VLOOKUP(\"x\",Turma!$B$4:$G$53,3,0)=\"Menina\",tblMLS2!M21,tblMLS2!M189),\"\")","v":""},{"$f":"IF(Turma!A$2=1,IF(VLOOKUP(\"x\",Turma!$B$4:$G$53,3,0)=\"Menina\",tblMLS2!O21,tblMLS2!O189),\"\")","v":""},{"$f":"IF(Turma!A$2=1,IF(VLOOKUP(\"x\",Turma!$B$4:$G$53,3,0)=\"Menina\",tblMLS2!P21,tblMLS2!P189),\"\")","v":""},{"$f":"IF(Turma!A$2=1,IF(VLOOKUP(\"x\",Turma!$B$4:$G$53,3,0)=\"Menina\",tblMLS2!Q21,tblMLS2!Q189),\"\")","v":""},{"$f":"IF(Turma!A$2=1,IF(VLOOKUP(\"x\",Turma!$B$4:$G$53,3,0)=\"Menina\",tblMLS2!S21,tblMLS2!S189),\"\")","v":""},{"$f":"IF(Turma!A$2=1,IF(VLOOKUP(\"x\",Turma!$B$4:$G$53,3,0)=\"Menina\",tblMLS2!U21,tblMLS2!U189),\"\")","v":""}]
[81,"",{"$f":"IF(Turma!A$2=1,IF(VLOOKUP(\"x\",Turma!$B$4:$G$53,3,0)=\"Menina\",tblMLS2!K22,tblMLS2!K190),\"\")","v":""},{"$f":"IF(Turma!A$2=1,IF(VLOOKUP(\"x\",Turma!$B$4:$G$53,3,0)=\"Menina\",tblMLS2!M22,tblMLS2!M190),\"\")","v":""},{"$f":"IF(Turma!A$2=1,IF(VLOOKUP(\"x\",Turma!$B$4:$G$53,3,0)=\"Menina\",tblMLS2!O22,tblMLS2!O190),\"\")","v":""},{"$f":"IF(Turma!A$2=1,IF(VLOOKUP(\"x\",Turma!$B$4:$G$53,3,0)=\"Menina\",tblMLS2!P22,tblMLS2!P190),\"\")","v":""},{"$f":"IF(Turma!A$2=1,IF(VLOOKUP(\"x\",Turma!$B$4:$G$53,3,0)=\"Menina\",tblMLS2!Q22,tblMLS2!Q190),\"\")","v":""},{"$f":"IF(Turma!A$2=1,IF(VLOOKUP(\"x\",Turma!$B$4:$G$53,3,0)=\"Menina\",tblMLS2!S22,tblMLS2!S190),\"\")","v":""},{"$f":"IF(Turma!A$2=1,IF(VLOOKUP(\"x\",Turma!$B$4:$G$53,3,0)=\"Menina\",tblMLS2!U22,tblMLS2!U190),\"\")","v":""}]
[82,"",{"$f":"IF(Turma!A$2=1,IF(VLOOKUP(\"x\",Turma!$B$4:$G$53,3,0)=\"Menina\",tblMLS2!K23,tblMLS2!K191),\"\")","v":""},{"$f":"IF(Turma!A$2=1,IF(VLOOKUP(\"x\",Turma!$B$4:$G$53,3,0)=\"Menina\",tblMLS2!M23,tblMLS2!M191),\"\")","v":""},{"$f":"IF(Turma!A$2=1,IF(VLOOKUP(\"x\",Turma!$B$4:$G$53,3,0)=\"Menina\",tblMLS2!O23,tblMLS2!O191),\"\")","v":""},{"$f":"IF(Turma!A$2=1,IF(VLOOKUP(\"x\",Turma!$B$4:$G$53,3,0)=\"Menina\",tblMLS2!P23,tblMLS2!P191),\"\")","v":""},{"$f":"IF(Turma!A$2=1,IF(VLOOKUP(\"x\",Turma!$B$4:$G$53,3,0)=\"Menina\",tblMLS2!Q23,tblMLS2!Q191),\"\")","v":""},{"$f":"IF(Turma!A$2=1,IF(VLOOKUP(\"x\",Turma!$B$4:$G$53,3,0)=\"Menina\",tblMLS2!S23,tblMLS2!S191),\"\")","v":""},{"$f":"IF(Turma!A$2=1,IF(VLOOKUP(\"x\",Turma!$B$4:$G$53,3,0)=\"Menina\",tblMLS2!U23,tblMLS2!U191),\"\")","v":""}]
[83,"",{"$f":"IF(Turma!A$2=1,IF(VLOOKUP(\"x\",Turma!$B$4:$G$53,3,0)=\"Menina\",tblMLS2!K24,tblMLS2!K192),\"\")","v":""},{"$f":"IF(Turma!A$2=1,IF(VLOOKUP(\"x\",Turma!$B$4:$G$53,3,0)=\"Menina\",tblMLS2!M24,tblMLS2!M192),\"\")","v":""},{"$f":"IF(Turma!A$2=1,IF(VLOOKUP(\"x\",Turma!$B$4:$G$53,3,0)=\"Menina\",tblMLS2!O24,tblMLS2!O192),\"\")","v":""},{"$f":"IF(Turma!A$2=1,IF(VLOOKUP(\"x\",Turma!$B$4:$G$53,3,0)=\"Menina\",tblMLS2!P24,tblMLS2!P192),\"\")","v":""},{"$f":"IF(Turma!A$2=1,IF(VLOOKUP(\"x\",Turma!$B$4:$G$53,3,0)=\"Menina\",tblMLS2!Q24,tblMLS2!Q192),\"\")","v":""},{"$f":"IF(Turma!A$2=1,IF(VLOOKUP(\"x\",Turma!$B$4:$G$53,3,0)=\"Menina\",tblMLS2!S24,tblMLS2!S192),\"\")","v":""},{"$f":"IF(Turma!A$2=1,IF(VLOOKUP(\"x\",Turma!$B$4:$G$53,3,0)=\"Menina\",tblMLS2!U24,tblMLS2!U192),\"\")","v":""}]
[84,7,{"$f":"IF(Turma!A$2=1,IF(VLOOKUP(\"x\",Turma!$B$4:$G$53,3,0)=\"Menina\",tblMLS2!K25,tblMLS2!K193),\"\")","v":""},{"$f":"IF(Turma!A$2=1,IF(VLOOKUP(\"x\",Turma!$B$4:$G$53,3,0)=\"Menina\",tblMLS2!M25,tblMLS2!M193),\"\")","v":""},{"$f":"IF(Turma!A$2=1,IF(VLOOKUP(\"x\",Turma!$B$4:$G$53,3,0)=\"Menina\",tblMLS2!O25,tblMLS2!O193),\"\")","v":""},{"$f":"IF(Turma!A$2=1,IF(VLOOKUP(\"x\",Turma!$B$4:$G$53,3,0)=\"Menina\",tblMLS2!P25,tblMLS2!P193),\"\")","v":""},{"$f":"IF(Turma!A$2=1,IF(VLOOKUP(\"x\",Turma!$B$4:$G$53,3,0)=\"Menina\",tblMLS2!Q25,tblMLS2!Q193),\"\")","v":""},{"$f":"IF(Turma!A$2=1,IF(VLOOKUP(\"x\",Turma!$B$4:$G$53,3,0)=\"Menina\",tblMLS2!S25,tblMLS2!S193),\"\")","v":""},{"$f":"IF(Turma!A$2=1,IF(VLOOKUP(\"x\",Turma!$B$4:$G$53,3,0)=\"Menina\",tblMLS2!U25,tblMLS2!U193),\"\")","v":""}]
[85,"",{"$f":"IF(Turma!A$2=1,IF(VLOOKUP(\"x\",Turma!$B$4:$G$53,3,0)=\"Menina\",tblMLS2!K26,tblMLS2!K194),\"\")","v":""},{"$f":"IF(Turma!A$2=1,IF(VLOOKUP(\"x\",Turma!$B$4:$G$53,3,0)=\"Menina\",tblMLS2!M26,tblMLS2!M194),\"\")","v":""},{"$f":"IF(Turma!A$2=1,IF(VLOOKUP(\"x\",Turma!$B$4:$G$53,3,0)=\"Menina\",tblMLS2!O26,tblMLS2!O194),\"\")","v":""},{"$f":"IF(Turma!A$2=1,IF(VLOOKUP(\"x\",Turma!$B$4:$G$53,3,0)=\"Menina\",tblMLS2!P26,tblMLS2!P194),\"\")","v":""},{"$f":"IF(Turma!A$2=1,IF(VLOOKUP(\"x\",Turma!$B$4:$G$53,3,0)=\"Menina\",tblMLS2!Q26,tblMLS2!Q194),\"\")","v":""},{"$f":"IF(Turma!A$2=1,IF(VLOOKUP(\"x\",Turma!$B$4:$G$53,3,0)=\"Menina\",tblMLS2!S26,tblMLS2!S194),\"\")","v":""},{"$f":"IF(Turma!A$2=1,IF(VLOOKUP(\"x\",Turma!$B$4:$G$53,3,0)=\"Menina\",tblMLS2!U26,tblMLS2!U194),\"\")","v":""}]
[86,"",{"$f":"IF(Turma!A$2=1,IF(VLOOKUP(\"x\",Turma!$B$4:$G$53,3,0)=\"Menina\",tblMLS2!K27,tblMLS2!K195),\"\")","v":""},{"$f":"IF(Turma!A$2=1,IF(VLOOKUP(\"x\",Turma!$B$4:$G$53,3,0)=\"Menina\",tblMLS2!M27,tblMLS2!M195),\"\")","v":""},{"$f":"IF(Turma!A$2=1,IF(VLOOKUP(\"x\",Turma!$B$4:$G$53,3,0)=\"Menina\",tblMLS2!O27,tblMLS2!O195),\"\")","v":""},{"$f":"IF(Turma!A$2=1,IF(VLOOKUP(\"x\",Turma!$B$4:$G$53,3,0)=\"Menina\",tblMLS2!P27,tblMLS2!P195),\"\")","v":""},{"$f":"IF(Turma!A$2=1,IF(VLOOKUP(\"x\",Turma!$B$4:$G$53,3,0)=\"Menina\",tblMLS2!Q27,tblMLS2!Q195),\"\")","v":""},{"$f":"IF(Turma!A$2=1,IF(VLOOKUP(\"x\",Turma!$B$4:$G$53,3,0)=\"Menina\",tblMLS2!S27,tblMLS2!S195),\"\")","v":""},{"$f":"IF(Turma!A$2=1,IF(VLOOKUP(\"x\",Turma!$B$4:$G$53,3,0)=\"Menina\",tblMLS2!U27,tblMLS2!U195),\"\")","v":""}]
[87,"",{"$f":"IF(Turma!A$2=1,IF(VLOOKUP(\"x\",Turma!$B$4:$G$53,3,0)=\"Menina\",tblMLS2!K28,tblMLS2!K196),\"\")","v":""},{"$f":"IF(Turma!A$2=1,IF(VLOOKUP(\"x\",Turma!$B$4:$G$53,3,0)=\"Menina\",tblMLS2!M28,tblMLS2!M196),\"\")","v":""},{"$f":"IF(Turma!A$2=1,IF(VLOOKUP(\"x\",Turma!$B$4:$G$53,3,0)=\"Menina\",tblMLS2!O28,tblMLS2!O196),\"\")","v":""},{"$f":"IF(Turma!A$2=1,IF(VLOOKUP(\"x\",Turma!$B$4:$G$53,3,0)=\"Menina\",tblMLS2!P28,tblMLS2!P196),\"\")","v":""},{"$f":"IF(Turma!A$2=1,IF(VLOOKUP(\"x\",Turma!$B$4:$G$53,3,0)=\"Menina\",tblMLS2!Q28,tblMLS2!Q196),\"\")","v":""},{"$f":"IF(Turma!A$2=1,IF(VLOOKUP(\"x\",Turma!$B$4:$G$53,3,0)=\"Menina\",tblMLS2!S28,tblMLS2!S196),\"\")","v":""},{"$f":"IF(Turma!A$2=1,IF(VLOOKUP(\"x\",Turma!$B$4:$G$53,3,0)=\"Menina\",tblMLS2!U28,tblMLS2!U196),\"\")","v":""}]
[88,"",{"$f":"IF(Turma!A$2=1,IF(VLOOKUP(\"x\",Turma!$B$4:$G$53,3,0)=\"Menina\",tblMLS2!K29,tblMLS2!K197),\"\")","v":""},{"$f":"IF(Turma!A$2=1,IF(VLOOKUP(\"x\",Turma!$B$4:$G$53,3,0)=\"Menina\",tblMLS2!M29,tblMLS2!M197),\"\")","v":""},{"$f":"IF(Turma!A$2=1,IF(VLOOKUP(\"x\",Turma!$B$4:$G$53,3,0)=\"Menina\",tblMLS2!O29,tblMLS2!O197),\"\")","v":""},{"$f":"IF(Turma!A$2=1,IF(VLOOKUP(\"x\",Turma!$B$4:$G$53,3,0)=\"Menina\",tblMLS2!P29,tblMLS2!P197),\"\")","v":""},{"$f":"IF(Turma!A$2=1,IF(VLOOKUP(\"x\",Turma!$B$4:$G$53,3,0)=\"Menina\",tblMLS2!Q29,tblMLS2!Q197),\"\")","v":""},{"$f":"IF(Turma!A$2=1,IF(VLOOKUP(\"x\",Turma!$B$4:$G$53,3,0)=\"Menina\",tblMLS2!S29,tblMLS2!S197),\"\")","v":""},{"$f":"IF(Turma!A$2=1,IF(VLOOKUP(\"x\",Turma!$B$4:$G$53,3,0)=\"Menina\",tblMLS2!U29,tblMLS2!U197),\"\")","v":""}]
[89,"",{"$f":"IF(Turma!A$2=1,IF(VLOOKUP(\"x\",Turma!$B$4:$G$53,3,0)=\"Menina\",tblMLS2!K30,tblMLS2!K198),\"\")","v":""},{"$f":"IF(Turma!A$2=1,IF(VLOOKUP(\"x\",Turma!$B$4:$G$53,3,0)=\"Menina\",tblMLS2!M30,tblMLS2!M198),\"\")","v":""},{"$f":"IF(Turma!A$2=1,IF(VLOOKUP(\"x\",Turma!$B$4:$G$53,3,0)=\"Menina\",tblMLS2!O30,tblMLS2!O198),\"\")","v":""},{"$f":"IF(Turma!A$2=1,IF(VLOOKUP(\"x\",Turma!$B$4:$G$53,3,0)=\"Menina\",tblMLS2!P30,tblMLS2!P198),\"\")","v":""},{"$f":"IF(Turma!A$2=1,IF(VLOOKUP(\"x\",Turma!$B$4:$G$53,3,0)=\"Menina\",tblMLS2!Q30,tblMLS2!Q198),\"\")","v":""},{"$f":"IF(Turma!A$2=1,IF(VLOOKUP(\"x\",Turma!$B$4:$G$53,3,0)=\"Menina\",tblMLS2!S30,tblMLS2!S198),\"\")","v":""},{"$f":"IF(Turma!A$2=1,IF(VLOOKUP(\"x\",Turma!$B$4:$G$53,3,0)=\"Menina\",tblMLS2!U30,tblMLS2!U198),\"\")","v":""}]
[90,"",{"$f":"IF(Turma!A$2=1,IF(VLOOKUP(\"x\",Turma!$B$4:$G$53,3,0)=\"Menina\",tblMLS2!K31,tblMLS2!K199),\"\")","v":""},{"$f":"IF(Turma!A$2=1,IF(VLOOKUP(\"x\",Turma!$B$4:$G$53,3,0)=\"Menina\",tblMLS2!M31,tblMLS2!M199),\"\")","v":""},{"$f":"IF(Turma!A$2=1,IF(VLOOKUP(\"x\",Turma!$B$4:$G$53,3,0)=\"Menina\",tblMLS2!O31,tblMLS2!O199),\"\")","v":""},{"$f":"IF(Turma!A$2=1,IF(VLOOKUP(\"x\",Turma!$B$4:$G$53,3,0)=\"Menina\",tblMLS2!P31,tblMLS2!P199),\"\")","v":""},{"$f":"IF(Turma!A$2=1,IF(VLOOKUP(\"x\",Turma!$B$4:$G$53,3,0)=\"Menina\",tblMLS2!Q31,tblMLS2!Q199),\"\")","v":""},{"$f":"IF(Turma!A$2=1,IF(VLOOKUP(\"x\",Turma!$B$4:$G$53,3,0)=\"Menina\",tblMLS2!S31,tblMLS2!S199),\"\")","v":""},{"$f":"IF(Turma!A$2=1,IF(VLOOKUP(\"x\",Turma!$B$4:$G$53,3,0)=\"Menina\",tblMLS2!U31,tblMLS2!U199),\"\")","v":""}]
[91,"",{"$f":"IF(Turma!A$2=1,IF(VLOOKUP(\"x\",Turma!$B$4:$G$53,3,0)=\"Menina\",tblMLS2!K32,tblMLS2!K200),\"\")","v":""},{"$f":"IF(Turma!A$2=1,IF(VLOOKUP(\"x\",Turma!$B$4:$G$53,3,0)=\"Menina\",tblMLS2!M32,tblMLS2!M200),\"\")","v":""},{"$f":"IF(Turma!A$2=1,IF(VLOOKUP(\"x\",Turma!$B$4:$G$53,3,0)=\"Menina\",tblMLS2!O32,tblMLS2!O200),\"\")","v":""},{"$f":"IF(Turma!A$2=1,IF(VLOOKUP(\"x\",Turma!$B$4:$G$53,3,0)=\"Menina\",tblMLS2!P32,tblMLS2!P200),\"\")","v":""},{"$f":"IF(Turma!A$2=1,IF(VLOOKUP(\"x\",Turma!$B$4:$G$53,3,0)=\"Menina\",tblMLS2!Q32,tblMLS2!Q200),\"\")","v":""},{"$f":"IF(Turma!A$2=1,IF(VLOOKUP(\"x\",Turma!$B$4:$G$53,3,0)=\"Menina\",tblMLS2!S32,tblMLS2!S200),\"\")","v":""},{"$f":"IF(Turma!A$2=1,IF(VLOOKUP(\"x\",Turma!$B$4:$G$53,3,0)=\"Menina\",tblMLS2!U32,tblMLS2!U200),\"\")","v":""}]
[92,"",{"$f":"IF(Turma!A$2=1,IF(VLOOKUP(\"x\",Turma!$B$4:$G$53,3,0)=\"Menina\",tblMLS2!K33,tblMLS2!K201),\"\")","v":""},{"$f":"IF(Turma!A$2=1,IF(VLOOKUP(\"x\",Turma!$B$4:$G$53,3,0)=\"Menina\",tblMLS2!M33,tblMLS2!M201),\"\")","v":""},{"$f":"IF(Turma!A$2=1,IF(VLOOKUP(\"x\",Turma!$B$4:$G$53,3,0)=\"Menina\",tblMLS2!O33,tblMLS2!O201),\"\")","v":""},{"$f":"IF(Turma!A$2=1,IF(VLOOKUP(\"x\",Turma!$B$4:$G$53,3,0)=\"Menina\",tblMLS2!P33,tblMLS2!P201),\"\")","v":""},{"$f":"IF(Turma!A$2=1,IF(VLOOKUP(\"x\",Turma!$B$4:$G$53,3,0)=\"Menina\",tblMLS2!Q33,tblMLS2!Q201),\"\")","v":""},{"$f":"IF(Turma!A$2=1,IF(VLOOKUP(\"x\",Turma!$B$4:$G$53,3,0)=\"Menina\",tblMLS2!S33,tblMLS2!S201),\"\")","v":""},{"$f":"IF(Turma!A$2=1,IF(VLOOKUP(\"x\",Turma!$B$4:$G$53,3,0)=\"Menina\",tblMLS2!U33,tblMLS2!U201),\"\")","v":""}]
[93,"",{"$f":"IF(Turma!A$2=1,IF(VLOOKUP(\"x\",Turma!$B$4:$G$53,3,0)=\"Menina\",tblMLS2!K34,tblMLS2!K202),\"\")","v":""},{"$f":"IF(Turma!A$2=1,IF(VLOOKUP(\"x\",Turma!$B$4:$G$53,3,0)=\"Menina\",tblMLS2!M34,tblMLS2!M202),\"\")","v":""},{"$f":"IF(Turma!A$2=1,IF(VLOOKUP(\"x\",Turma!$B$4:$G$53,3,0)=\"Menina\",tblMLS2!O34,tblMLS2!O202),\"\")","v":""},{"$f":"IF(Turma!A$2=1,IF(VLOOKUP(\"x\",Turma!$B$4:$G$53,3,0)=\"Menina\",tblMLS2!P34,tblMLS2!P202),\"\")","v":""},{"$f":"IF(Turma!A$2=1,IF(VLOOKUP(\"x\",Turma!$B$4:$G$53,3,0)=\"Menina\",tblMLS2!Q34,tblMLS2!Q202),\"\")","v":""},{"$f":"IF(Turma!A$2=1,IF(VLOOKUP(\"x\",Turma!$B$4:$G$53,3,0)=\"Menina\",tblMLS2!S34,tblMLS2!S202),\"\")","v":""},{"$f":"IF(Turma!A$2=1,IF(VLOOKUP(\"x\",Turma!$B$4:$G$53,3,0)=\"Menina\",tblMLS2!U34,tblMLS2!U202),\"\")","v":""}]
[94,"",{"$f":"IF(Turma!A$2=1,IF(VLOOKUP(\"x\",Turma!$B$4:$G$53,3,0)=\"Menina\",tblMLS2!K35,tblMLS2!K203),\"\")","v":""},{"$f":"IF(Turma!A$2=1,IF(VLOOKUP(\"x\",Turma!$B$4:$G$53,3,0)=\"Menina\",tblMLS2!M35,tblMLS2!M203),\"\")","v":""},{"$f":"IF(Turma!A$2=1,IF(VLOOKUP(\"x\",Turma!$B$4:$G$53,3,0)=\"Menina\",tblMLS2!O35,tblMLS2!O203),\"\")","v":""},{"$f":"IF(Turma!A$2=1,IF(VLOOKUP(\"x\",Turma!$B$4:$G$53,3,0)=\"Menina\",tblMLS2!P35,tblMLS2!P203),\"\")","v":""},{"$f":"IF(Turma!A$2=1,IF(VLOOKUP(\"x\",Turma!$B$4:$G$53,3,0)=\"Menina\",tblMLS2!Q35,tblMLS2!Q203),\"\")","v":""},{"$f":"IF(Turma!A$2=1,IF(VLOOKUP(\"x\",Turma!$B$4:$G$53,3,0)=\"Menina\",tblMLS2!S35,tblMLS2!S203),\"\")","v":""},{"$f":"IF(Turma!A$2=1,IF(VLOOKUP(\"x\",Turma!$B$4:$G$53,3,0)=\"Menina\",tblMLS2!U35,tblMLS2!U203),\"\")","v":""}]
[95,"",{"$f":"IF(Turma!A$2=1,IF(VLOOKUP(\"x\",Turma!$B$4:$G$53,3,0)=\"Menina\",tblMLS2!K36,tblMLS2!K204),\"\")","v":""},{"$f":"IF(Turma!A$2=1,IF(VLOOKUP(\"x\",Turma!$B$4:$G$53,3,0)=\"Menina\",tblMLS2!M36,tblMLS2!M204),\"\")","v":""},{"$f":"IF(Turma!A$2=1,IF(VLOOKUP(\"x\",Turma!$B$4:$G$53,3,0)=\"Menina\",tblMLS2!O36,tblMLS2!O204),\"\")","v":""},{"$f":"IF(Turma!A$2=1,IF(VLOOKUP(\"x\",Turma!$B$4:$G$53,3,0)=\"Menina\",tblMLS2!P36,tblMLS2!P204),\"\")","v":""},{"$f":"IF(Turma!A$2=1,IF(VLOOKUP(\"x\",Turma!$B$4:$G$53,3,0)=\"Menina\",tblMLS2!Q36,tblMLS2!Q204),\"\")","v":""},{"$f":"IF(Turma!A$2=1,IF(VLOOKUP(\"x\",Turma!$B$4:$G$53,3,0)=\"Menina\",tblMLS2!S36,tblMLS2!S204),\"\")","v":""},{"$f":"IF(Turma!A$2=1,IF(VLOOKUP(\"x\",Turma!$B$4:$G$53,3,0)=\"Menina\",tblMLS2!U36,tblMLS2!U204),\"\")","v":""}]
[96,8,{"$f":"IF(Turma!A$2=1,IF(VLOOKUP(\"x\",Turma!$B$4:$G$53,3,0)=\"Menina\",tblMLS2!K37,tblMLS2!K205),\"\")","v":""},{"$f":"IF(Turma!A$2=1,IF(VLOOKUP(\"x\",Turma!$B$4:$G$53,3,0)=\"Menina\",tblMLS2!M37,tblMLS2!M205),\"\")","v":""},{"$f":"IF(Turma!A$2=1,IF(VLOOKUP(\"x\",Turma!$B$4:$G$53,3,0)=\"Menina\",tblMLS2!O37,tblMLS2!O205),\"\")","v":""},{"$f":"IF(Turma!A$2=1,IF(VLOOKUP(\"x\",Turma!$B$4:$G$53,3,0)=\"Menina\",tblMLS2!P37,tblMLS2!P205),\"\")","v":""},{"$f":"IF(Turma!A$2=1,IF(VLOOKUP(\"x\",Turma!$B$4:$G$53,3,0)=\"Menina\",tblMLS2!Q37,tblMLS2!Q205),\"\")","v":""},{"$f":"IF(Turma!A$2=1,IF(VLOOKUP(\"x\",Turma!$B$4:$G$53,3,0)=\"Menina\",tblMLS2!S37,tblMLS2!S205),\"\")","v":""},{"$f":"IF(Turma!A$2=1,IF(VLOOKUP(\"x\",Turma!$B$4:$G$53,3,0)=\"Menina\",tblMLS2!U37,tblMLS2!U205),\"\")","v":""}]
[97,"",{"$f":"IF(Turma!A$2=1,IF(VLOOKUP(\"x\",Turma!$B$4:$G$53,3,0)=\"Menina\",tblMLS2!K38,tblMLS2!K206),\"\")","v":""},{"$f":"IF(Turma!A$2=1,IF(VLOOKUP(\"x\",Turma!$B$4:$G$53,3,0)=\"Menina\",tblMLS2!M38,tblMLS2!M206),\"\")","v":""},{"$f":"IF(Turma!A$2=1,IF(VLOOKUP(\"x\",Turma!$B$4:$G$53,3,0)=\"Menina\",tblMLS2!O38,tblMLS2!O206),\"\")","v":""},{"$f":"IF(Turma!A$2=1,IF(VLOOKUP(\"x\",Turma!$B$4:$G$53,3,0)=\"Menina\",tblMLS2!P38,tblMLS2!P206),\"\")","v":""},{"$f":"IF(Turma!A$2=1,IF(VLOOKUP(\"x\",Turma!$B$4:$G$53,3,0)=\"Menina\",tblMLS2!Q38,tblMLS2!Q206),\"\")","v":""},{"$f":"IF(Turma!A$2=1,IF(VLOOKUP(\"x\",Turma!$B$4:$G$53,3,0)=\"Menina\",tblMLS2!S38,tblMLS2!S206),\"\")","v":""},{"$f":"IF(Turma!A$2=1,IF(VLOOKUP(\"x\",Turma!$B$4:$G$53,3,0)=\"Menina\",tblMLS2!U38,tblMLS2!U206),\"\")","v":""}]
[98,"",{"$f":"IF(Turma!A$2=1,IF(VLOOKUP(\"x\",Turma!$B$4:$G$53,3,0)=\"Menina\",tblMLS2!K39,tblMLS2!K207),\"\")","v":""},{"$f":"IF(Turma!A$2=1,IF(VLOOKUP(\"x\",Turma!$B$4:$G$53,3,0)=\"Menina\",tblMLS2!M39,tblMLS2!M207),\"\")","v":""},{"$f":"IF(Turma!A$2=1,IF(VLOOKUP(\"x\",Turma!$B$4:$G$53,3,0)=\"Menina\",tblMLS2!O39,tblMLS2!O207),\"\")","v":""},{"$f":"IF(Turma!A$2=1,IF(VLOOKUP(\"x\",Turma!$B$4:$G$53,3,0)=\"Menina\",tblMLS2!P39,tblMLS2!P207),\"\")","v":""},{"$f":"IF(Turma!A$2=1,IF(VLOOKUP(\"x\",Turma!$B$4:$G$53,3,0)=\"Menina\",tblMLS2!Q39,tblMLS2!Q207),\"\")","v":""},{"$f":"IF(Turma!A$2=1,IF(VLOOKUP(\"x\",Turma!$B$4:$G$53,3,0)=\"Menina\",tblMLS2!S39,tblMLS2!S207),\"\")","v":""},{"$f":"IF(Turma!A$2=1,IF(VLOOKUP(\"x\",Turma!$B$4:$G$53,3,0)=\"Menina\",tblMLS2!U39,tblMLS2!U207),\"\")","v":""}]
[99,"",{"$f":"IF(Turma!A$2=1,IF(VLOOKUP(\"x\",Turma!$B$4:$G$53,3,0)=\"Menina\",tblMLS2!K40,tblMLS2!K208),\"\")","v":""},{"$f":"IF(Turma!A$2=1,IF(VLOOKUP(\"x\",Turma!$B$4:$G$53,3,0)=\"Menina\",tblMLS2!M40,tblMLS2!M208),\"\")","v":""},{"$f":"IF(Turma!A$2=1,IF(VLOOKUP(\"x\",Turma!$B$4:$G$53,3,0)=\"Menina\",tblMLS2!O40,tblMLS2!O208),\"\")","v":""},{"$f":"IF(Turma!A$2=1,IF(VLOOKUP(\"x\",Turma!$B$4:$G$53,3,0)=\"Menina\",tblMLS2!P40,tblMLS2!P208),\"\")","v":""},{"$f":"IF(Turma!A$2=1,IF(VLOOKUP(\"x\",Turma!$B$4:$G$53,3,0)=\"Menina\",tblMLS2!Q40,tblMLS2!Q208),\"\")","v":""},{"$f":"IF(Turma!A$2=1,IF(VLOOKUP(\"x\",Turma!$B$4:$G$53,3,0)=\"Menina\",tblMLS2!S40,tblMLS2!S208),\"\")","v":""},{"$f":"IF(Turma!A$2=1,IF(VLOOKUP(\"x\",Turma!$B$4:$G$53,3,0)=\"Menina\",tblMLS2!U40,tblMLS2!U208),\"\")","v":""}]
[100,"",{"$f":"IF(Turma!A$2=1,IF(VLOOKUP(\"x\",Turma!$B$4:$G$53,3,0)=\"Menina\",tblMLS2!K41,tblMLS2!K209),\"\")","v":""},{"$f":"IF(Turma!A$2=1,IF(VLOOKUP(\"x\",Turma!$B$4:$G$53,3,0)=\"Menina\",tblMLS2!M41,tblMLS2!M209),\"\")","v":""},{"$f":"IF(Turma!A$2=1,IF(VLOOKUP(\"x\",Turma!$B$4:$G$53,3,0)=\"Menina\",tblMLS2!O41,tblMLS2!O209),\"\")","v":""},{"$f":"IF(Turma!A$2=1,IF(VLOOKUP(\"x\",Turma!$B$4:$G$53,3,0)=\"Menina\",tblMLS2!P41,tblMLS2!P209),\"\")","v":""},{"$f":"IF(Turma!A$2=1,IF(VLOOKUP(\"x\",Turma!$B$4:$G$53,3,0)=\"Menina\",tblMLS2!Q41,tblMLS2!Q209),\"\")","v":""},{"$f":"IF(Turma!A$2=1,IF(VLOOKUP(\"x\",Turma!$B$4:$G$53,3,0)=\"Menina\",tblMLS2!S41,tblMLS2!S209),\"\")","v":""},{"$f":"IF(Turma!A$2=1,IF(VLOOKUP(\"x\",Turma!$B$4:$G$53,3,0)=\"Menina\",tblMLS2!U41,tblMLS2!U209),\"\")","v":""}]
[101,"",{"$f":"IF(Turma!A$2=1,IF(VLOOKUP(\"x\",Turma!$B$4:$G$53,3,0)=\"Menina\",tblMLS2!K42,tblMLS2!K210),\"\")","v":""},{"$f":"IF(Turma!A$2=1,IF(VLOOKUP(\"x\",Turma!$B$4:$G$53,3,0)=\"Menina\",tblMLS2!M42,tblMLS2!M210),\"\")","v":""},{"$f":"IF(Turma!A$2=1,IF(VLOOKUP(\"x\",Turma!$B$4:$G$53,3,0)=\"Menina\",tblMLS2!O42,tblMLS2!O210),\"\")","v":""},{"$f":"IF(Turma!A$2=1,IF(VLOOKUP(\"x\",Turma!$B$4:$G$53,3,0)=\"Menina\",tblMLS2!P42,tblMLS2!P210),\"\")","v":""},{"$f":"IF(Turma!A$2=1,IF(VLOOKUP(\"x\",Turma!$B$4:$G$53,3,0)=\"Menina\",tblMLS2!Q42,tblMLS2!Q210),\"\")","v":""},{"$f":"IF(Turma!A$2=1,IF(VLOOKUP(\"x\",Turma!$B$4:$G$53,3,0)=\"Menina\",tblMLS2!S42,tblMLS2!S210),\"\")","v":""},{"$f":"IF(Turma!A$2=1,IF(VLOOKUP(\"x\",Turma!$B$4:$G$53,3,0)=\"Menina\",tblMLS2!U42,tblMLS2!U210),\"\")","v":""}]
[102,"",{"$f":"IF(Turma!A$2=1,IF(VLOOKUP(\"x\",Turma!$B$4:$G$53,3,0)=\"Menina\",tblMLS2!K43,tblMLS2!K211),\"\")","v":""},{"$f":"IF(Turma!A$2=1,IF(VLOOKUP(\"x\",Turma!$B$4:$G$53,3,0)=\"Menina\",tblMLS2!M43,tblMLS2!M211),\"\")","v":""},{"$f":"IF(Turma!A$2=1,IF(VLOOKUP(\"x\",Turma!$B$4:$G$53,3,0)=\"Menina\",tblMLS2!O43,tblMLS2!O211),\"\")","v":""},{"$f":"IF(Turma!A$2=1,IF(VLOOKUP(\"x\",Turma!$B$4:$G$53,3,0)=\"Menina\",tblMLS2!P43,tblMLS2!P211),\"\")","v":""},{"$f":"IF(Turma!A$2=1,IF(VLOOKUP(\"x\",Turma!$B$4:$G$53,3,0)=\"Menina\",tblMLS2!Q43,tblMLS2!Q211),\"\")","v":""},{"$f":"IF(Turma!A$2=1,IF(VLOOKUP(\"x\",Turma!$B$4:$G$53,3,0)=\"Menina\",tblMLS2!S43,tblMLS2!S211),\"\")","v":""},{"$f":"IF(Turma!A$2=1,IF(VLOOKUP(\"x\",Turma!$B$4:$G$53,3,0)=\"Menina\",tblMLS2!U43,tblMLS2!U211),\"\")","v":""}]
[103,"",{"$f":"IF(Turma!A$2=1,IF(VLOOKUP(\"x\",Turma!$B$4:$G$53,3,0)=\"Menina\",tblMLS2!K44,tblMLS2!K212),\"\")","v":""},{"$f":"IF(Turma!A$2=1,IF(VLOOKUP(\"x\",Turma!$B$4:$G$53,3,0)=\"Menina\",tblMLS2!M44,tblMLS2!M212),\"\")","v":""},{"$f":"IF(Turma!A$2=1,IF(VLOOKUP(\"x\",Turma!$B$4:$G$53,3,0)=\"Menina\",tblMLS2!O44,tblMLS2!O212),\"\")","v":""},{"$f":"IF(Turma!A$2=1,IF(VLOOKUP(\"x\",Turma!$B$4:$G$53,3,0)=\"Menina\",tblMLS2!P44,tblMLS2!P212),\"\")","v":""},{"$f":"IF(Turma!A$2=1,IF(VLOOKUP(\"x\",Turma!$B$4:$G$53,3,0)=\"Menina\",tblMLS2!Q44,tblMLS2!Q212),\"\")","v":""},{"$f":"IF(Turma!A$2=1,IF(VLOOKUP(\"x\",Turma!$B$4:$G$53,3,0)=\"Menina\",tblMLS2!S44,tblMLS2!S212),\"\")","v":""},{"$f":"IF(Turma!A$2=1,IF(VLOOKUP(\"x\",Turma!$B$4:$G$53,3,0)=\"Menina\",tblMLS2!U44,tblMLS2!U212),\"\")","v":""}]
[104,"",{"$f":"IF(Turma!A$2=1,IF(VLOOKUP(\"x\",Turma!$B$4:$G$53,3,0)=\"Menina\",tblMLS2!K45,tblMLS2!K213),\"\")","v":""},{"$f":"IF(Turma!A$2=1,IF(VLOOKUP(\"x\",Turma!$B$4:$G$53,3,0)=\"Menina\",tblMLS2!M45,tblMLS2!M213),\"\")","v":""},{"$f":"IF(Turma!A$2=1,IF(VLOOKUP(\"x\",Turma!$B$4:$G$53,3,0)=\"Menina\",tblMLS2!O45,tblMLS2!O213),\"\")","v":""},{"$f":"IF(Turma!A$2=1,IF(VLOOKUP(\"x\",Turma!$B$4:$G$53,3,0)=\"Menina\",tblMLS2!P45,tblMLS2!P213),\"\")","v":""},{"$f":"IF(Turma!A$2=1,IF(VLOOKUP(\"x\",Turma!$B$4:$G$53,3,0)=\"Menina\",tblMLS2!Q45,tblMLS2!Q213),\"\")","v":""},{"$f":"IF(Turma!A$2=1,IF(VLOOKUP(\"x\",Turma!$B$4:$G$53,3,0)=\"Menina\",tblMLS2!S45,tblMLS2!S213),\"\")","v":""},{"$f":"IF(Turma!A$2=1,IF(VLOOKUP(\"x\",Turma!$B$4:$G$53,3,0)=\"Menina\",tblMLS2!U45,tblMLS2!U213),\"\")","v":""}]
[105,"",{"$f":"IF(Turma!A$2=1,IF(VLOOKUP(\"x\",Turma!$B$4:$G$53,3,0)=\"Menina\",tblMLS2!K46,tblMLS2!K214),\"\")","v":""},{"$f":"IF(Turma!A$2=1,IF(VLOOKUP(\"x\",Turma!$B$4:$G$53,3,0)=\"Menina\",tblMLS2!M46,tblMLS2!M214),\"\")","v":""},{"$f":"IF(Turma!A$2=1,IF(VLOOKUP(\"x\",Turma!$B$4:$G$53,3,0)=\"Menina\",tblMLS2!O46,tblMLS2!O214),\"\")","v":""},{"$f":"IF(Turma!A$2=1,IF(VLOOKUP(\"x\",Turma!$B$4:$G$53,3,0)=\"Menina\",tblMLS2!P46,tblMLS2!P214),\"\")","v":""},{"$f":"IF(Turma!A$2=1,IF(VLOOKUP(\"x\",Turma!$B$4:$G$53,3,0)=\"Menina\",tblMLS2!Q46,tblMLS2!Q214),\"\")","v":""},{"$f":"IF(Turma!A$2=1,IF(VLOOKUP(\"x\",Turma!$B$4:$G$53,3,0)=\"Menina\",tblMLS2!S46,tblMLS2!S214),\"\")","v":""},{"$f":"IF(Turma!A$2=1,IF(VLOOKUP(\"x\",Turma!$B$4:$G$53,3,0)=\"Menina\",tblMLS2!U46,tblMLS2!U214),\"\")","v":""}]
[106,"",{"$f":"IF(Turma!A$2=1,IF(VLOOKUP(\"x\",Turma!$B$4:$G$53,3,0)=\"Menina\",tblMLS2!K47,tblMLS2!K215),\"\")","v":""},{"$f":"IF(Turma!A$2=1,IF(VLOOKUP(\"x\",Turma!$B$4:$G$53,3,0)=\"Menina\",tblMLS2!M47,tblMLS2!M215),\"\")","v":""},{"$f":"IF(Turma!A$2=1,IF(VLOOKUP(\"x\",Turma!$B$4:$G$53,3,0)=\"Menina\",tblMLS2!O47,tblMLS2!O215),\"\")","v":""},{"$f":"IF(Turma!A$2=1,IF(VLOOKUP(\"x\",Turma!$B$4:$G$53,3,0)=\"Menina\",tblMLS2!P47,tblMLS2!P215),\"\")","v":""},{"$f":"IF(Turma!A$2=1,IF(VLOOKUP(\"x\",Turma!$B$4:$G$53,3,0)=\"Menina\",tblMLS2!Q47,tblMLS2!Q215),\"\")","v":""},{"$f":"IF(Turma!A$2=1,IF(VLOOKUP(\"x\",Turma!$B$4:$G$53,3,0)=\"Menina\",tblMLS2!S47,tblMLS2!S215),\"\")","v":""},{"$f":"IF(Turma!A$2=1,IF(VLOOKUP(\"x\",Turma!$B$4:$G$53,3,0)=\"Menina\",tblMLS2!U47,tblMLS2!U215),\"\")","v":""}]
[107,"",{"$f":"IF(Turma!A$2=1,IF(VLOOKUP(\"x\",Turma!$B$4:$G$53,3,0)=\"Menina\",tblMLS2!K48,tblMLS2!K216),\"\")","v":""},{"$f":"IF(Turma!A$2=1,IF(VLOOKUP(\"x\",Turma!$B$4:$G$53,3,0)=\"Menina\",tblMLS2!M48,tblMLS2!M216),\"\")","v":""},{"$f":"IF(Turma!A$2=1,IF(VLOOKUP(\"x\",Turma!$B$4:$G$53,3,0)=\"Menina\",tblMLS2!O48,tblMLS2!O216),\"\")","v":""},{"$f":"IF(Turma!A$2=1,IF(VLOOKUP(\"x\",Turma!$B$4:$G$53,3,0)=\"Menina\",tblMLS2!P48,tblMLS2!P216),\"\")","v":""},{"$f":"IF(Turma!A$2=1,IF(VLOOKUP(\"x\",Turma!$B$4:$G$53,3,0)=\"Menina\",tblMLS2!Q48,tblMLS2!Q216),\"\")","v":""},{"$f":"IF(Turma!A$2=1,IF(VLOOKUP(\"x\",Turma!$B$4:$G$53,3,0)=\"Menina\",tblMLS2!S48,tblMLS2!S216),\"\")","v":""},{"$f":"IF(Turma!A$2=1,IF(VLOOKUP(\"x\",Turma!$B$4:$G$53,3,0)=\"Menina\",tblMLS2!U48,tblMLS2!U216),\"\")","v":""}]
[108,9,{"$f":"IF(Turma!A$2=1,IF(VLOOKUP(\"x\",Turma!$B$4:$G$53,3,0)=\"Menina\",tblMLS2!K49,tblMLS2!K217),\"\")","v":""},{"$f":"IF(Turma!A$2=1,IF(VLOOKUP(\"x\",Turma!$B$4:$G$53,3,0)=\"Menina\",tblMLS2!M49,tblMLS2!M217),\"\")","v":""},{"$f":"IF(Turma!A$2=1,IF(VLOOKUP(\"x\",Turma!$B$4:$G$53,3,0)=\"Menina\",tblMLS2!O49,tblMLS2!O217),\"\")","v":""},{"$f":"IF(Turma!A$2=1,IF(VLOOKUP(\"x\",Turma!$B$4:$G$53,3,0)=\"Menina\",tblMLS2!P49,tblMLS2!P217),\"\")","v":""},{"$f":"IF(Turma!A$2=1,IF(VLOOKUP(\"x\",Turma!$B$4:$G$53,3,0)=\"Menina\",tblMLS2!Q49,tblMLS2!Q217),\"\")","v":""},{"$f":"IF(Turma!A$2=1,IF(VLOOKUP(\"x\",Turma!$B$4:$G$53,3,0)=\"Menina\",tblMLS2!S49,tblMLS2!S217),\"\")","v":""},{"$f":"IF(Turma!A$2=1,IF(VLOOKUP(\"x\",Turma!$B$4:$G$53,3,0)=\"Menina\",tblMLS2!U49,tblMLS2!U217),\"\")","v":""}]
[109,"",{"$f":"IF(Turma!A$2=1,IF(VLOOKUP(\"x\",Turma!$B$4:$G$53,3,0)=\"Menina\",tblMLS2!K50,tblMLS2!K218),\"\")","v":""},{"$f":"IF(Turma!A$2=1,IF(VLOOKUP(\"x\",Turma!$B$4:$G$53,3,0)=\"Menina\",tblMLS2!M50,tblMLS2!M218),\"\")","v":""},{"$f":"IF(Turma!A$2=1,IF(VLOOKUP(\"x\",Turma!$B$4:$G$53,3,0)=\"Menina\",tblMLS2!O50,tblMLS2!O218),\"\")","v":""},{"$f":"IF(Turma!A$2=1,IF(VLOOKUP(\"x\",Turma!$B$4:$G$53,3,0)=\"Menina\",tblMLS2!P50,tblMLS2!P218),\"\")","v":""},{"$f":"IF(Turma!A$2=1,IF(VLOOKUP(\"x\",Turma!$B$4:$G$53,3,0)=\"Menina\",tblMLS2!Q50,tblMLS2!Q218),\"\")","v":""},{"$f":"IF(Turma!A$2=1,IF(VLOOKUP(\"x\",Turma!$B$4:$G$53,3,0)=\"Menina\",tblMLS2!S50,tblMLS2!S218),\"\")","v":""},{"$f":"IF(Turma!A$2=1,IF(VLOOKUP(\"x\",Turma!$B$4:$G$53,3,0)=\"Menina\",tblMLS2!U50,tblMLS2!U218),\"\")","v":""}]
[110,"",{"$f":"IF(Turma!A$2=1,IF(VLOOKUP(\"x\",Turma!$B$4:$G$53,3,0)=\"Menina\",tblMLS2!K51,tblMLS2!K219),\"\")","v":""},{"$f":"IF(Turma!A$2=1,IF(VLOOKUP(\"x\",Turma!$B$4:$G$53,3,0)=\"Menina\",tblMLS2!M51,tblMLS2!M219),\"\")","v":""},{"$f":"IF(Turma!A$2=1,IF(VLOOKUP(\"x\",Turma!$B$4:$G$53,3,0)=\"Menina\",tblMLS2!O51,tblMLS2!O219),\"\")","v":""},{"$f":"IF(Turma!A$2=1,IF(VLOOKUP(\"x\",Turma!$B$4:$G$53,3,0)=\"Menina\",tblMLS2!P51,tblMLS2!P219),\"\")","v":""},{"$f":"IF(Turma!A$2=1,IF(VLOOKUP(\"x\",Turma!$B$4:$G$53,3,0)=\"Menina\",tblMLS2!Q51,tblMLS2!Q219),\"\")","v":""},{"$f":"IF(Turma!A$2=1,IF(VLOOKUP(\"x\",Turma!$B$4:$G$53,3,0)=\"Menina\",tblMLS2!S51,tblMLS2!S219),\"\")","v":""},{"$f":"IF(Turma!A$2=1,IF(VLOOKUP(\"x\",Turma!$B$4:$G$53,3,0)=\"Menina\",tblMLS2!U51,tblMLS2!U219),\"\")","v":""}]
[111,"",{"$f":"IF(Turma!A$2=1,IF(VLOOKUP(\"x\",Turma!$B$4:$G$53,3,0)=\"Menina\",tblMLS2!K52,tblMLS2!K220),\"\")","v":""},{"$f":"IF(Turma!A$2=1,IF(VLOOKUP(\"x\",Turma!$B$4:$G$53,3,0)=\"Menina\",tblMLS2!M52,tblMLS2!M220),\"\")","v":""},{"$f":"IF(Turma!A$2=1,IF(VLOOKUP(\"x\",Turma!$B$4:$G$53,3,0)=\"Menina\",tblMLS2!O52,tblMLS2!O220),\"\")","v":""},{"$f":"IF(Turma!A$2=1,IF(VLOOKUP(\"x\",Turma!$B$4:$G$53,3,0)=\"Menina\",tblMLS2!P52,tblMLS2!P220),\"\")","v":""},{"$f":"IF(Turma!A$2=1,IF(VLOOKUP(\"x\",Turma!$B$4:$G$53,3,0)=\"Menina\",tblMLS2!Q52,tblMLS2!Q220),\"\")","v":""},{"$f":"IF(Turma!A$2=1,IF(VLOOKUP(\"x\",Turma!$B$4:$G$53,3,0)=\"Menina\",tblMLS2!S52,tblMLS2!S220),\"\")","v":""},{"$f":"IF(Turma!A$2=1,IF(VLOOKUP(\"x\",Turma!$B$4:$G$53,3,0)=\"Menina\",tblMLS2!U52,tblMLS2!U220),\"\")","v":""}]
[112,"",{"$f":"IF(Turma!A$2=1,IF(VLOOKUP(\"x\",Turma!$B$4:$G$53,3,0)=\"Menina\",tblMLS2!K53,tblMLS2!K221),\"\")","v":""},{"$f":"IF(Turma!A$2=1,IF(VLOOKUP(\"x\",Turma!$B$4:$G$53,3,0)=\"Menina\",tblMLS2!M53,tblMLS2!M221),\"\")","v":""},{"$f":"IF(Turma!A$2=1,IF(VLOOKUP(\"x\",Turma!$B$4:$G$53,3,0)=\"Menina\",tblMLS2!O53,tblMLS2!O221),\"\")","v":""},{"$f":"IF(Turma!A$2=1,IF(VLOOKUP(\"x\",Turma!$B$4:$G$53,3,0)=\"Menina\",tblMLS2!P53,tblMLS2!P221),\"\")","v":""},{"$f":"IF(Turma!A$2=1,IF(VLOOKUP(\"x\",Turma!$B$4:$G$53,3,0)=\"Menina\",tblMLS2!Q53,tblMLS2!Q221),\"\")","v":""},{"$f":"IF(Turma!A$2=1,IF(VLOOKUP(\"x\",Turma!$B$4:$G$53,3,0)=\"Menina\",tblMLS2!S53,tblMLS2!S221),\"\")","v":""},{"$f":"IF(Turma!A$2=1,IF(VLOOKUP(\"x\",Turma!$B$4:$G$53,3,0)=\"Menina\",tblMLS2!U53,tblMLS2!U221),\"\")","v":""}]
[113,"",{"$f":"IF(Turma!A$2=1,IF(VLOOKUP(\"x\",Turma!$B$4:$G$53,3,0)=\"Menina\",tblMLS2!K54,tblMLS2!K222),\"\")","v":""},{"$f":"IF(Turma!A$2=1,IF(VLOOKUP(\"x\",Turma!$B$4:$G$53,3,0)=\"Menina\",tblMLS2!M54,tblMLS2!M222),\"\")","v":""},{"$f":"IF(Turma!A$2=1,IF(VLOOKUP(\"x\",Turma!$B$4:$G$53,3,0)=\"Menina\",tblMLS2!O54,tblMLS2!O222),\"\")","v":""},{"$f":"IF(Turma!A$2=1,IF(VLOOKUP(\"x\",Turma!$B$4:$G$53,3,0)=\"Menina\",tblMLS2!P54,tblMLS2!P222),\"\")","v":""},{"$f":"IF(Turma!A$2=1,IF(VLOOKUP(\"x\",Turma!$B$4:$G$53,3,0)=\"Menina\",tblMLS2!Q54,tblMLS2!Q222),\"\")","v":""},{"$f":"IF(Turma!A$2=1,IF(VLOOKUP(\"x\",Turma!$B$4:$G$53,3,0)=\"Menina\",tblMLS2!S54,tblMLS2!S222),\"\")","v":""},{"$f":"IF(Turma!A$2=1,IF(VLOOKUP(\"x\",Turma!$B$4:$G$53,3,0)=\"Menina\",tblMLS2!U54,tblMLS2!U222),\"\")","v":""}]
[114,"",{"$f":"IF(Turma!A$2=1,IF(VLOOKUP(\"x\",Turma!$B$4:$G$53,3,0)=\"Menina\",tblMLS2!K55,tblMLS2!K223),\"\")","v":""},{"$f":"IF(Turma!A$2=1,IF(VLOOKUP(\"x\",Turma!$B$4:$G$53,3,0)=\"Menina\",tblMLS2!M55,tblMLS2!M223),\"\")","v":""},{"$f":"IF(Turma!A$2=1,IF(VLOOKUP(\"x\",Turma!$B$4:$G$53,3,0)=\"Menina\",tblMLS2!O55,tblMLS2!O223),\"\")","v":""},{"$f":"IF(Turma!A$2=1,IF(VLOOKUP(\"x\",Turma!$B$4:$G$53,3,0)=\"Menina\",tblMLS2!P55,tblMLS2!P223),\"\")","v":""},{"$f":"IF(Turma!A$2=1,IF(VLOOKUP(\"x\",Turma!$B$4:$G$53,3,0)=\"Menina\",tblMLS2!Q55,tblMLS2!Q223),\"\")","v":""},{"$f":"IF(Turma!A$2=1,IF(VLOOKUP(\"x\",Turma!$B$4:$G$53,3,0)=\"Menina\",tblMLS2!S55,tblMLS2!S223),\"\")","v":""},{"$f":"IF(Turma!A$2=1,IF(VLOOKUP(\"x\",Turma!$B$4:$G$53,3,0)=\"Menina\",tblMLS2!U55,tblMLS2!U223),\"\")","v":""}]
[115,"",{"$f":"IF(Turma!A$2=1,IF(VLOOKUP(\"x\",Turma!$B$4:$G$53,3,0)=\"Menina\",tblMLS2!K56,tblMLS2!K224),\"\")","v":""},{"$f":"IF(Turma!A$2=1,IF(VLOOKUP(\"x\",Turma!$B$4:$G$53,3,0)=\"Menina\",tblMLS2!M56,tblMLS2!M224),\"\")","v":""},{"$f":"IF(Turma!A$2=1,IF(VLOOKUP(\"x\",Turma!$B$4:$G$53,3,0)=\"Menina\",tblMLS2!O56,tblMLS2!O224),\"\")","v":""},{"$f":"IF(Turma!A$2=1,IF(VLOOKUP(\"x\",Turma!$B$4:$G$53,3,0)=\"Menina\",tblMLS2!P56,tblMLS2!P224),\"\")","v":""},{"$f":"IF(Turma!A$2=1,IF(VLOOKUP(\"x\",Turma!$B$4:$G$53,3,0)=\"Menina\",tblMLS2!Q56,tblMLS2!Q224),\"\")","v":""},{"$f":"IF(Turma!A$2=1,IF(VLOOKUP(\"x\",Turma!$B$4:$G$53,3,0)=\"Menina\",tblMLS2!S56,tblMLS2!S224),\"\")","v":""},{"$f":"IF(Turma!A$2=1,IF(VLOOKUP(\"x\",Turma!$B$4:$G$53,3,0)=\"Menina\",tblMLS2!U56,tblMLS2!U224),\"\")","v":""}]
[116,"",{"$f":"IF(Turma!A$2=1,IF(VLOOKUP(\"x\",Turma!$B$4:$G$53,3,0)=\"Menina\",tblMLS2!K57,tblMLS2!K225),\"\")","v":""},{"$f":"IF(Turma!A$2=1,IF(VLOOKUP(\"x\",Turma!$B$4:$G$53,3,0)=\"Menina\",tblMLS2!M57,tblMLS2!M225),\"\")","v":""},{"$f":"IF(Turma!A$2=1,IF(VLOOKUP(\"x\",Turma!$B$4:$G$53,3,0)=\"Menina\",tblMLS2!O57,tblMLS2!O225),\"\")","v":""},{"$f":"IF(Turma!A$2=1,IF(VLOOKUP(\"x\",Turma!$B$4:$G$53,3,0)=\"Menina\",tblMLS2!P57,tblMLS2!P225),\"\")","v":""},{"$f":"IF(Turma!A$2=1,IF(VLOOKUP(\"x\",Turma!$B$4:$G$53,3,0)=\"Menina\",tblMLS2!Q57,tblMLS2!Q225),\"\")","v":""},{"$f":"IF(Turma!A$2=1,IF(VLOOKUP(\"x\",Turma!$B$4:$G$53,3,0)=\"Menina\",tblMLS2!S57,tblMLS2!S225),\"\")","v":""},{"$f":"IF(Turma!A$2=1,IF(VLOOKUP(\"x\",Turma!$B$4:$G$53,3,0)=\"Menina\",tblMLS2!U57,tblMLS2!U225),\"\")","v":""}]
[117,"",{"$f":"IF(Turma!A$2=1,IF(VLOOKUP(\"x\",Turma!$B$4:$G$53,3,0)=\"Menina\",tblMLS2!K58,tblMLS2!K226),\"\")","v":""},{"$f":"IF(Turma!A$2=1,IF(VLOOKUP(\"x\",Turma!$B$4:$G$53,3,0)=\"Menina\",tblMLS2!M58,tblMLS2!M226),\"\")","v":""},{"$f":"IF(Turma!A$2=1,IF(VLOOKUP(\"x\",Turma!$B$4:$G$53,3,0)=\"Menina\",tblMLS2!O58,tblMLS2!O226),\"\")","v":""},{"$f":"IF(Turma!A$2=1,IF(VLOOKUP(\"x\",Turma!$B$4:$G$53,3,0)=\"Menina\",tblMLS2!P58,tblMLS2!P226),\"\")","v":""},{"$f":"IF(Turma!A$2=1,IF(VLOOKUP(\"x\",Turma!$B$4:$G$53,3,0)=\"Menina\",tblMLS2!Q58,tblMLS2!Q226),\"\")","v":""},{"$f":"IF(Turma!A$2=1,IF(VLOOKUP(\"x\",Turma!$B$4:$G$53,3,0)=\"Menina\",tblMLS2!S58,tblMLS2!S226),\"\")","v":""},{"$f":"IF(Turma!A$2=1,IF(VLOOKUP(\"x\",Turma!$B$4:$G$53,3,0)=\"Menina\",tblMLS2!U58,tblMLS2!U226),\"\")","v":""}]
[118,"",{"$f":"IF(Turma!A$2=1,IF(VLOOKUP(\"x\",Turma!$B$4:$G$53,3,0)=\"Menina\",tblMLS2!K59,tblMLS2!K227),\"\")","v":""},{"$f":"IF(Turma!A$2=1,IF(VLOOKUP(\"x\",Turma!$B$4:$G$53,3,0)=\"Menina\",tblMLS2!M59,tblMLS2!M227),\"\")","v":""},{"$f":"IF(Turma!A$2=1,IF(VLOOKUP(\"x\",Turma!$B$4:$G$53,3,0)=\"Menina\",tblMLS2!O59,tblMLS2!O227),\"\")","v":""},{"$f":"IF(Turma!A$2=1,IF(VLOOKUP(\"x\",Turma!$B$4:$G$53,3,0)=\"Menina\",tblMLS2!P59,tblMLS2!P227),\"\")","v":""},{"$f":"IF(Turma!A$2=1,IF(VLOOKUP(\"x\",Turma!$B$4:$G$53,3,0)=\"Menina\",tblMLS2!Q59,tblMLS2!Q227),\"\")","v":""},{"$f":"IF(Turma!A$2=1,IF(VLOOKUP(\"x\",Turma!$B$4:$G$53,3,0)=\"Menina\",tblMLS2!S59,tblMLS2!S227),\"\")","v":""},{"$f":"IF(Turma!A$2=1,IF(VLOOKUP(\"x\",Turma!$B$4:$G$53,3,0)=\"Menina\",tblMLS2!U59,tblMLS2!U227),\"\")","v":""}]
[119,"",{"$f":"IF(Turma!A$2=1,IF(VLOOKUP(\"x\",Turma!$B$4:$G$53,3,0)=\"Menina\",tblMLS2!K60,tblMLS2!K228),\"\")","v":""},{"$f":"IF(Turma!A$2=1,IF(VLOOKUP(\"x\",Turma!$B$4:$G$53,3,0)=\"Menina\",tblMLS2!M60,tblMLS2!M228),\"\")","v":""},{"$f":"IF(Turma!A$2=1,IF(VLOOKUP(\"x\",Turma!$B$4:$G$53,3,0)=\"Menina\",tblMLS2!O60,tblMLS2!O228),\"\")","v":""},{"$f":"IF(Turma!A$2=1,IF(VLOOKUP(\"x\",Turma!$B$4:$G$53,3,0)=\"Menina\",tblMLS2!P60,tblMLS2!P228),\"\")","v":""},{"$f":"IF(Turma!A$2=1,IF(VLOOKUP(\"x\",Turma!$B$4:$G$53,3,0)=\"Menina\",tblMLS2!Q60,tblMLS2!Q228),\"\")","v":""},{"$f":"IF(Turma!A$2=1,IF(VLOOKUP(\"x\",Turma!$B$4:$G$53,3,0)=\"Menina\",tblMLS2!S60,tblMLS2!S228),\"\")","v":""},{"$f":"IF(Turma!A$2=1,IF(VLOOKUP(\"x\",Turma!$B$4:$G$53,3,0)=\"Menina\",tblMLS2!U60,tblMLS2!U228),\"\")","v":""}]
[120,10,{"$f":"IF(Turma!A$2=1,IF(VLOOKUP(\"x\",Turma!$B$4:$G$53,3,0)=\"Menina\",tblMLS2!K61,tblMLS2!K229),\"\")","v":""},{"$f":"IF(Turma!A$2=1,IF(VLOOKUP(\"x\",Turma!$B$4:$G$53,3,0)=\"Menina\",tblMLS2!M61,tblMLS2!M229),\"\")","v":""},{"$f":"IF(Turma!A$2=1,IF(VLOOKUP(\"x\",Turma!$B$4:$G$53,3,0)=\"Menina\",tblMLS2!O61,tblMLS2!O229),\"\")","v":""},{"$f":"IF(Turma!A$2=1,IF(VLOOKUP(\"x\",Turma!$B$4:$G$53,3,0)=\"Menina\",tblMLS2!P61,tblMLS2!P229),\"\")","v":""},{"$f":"IF(Turma!A$2=1,IF(VLOOKUP(\"x\",Turma!$B$4:$G$53,3,0)=\"Menina\",tblMLS2!Q61,tblMLS2!Q229),\"\")","v":""},{"$f":"IF(Turma!A$2=1,IF(VLOOKUP(\"x\",Turma!$B$4:$G$53,3,0)=\"Menina\",tblMLS2!S61,tblMLS2!S229),\"\")","v":""},{"$f":"IF(Turma!A$2=1,IF(VLOOKUP(\"x\",Turma!$B$4:$G$53,3,0)=\"Menina\",tblMLS2!U61,tblMLS2!U229),\"\")","v":""}]
[121,"",{"$f":"IF(Turma!A$2=1,IF(VLOOKUP(\"x\",Turma!$B$4:$G$53,3,0)=\"Menina\",tblMLS2!K62,tblMLS2!K230),\"\")","v":""},{"$f":"IF(Turma!A$2=1,IF(VLOOKUP(\"x\",Turma!$B$4:$G$53,3,0)=\"Menina\",tblMLS2!M62,tblMLS2!M230),\"\")","v":""},{"$f":"IF(Turma!A$2=1,IF(VLOOKUP(\"x\",Turma!$B$4:$G$53,3,0)=\"Menina\",tblMLS2!O62,tblMLS2!O230),\"\")","v":""},{"$f":"IF(Turma!A$2=1,IF(VLOOKUP(\"x\",Turma!$B$4:$G$53,3,0)=\"Menina\",tblMLS2!P62,tblMLS2!P230),\"\")","v":""},{"$f":"IF(Turma!A$2=1,IF(VLOOKUP(\"x\",Turma!$B$4:$G$53,3,0)=\"Menina\",tblMLS2!Q62,tblMLS2!Q230),\"\")","v":""},{"$f":"IF(Turma!A$2=1,IF(VLOOKUP(\"x\",Turma!$B$4:$G$53,3,0)=\"Menina\",tblMLS2!S62,tblMLS2!S230),\"\")","v":""},{"$f":"IF(Turma!A$2=1,IF(VLOOKUP(\"x\",Turma!$B$4:$G$53,3,0)=\"Menina\",tblMLS2!U62,tblMLS2!U230),\"\")","v":""}]
[122,"",{"$f":"IF(Turma!A$2=1,IF(VLOOKUP(\"x\",Turma!$B$4:$G$53,3,0)=\"Menina\",tblMLS2!K63,tblMLS2!K231),\"\")","v":""},{"$f":"IF(Turma!A$2=1,IF(VLOOKUP(\"x\",Turma!$B$4:$G$53,3,0)=\"Menina\",tblMLS2!M63,tblMLS2!M231),\"\")","v":""},{"$f":"IF(Turma!A$2=1,IF(VLOOKUP(\"x\",Turma!$B$4:$G$53,3,0)=\"Menina\",tblMLS2!O63,tblMLS2!O231),\"\")","v":""},{"$f":"IF(Turma!A$2=1,IF(VLOOKUP(\"x\",Turma!$B$4:$G$53,3,0)=\"Menina\",tblMLS2!P63,tblMLS2!P231),\"\")","v":""},{"$f":"IF(Turma!A$2=1,IF(VLOOKUP(\"x\",Turma!$B$4:$G$53,3,0)=\"Menina\",tblMLS2!Q63,tblMLS2!Q231),\"\")","v":""},{"$f":"IF(Turma!A$2=1,IF(VLOOKUP(\"x\",Turma!$B$4:$G$53,3,0)=\"Menina\",tblMLS2!S63,tblMLS2!S231),\"\")","v":""},{"$f":"IF(Turma!A$2=1,IF(VLOOKUP(\"x\",Turma!$B$4:$G$53,3,0)=\"Menina\",tblMLS2!U63,tblMLS2!U231),\"\")","v":""}]
[123,"",{"$f":"IF(Turma!A$2=1,IF(VLOOKUP(\"x\",Turma!$B$4:$G$53,3,0)=\"Menina\",tblMLS2!K64,tblMLS2!K232),\"\")","v":""},{"$f":"IF(Turma!A$2=1,IF(VLOOKUP(\"x\",Turma!$B$4:$G$53,3,0)=\"Menina\",tblMLS2!M64,tblMLS2!M232),\"\")","v":""},{"$f":"IF(Turma!A$2=1,IF(VLOOKUP(\"x\",Turma!$B$4:$G$53,3,0)=\"Menina\",tblMLS2!O64,tblMLS2!O232),\"\")","v":""},{"$f":"IF(Turma!A$2=1,IF(VLOOKUP(\"x\",Turma!$B$4:$G$53,3,0)=\"Menina\",tblMLS2!P64,tblMLS2!P232),\"\")","v":""},{"$f":"IF(Turma!A$2=1,IF(VLOOKUP(\"x\",Turma!$B$4:$G$53,3,0)=\"Menina\",tblMLS2!Q64,tblMLS2!Q232),\"\")","v":""},{"$f":"IF(Turma!A$2=1,IF(VLOOKUP(\"x\",Turma!$B$4:$G$53,3,0)=\"Menina\",tblMLS2!S64,tblMLS2!S232),\"\")","v":""},{"$f":"IF(Turma!A$2=1,IF(VLOOKUP(\"x\",Turma!$B$4:$G$53,3,0)=\"Menina\",tblMLS2!U64,tblMLS2!U232),\"\")","v":""}]
[124,"",{"$f":"IF(Turma!A$2=1,IF(VLOOKUP(\"x\",Turma!$B$4:$G$53,3,0)=\"Menina\",tblMLS2!K65,tblMLS2!K233),\"\")","v":""},{"$f":"IF(Turma!A$2=1,IF(VLOOKUP(\"x\",Turma!$B$4:$G$53,3,0)=\"Menina\",tblMLS2!M65,tblMLS2!M233),\"\")","v":""},{"$f":"IF(Turma!A$2=1,IF(VLOOKUP(\"x\",Turma!$B$4:$G$53,3,0)=\"Menina\",tblMLS2!O65,tblMLS2!O233),\"\")","v":""},{"$f":"IF(Turma!A$2=1,IF(VLOOKUP(\"x\",Turma!$B$4:$G$53,3,0)=\"Menina\",tblMLS2!P65,tblMLS2!P233),\"\")","v":""},{"$f":"IF(Turma!A$2=1,IF(VLOOKUP(\"x\",Turma!$B$4:$G$53,3,0)=\"Menina\",tblMLS2!Q65,tblMLS2!Q233),\"\")","v":""},{"$f":"IF(Turma!A$2=1,IF(VLOOKUP(\"x\",Turma!$B$4:$G$53,3,0)=\"Menina\",tblMLS2!S65,tblMLS2!S233),\"\")","v":""},{"$f":"IF(Turma!A$2=1,IF(VLOOKUP(\"x\",Turma!$B$4:$G$53,3,0)=\"Menina\",tblMLS2!U65,tblMLS2!U233),\"\")","v":""}]
[125,{"$f":"IF(A67/12=INT(A67/12),A67/12,\"\")","v":""},{"$f":"IF(Turma!A$2=1,IF(VLOOKUP(\"x\",Turma!$B$4:$G$53,3,0)=\"Menina\",tblMLS2!K66,tblMLS2!K234),\"\")","v":""},{"$f":"IF(Turma!A$2=1,IF(VLOOKUP(\"x\",Turma!$B$4:$G$53,3,0)=\"Menina\",tblMLS2!M66,tblMLS2!M234),\"\")","v":""},{"$f":"IF(Turma!A$2=1,IF(VLOOKUP(\"x\",Turma!$B$4:$G$53,3,0)=\"Menina\",tblMLS2!O66,tblMLS2!O234),\"\")","v":""},{"$f":"IF(Turma!A$2=1,IF(VLOOKUP(\"x\",Turma!$B$4:$G$53,3,0)=\"Menina\",tblMLS2!P66,tblMLS2!P234),\"\")","v":""},{"$f":"IF(Turma!A$2=1,IF(VLOOKUP(\"x\",Turma!$B$4:$G$53,3,0)=\"Menina\",tblMLS2!Q66,tblMLS2!Q234),\"\")","v":""},{"$f":"IF(Turma!A$2=1,IF(VLOOKUP(\"x\",Turma!$B$4:$G$53,3,0)=\"Menina\",tblMLS2!S66,tblMLS2!S234),\"\")","v":""},{"$f":"IF(Turma!A$2=1,IF(VLOOKUP(\"x\",Turma!$B$4:$G$53,3,0)=\"Menina\",tblMLS2!U66,tblMLS2!U234),\"\")","v":""}]
[126,"",{"$f":"IF(Turma!A$2=1,IF(VLOOKUP(\"x\",Turma!$B$4:$G$53,3,0)=\"Menina\",tblMLS2!K67,tblMLS2!K235),\"\")","v":""},{"$f":"IF(Turma!A$2=1,IF(VLOOKUP(\"x\",Turma!$B$4:$G$53,3,0)=\"Menina\",tblMLS2!M67,tblMLS2!M235),\"\")","v":""},{"$f":"IF(Turma!A$2=1,IF(VLOOKUP(\"x\",Turma!$B$4:$G$53,3,0)=\"Menina\",tblMLS2!O67,tblMLS2!O235),\"\")","v":""},{"$f":"IF(Turma!A$2=1,IF(VLOOKUP(\"x\",Turma!$B$4:$G$53,3,0)=\"Menina\",tblMLS2!P67,tblMLS2!P235),\"\")","v":""},{"$f":"IF(Turma!A$2=1,IF(VLOOKUP(\"x\",Turma!$B$4:$G$53,3,0)=\"Menina\",tblMLS2!Q67,tblMLS2!Q235),\"\")","v":""},{"$f":"IF(Turma!A$2=1,IF(VLOOKUP(\"x\",Turma!$B$4:$G$53,3,0)=\"Menina\",tblMLS2!S67,tblMLS2!S235),\"\")","v":""},{"$f":"IF(Turma!A$2=1,IF(VLOOKUP(\"x\",Turma!$B$4:$G$53,3,0)=\"Menina\",tblMLS2!U67,tblMLS2!U235),\"\")","v":""}]
[127,"",{"$f":"IF(Turma!A$2=1,IF(VLOOKUP(\"x\",Turma!$B$4:$G$53,3,0)=\"Menina\",tblMLS2!K68,tblMLS2!K236),\"\")","v":""},{"$f":"IF(Turma!A$2=1,IF(VLOOKUP(\"x\",Turma!$B$4:$G$53,3,0)=\"Menina\",tblMLS2!M68,tblMLS2!M236),\"\")","v":""},{"$f":"IF(Turma!A$2=1,IF(VLOOKUP(\"x\",Turma!$B$4:$G$53,3,0)=\"Menina\",tblMLS2!O68,tblMLS2!O236),\"\")","v":""},{"$f":"IF(Turma!A$2=1,IF(VLOOKUP(\"x\",Turma!$B$4:$G$53,3,0)=\"Menina\",tblMLS2!P68,tblMLS2!P236),\"\")","v":""},{"$f":"IF(Turma!A$2=1,IF(VLOOKUP(\"x\",Turma!$B$4:$G$53,3,0)=\"Menina\",tblMLS2!Q68,tblMLS2!Q236),\"\")","v":""},{"$f":"IF(Turma!A$2=1,IF(VLOOKUP(\"x\",Turma!$B$4:$G$53,3,0)=\"Menina\",tblMLS2!S68,tblMLS2!S236),\"\")","v":""},{"$f":"IF(Turma!A$2=1,IF(VLOOKUP(\"x\",Turma!$B$4:$G$53,3,0)=\"Menina\",tblMLS2!U68,tblMLS2!U236),\"\")","v":""}]
[128,"",{"$f":"IF(Turma!A$2=1,IF(VLOOKUP(\"x\",Turma!$B$4:$G$53,3,0)=\"Menina\",tblMLS2!K69,tblMLS2!K237),\"\")","v":""},{"$f":"IF(Turma!A$2=1,IF(VLOOKUP(\"x\",Turma!$B$4:$G$53,3,0)=\"Menina\",tblMLS2!M69,tblMLS2!M237),\"\")","v":""},{"$f":"IF(Turma!A$2=1,IF(VLOOKUP(\"x\",Turma!$B$4:$G$53,3,0)=\"Menina\",tblMLS2!O69,tblMLS2!O237),\"\")","v":""},{"$f":"IF(Turma!A$2=1,IF(VLOOKUP(\"x\",Turma!$B$4:$G$53,3,0)=\"Menina\",tblMLS2!P69,tblMLS2!P237),\"\")","v":""},{"$f":"IF(Turma!A$2=1,IF(VLOOKUP(\"x\",Turma!$B$4:$G$53,3,0)=\"Menina\",tblMLS2!Q69,tblMLS2!Q237),\"\")","v":""},{"$f":"IF(Turma!A$2=1,IF(VLOOKUP(\"x\",Turma!$B$4:$G$53,3,0)=\"Menina\",tblMLS2!S69,tblMLS2!S237),\"\")","v":""},{"$f":"IF(Turma!A$2=1,IF(VLOOKUP(\"x\",Turma!$B$4:$G$53,3,0)=\"Menina\",tblMLS2!U69,tblMLS2!U237),\"\")","v":""}]
[129,"",{"$f":"IF(Turma!A$2=1,IF(VLOOKUP(\"x\",Turma!$B$4:$G$53,3,0)=\"Menina\",tblMLS2!K70,tblMLS2!K238),\"\")","v":""},{"$f":"IF(Turma!A$2=1,IF(VLOOKUP(\"x\",Turma!$B$4:$G$53,3,0)=\"Menina\",tblMLS2!M70,tblMLS2!M238),\"\")","v":""},{"$f":"IF(Turma!A$2=1,IF(VLOOKUP(\"x\",Turma!$B$4:$G$53,3,0)=\"Menina\",tblMLS2!O70,tblMLS2!O238),\"\")","v":""},{"$f":"IF(Turma!A$2=1,IF(VLOOKUP(\"x\",Turma!$B$4:$G$53,3,0)=\"Menina\",tblMLS2!P70,tblMLS2!P238),\"\")","v":""},{"$f":"IF(Turma!A$2=1,IF(VLOOKUP(\"x\",Turma!$B$4:$G$53,3,0)=\"Menina\",tblMLS2!Q70,tblMLS2!Q238),\"\")","v":""},{"$f":"IF(Turma!A$2=1,IF(VLOOKUP(\"x\",Turma!$B$4:$G$53,3,0)=\"Menina\",tblMLS2!S70,tblMLS2!S238),\"\")","v":""},{"$f":"IF(Turma!A$2=1,IF(VLOOKUP(\"x\",Turma!$B$4:$G$53,3,0)=\"Menina\",tblMLS2!U70,tblMLS2!U238),\"\")","v":""}]
[130,"",{"$f":"IF(Turma!A$2=1,IF(VLOOKUP(\"x\",Turma!$B$4:$G$53,3,0)=\"Menina\",tblMLS2!K71,tblMLS2!K239),\"\")","v":""},{"$f":"IF(Turma!A$2=1,IF(VLOOKUP(\"x\",Turma!$B$4:$G$53,3,0)=\"Menina\",tblMLS2!M71,tblMLS2!M239),\"\")","v":""},{"$f":"IF(Turma!A$2=1,IF(VLOOKUP(\"x\",Turma!$B$4:$G$53,3,0)=\"Menina\",tblMLS2!O71,tblMLS2!O239),\"\")","v":""},{"$f":"IF(Turma!A$2=1,IF(VLOOKUP(\"x\",Turma!$B$4:$G$53,3,0)=\"Menina\",tblMLS2!P71,tblMLS2!P239),\"\")","v":""},{"$f":"IF(Turma!A$2=1,IF(VLOOKUP(\"x\",Turma!$B$4:$G$53,3,0)=\"Menina\",tblMLS2!Q71,tblMLS2!Q239),\"\")","v":""},{"$f":"IF(Turma!A$2=1,IF(VLOOKUP(\"x\",Turma!$B$4:$G$53,3,0)=\"Menina\",tblMLS2!S71,tblMLS2!S239),\"\")","v":""},{"$f":"IF(Turma!A$2=1,IF(VLOOKUP(\"x\",Turma!$B$4:$G$53,3,0)=\"Menina\",tblMLS2!U71,tblMLS2!U239),\"\")","v":""}]
[131,"",{"$f":"IF(Turma!A$2=1,IF(VLOOKUP(\"x\",Turma!$B$4:$G$53,3,0)=\"Menina\",tblMLS2!K72,tblMLS2!K240),\"\")","v":""},{"$f":"IF(Turma!A$2=1,IF(VLOOKUP(\"x\",Turma!$B$4:$G$53,3,0)=\"Menina\",tblMLS2!M72,tblMLS2!M240),\"\")","v":""},{"$f":"IF(Turma!A$2=1,IF(VLOOKUP(\"x\",Turma!$B$4:$G$53,3,0)=\"Menina\",tblMLS2!O72,tblMLS2!O240),\"\")","v":""},{"$f":"IF(Turma!A$2=1,IF(VLOOKUP(\"x\",Turma!$B$4:$G$53,3,0)=\"Menina\",tblMLS2!P72,tblMLS2!P240),\"\")","v":""},{"$f":"IF(Turma!A$2=1,IF(VLOOKUP(\"x\",Turma!$B$4:$G$53,3,0)=\"Menina\",tblMLS2!Q72,tblMLS2!Q240),\"\")","v":""},{"$f":"IF(Turma!A$2=1,IF(VLOOKUP(\"x\",Turma!$B$4:$G$53,3,0)=\"Menina\",tblMLS2!S72,tblMLS2!S240),\"\")","v":""},{"$f":"IF(Turma!A$2=1,IF(VLOOKUP(\"x\",Turma!$B$4:$G$53,3,0)=\"Menina\",tblMLS2!U72,tblMLS2!U240),\"\")","v":""}]
[132,11,{"$f":"IF(Turma!A$2=1,IF(VLOOKUP(\"x\",Turma!$B$4:$G$53,3,0)=\"Menina\",tblMLS2!K73,tblMLS2!K241),\"\")","v":""},{"$f":"IF(Turma!A$2=1,IF(VLOOKUP(\"x\",Turma!$B$4:$G$53,3,0)=\"Menina\",tblMLS2!M73,tblMLS2!M241),\"\")","v":""},{"$f":"IF(Turma!A$2=1,IF(VLOOKUP(\"x\",Turma!$B$4:$G$53,3,0)=\"Menina\",tblMLS2!O73,tblMLS2!O241),\"\")","v":""},{"$f":"IF(Turma!A$2=1,IF(VLOOKUP(\"x\",Turma!$B$4:$G$53,3,0)=\"Menina\",tblMLS2!P73,tblMLS2!P241),\"\")","v":""},{"$f":"IF(Turma!A$2=1,IF(VLOOKUP(\"x\",Turma!$B$4:$G$53,3,0)=\"Menina\",tblMLS2!Q73,tblMLS2!Q241),\"\")","v":""},{"$f":"IF(Turma!A$2=1,IF(VLOOKUP(\"x\",Turma!$B$4:$G$53,3,0)=\"Menina\",tblMLS2!S73,tblMLS2!S241),\"\")","v":""},{"$f":"IF(Turma!A$2=1,IF(VLOOKUP(\"x\",Turma!$B$4:$G$53,3,0)=\"Menina\",tblMLS2!U73,tblMLS2!U241),\"\")","v":""}]
[133,"",{"$f":"IF(Turma!A$2=1,IF(VLOOKUP(\"x\",Turma!$B$4:$G$53,3,0)=\"Menina\",tblMLS2!K74,tblMLS2!K242),\"\")","v":""},{"$f":"IF(Turma!A$2=1,IF(VLOOKUP(\"x\",Turma!$B$4:$G$53,3,0)=\"Menina\",tblMLS2!M74,tblMLS2!M242),\"\")","v":""},{"$f":"IF(Turma!A$2=1,IF(VLOOKUP(\"x\",Turma!$B$4:$G$53,3,0)=\"Menina\",tblMLS2!O74,tblMLS2!O242),\"\")","v":""},{"$f":"IF(Turma!A$2=1,IF(VLOOKUP(\"x\",Turma!$B$4:$G$53,3,0)=\"Menina\",tblMLS2!P74,tblMLS2!P242),\"\")","v":""},{"$f":"IF(Turma!A$2=1,IF(VLOOKUP(\"x\",Turma!$B$4:$G$53,3,0)=\"Menina\",tblMLS2!Q74,tblMLS2!Q242),\"\")","v":""},{"$f":"IF(Turma!A$2=1,IF(VLOOKUP(\"x\",Turma!$B$4:$G$53,3,0)=\"Menina\",tblMLS2!S74,tblMLS2!S242),\"\")","v":""},{"$f":"IF(Turma!A$2=1,IF(VLOOKUP(\"x\",Turma!$B$4:$G$53,3,0)=\"Menina\",tblMLS2!U74,tblMLS2!U242),\"\")","v":""}]
[134,"",{"$f":"IF(Turma!A$2=1,IF(VLOOKUP(\"x\",Turma!$B$4:$G$53,3,0)=\"Menina\",tblMLS2!K75,tblMLS2!K243),\"\")","v":""},{"$f":"IF(Turma!A$2=1,IF(VLOOKUP(\"x\",Turma!$B$4:$G$53,3,0)=\"Menina\",tblMLS2!M75,tblMLS2!M243),\"\")","v":""},{"$f":"IF(Turma!A$2=1,IF(VLOOKUP(\"x\",Turma!$B$4:$G$53,3,0)=\"Menina\",tblMLS2!O75,tblMLS2!O243),\"\")","v":""},{"$f":"IF(Turma!A$2=1,IF(VLOOKUP(\"x\",Turma!$B$4:$G$53,3,0)=\"Menina\",tblMLS2!P75,tblMLS2!P243),\"\")","v":""},{"$f":"IF(Turma!A$2=1,IF(VLOOKUP(\"x\",Turma!$B$4:$G$53,3,0)=\"Menina\",tblMLS2!Q75,tblMLS2!Q243),\"\")","v":""},{"$f":"IF(Turma!A$2=1,IF(VLOOKUP(\"x\",Turma!$B$4:$G$53,3,0)=\"Menina\",tblMLS2!S75,tblMLS2!S243),\"\")","v":""},{"$f":"IF(Turma!A$2=1,IF(VLOOKUP(\"x\",Turma!$B$4:$G$53,3,0)=\"Menina\",tblMLS2!U75,tblMLS2!U243),\"\")","v":""}]
[135,"",{"$f":"IF(Turma!A$2=1,IF(VLOOKUP(\"x\",Turma!$B$4:$G$53,3,0)=\"Menina\",tblMLS2!K76,tblMLS2!K244),\"\")","v":""},{"$f":"IF(Turma!A$2=1,IF(VLOOKUP(\"x\",Turma!$B$4:$G$53,3,0)=\"Menina\",tblMLS2!M76,tblMLS2!M244),\"\")","v":""},{"$f":"IF(Turma!A$2=1,IF(VLOOKUP(\"x\",Turma!$B$4:$G$53,3,0)=\"Menina\",tblMLS2!O76,tblMLS2!O244),\"\")","v":""},{"$f":"IF(Turma!A$2=1,IF(VLOOKUP(\"x\",Turma!$B$4:$G$53,3,0)=\"Menina\",tblMLS2!P76,tblMLS2!P244),\"\")","v":""},{"$f":"IF(Turma!A$2=1,IF(VLOOKUP(\"x\",Turma!$B$4:$G$53,3,0)=\"Menina\",tblMLS2!Q76,tblMLS2!Q244),\"\")","v":""},{"$f":"IF(Turma!A$2=1,IF(VLOOKUP(\"x\",Turma!$B$4:$G$53,3,0)=\"Menina\",tblMLS2!S76,tblMLS2!S244),\"\")","v":""},{"$f":"IF(Turma!A$2=1,IF(VLOOKUP(\"x\",Turma!$B$4:$G$53,3,0)=\"Menina\",tblMLS2!U76,tblMLS2!U244),\"\")","v":""}]
[136,"",{"$f":"IF(Turma!A$2=1,IF(VLOOKUP(\"x\",Turma!$B$4:$G$53,3,0)=\"Menina\",tblMLS2!K77,tblMLS2!K245),\"\")","v":""},{"$f":"IF(Turma!A$2=1,IF(VLOOKUP(\"x\",Turma!$B$4:$G$53,3,0)=\"Menina\",tblMLS2!M77,tblMLS2!M245),\"\")","v":""},{"$f":"IF(Turma!A$2=1,IF(VLOOKUP(\"x\",Turma!$B$4:$G$53,3,0)=\"Menina\",tblMLS2!O77,tblMLS2!O245),\"\")","v":""},{"$f":"IF(Turma!A$2=1,IF(VLOOKUP(\"x\",Turma!$B$4:$G$53,3,0)=\"Menina\",tblMLS2!P77,tblMLS2!P245),\"\")","v":""},{"$f":"IF(Turma!A$2=1,IF(VLOOKUP(\"x\",Turma!$B$4:$G$53,3,0)=\"Menina\",tblMLS2!Q77,tblMLS2!Q245),\"\")","v":""},{"$f":"IF(Turma!A$2=1,IF(VLOOKUP(\"x\",Turma!$B$4:$G$53,3,0)=\"Menina\",tblMLS2!S77,tblMLS2!S245),\"\")","v":""},{"$f":"IF(Turma!A$2=1,IF(VLOOKUP(\"x\",Turma!$B$4:$G$53,3,0)=\"Menina\",tblMLS2!U77,tblMLS2!U245),\"\")","v":""}]
[137,"",{"$f":"IF(Turma!A$2=1,IF(VLOOKUP(\"x\",Turma!$B$4:$G$53,3,0)=\"Menina\",tblMLS2!K78,tblMLS2!K246),\"\")","v":""},{"$f":"IF(Turma!A$2=1,IF(VLOOKUP(\"x\",Turma!$B$4:$G$53,3,0)=\"Menina\",tblMLS2!M78,tblMLS2!M246),\"\")","v":""},{"$f":"IF(Turma!A$2=1,IF(VLOOKUP(\"x\",Turma!$B$4:$G$53,3,0)=\"Menina\",tblMLS2!O78,tblMLS2!O246),\"\")","v":""},{"$f":"IF(Turma!A$2=1,IF(VLOOKUP(\"x\",Turma!$B$4:$G$53,3,0)=\"Menina\",tblMLS2!P78,tblMLS2!P246),\"\")","v":""},{"$f":"IF(Turma!A$2=1,IF(VLOOKUP(\"x\",Turma!$B$4:$G$53,3,0)=\"Menina\",tblMLS2!Q78,tblMLS2!Q246),\"\")","v":""},{"$f":"IF(Turma!A$2=1,IF(VLOOKUP(\"x\",Turma!$B$4:$G$53,3,0)=\"Menina\",tblMLS2!S78,tblMLS2!S246),\"\")","v":""},{"$f":"IF(Turma!A$2=1,IF(VLOOKUP(\"x\",Turma!$B$4:$G$53,3,0)=\"Menina\",tblMLS2!U78,tblMLS2!U246),\"\")","v":""}]
[138,"",{"$f":"IF(Turma!A$2=1,IF(VLOOKUP(\"x\",Turma!$B$4:$G$53,3,0)=\"Menina\",tblMLS2!K79,tblMLS2!K247),\"\")","v":""},{"$f":"IF(Turma!A$2=1,IF(VLOOKUP(\"x\",Turma!$B$4:$G$53,3,0)=\"Menina\",tblMLS2!M79,tblMLS2!M247),\"\")","v":""},{"$f":"IF(Turma!A$2=1,IF(VLOOKUP(\"x\",Turma!$B$4:$G$53,3,0)=\"Menina\",tblMLS2!O79,tblMLS2!O247),\"\")","v":""},{"$f":"IF(Turma!A$2=1,IF(VLOOKUP(\"x\",Turma!$B$4:$G$53,3,0)=\"Menina\",tblMLS2!P79,tblMLS2!P247),\"\")","v":""},{"$f":"IF(Turma!A$2=1,IF(VLOOKUP(\"x\",Turma!$B$4:$G$53,3,0)=\"Menina\",tblMLS2!Q79,tblMLS2!Q247),\"\")","v":""},{"$f":"IF(Turma!A$2=1,IF(VLOOKUP(\"x\",Turma!$B$4:$G$53,3,0)=\"Menina\",tblMLS2!S79,tblMLS2!S247),\"\")","v":""},{"$f":"IF(Turma!A$2=1,IF(VLOOKUP(\"x\",Turma!$B$4:$G$53,3,0)=\"Menina\",tblMLS2!U79,tblMLS2!U247),\"\")","v":""}]
[139,"",{"$f":"IF(Turma!A$2=1,IF(VLOOKUP(\"x\",Turma!$B$4:$G$53,3,0)=\"Menina\",tblMLS2!K80,tblMLS2!K248),\"\")","v":""},{"$f":"IF(Turma!A$2=1,IF(VLOOKUP(\"x\",Turma!$B$4:$G$53,3,0)=\"Menina\",tblMLS2!M80,tblMLS2!M248),\"\")","v":""},{"$f":"IF(Turma!A$2=1,IF(VLOOKUP(\"x\",Turma!$B$4:$G$53,3,0)=\"Menina\",tblMLS2!O80,tblMLS2!O248),\"\")","v":""},{"$f":"IF(Turma!A$2=1,IF(VLOOKUP(\"x\",Turma!$B$4:$G$53,3,0)=\"Menina\",tblMLS2!P80,tblMLS2!P248),\"\")","v":""},{"$f":"IF(Turma!A$2=1,IF(VLOOKUP(\"x\",Turma!$B$4:$G$53,3,0)=\"Menina\",tblMLS2!Q80,tblMLS2!Q248),\"\")","v":""},{"$f":"IF(Turma!A$2=1,IF(VLOOKUP(\"x\",Turma!$B$4:$G$53,3,0)=\"Menina\",tblMLS2!S80,tblMLS2!S248),\"\")","v":""},{"$f":"IF(Turma!A$2=1,IF(VLOOKUP(\"x\",Turma!$B$4:$G$53,3,0)=\"Menina\",tblMLS2!U80,tblMLS2!U248),\"\")","v":""}]
[140,"",{"$f":"IF(Turma!A$2=1,IF(VLOOKUP(\"x\",Turma!$B$4:$G$53,3,0)=\"Menina\",tblMLS2!K81,tblMLS2!K249),\"\")","v":""},{"$f":"IF(Turma!A$2=1,IF(VLOOKUP(\"x\",Turma!$B$4:$G$53,3,0)=\"Menina\",tblMLS2!M81,tblMLS2!M249),\"\")","v":""},{"$f":"IF(Turma!A$2=1,IF(VLOOKUP(\"x\",Turma!$B$4:$G$53,3,0)=\"Menina\",tblMLS2!O81,tblMLS2!O249),\"\")","v":""},{"$f":"IF(Turma!A$2=1,IF(VLOOKUP(\"x\",Turma!$B$4:$G$53,3,0)=\"Menina\",tblMLS2!P81,tblMLS2!P249),\"\")","v":""},{"$f":"IF(Turma!A$2=1,IF(VLOOKUP(\"x\",Turma!$B$4:$G$53,3,0)=\"Menina\",tblMLS2!Q81,tblMLS2!Q249),\"\")","v":""},{"$f":"IF(Turma!A$2=1,IF(VLOOKUP(\"x\",Turma!$B$4:$G$53,3,0)=\"Menina\",tblMLS2!S81,tblMLS2!S249),\"\")","v":""},{"$f":"IF(Turma!A$2=1,IF(VLOOKUP(\"x\",Turma!$B$4:$G$53,3,0)=\"Menina\",tblMLS2!U81,tblMLS2!U249),\"\")","v":""}]
[141,"",{"$f":"IF(Turma!A$2=1,IF(VLOOKUP(\"x\",Turma!$B$4:$G$53,3,0)=\"Menina\",tblMLS2!K82,tblMLS2!K250),\"\")","v":""},{"$f":"IF(Turma!A$2=1,IF(VLOOKUP(\"x\",Turma!$B$4:$G$53,3,0)=\"Menina\",tblMLS2!M82,tblMLS2!M250),\"\")","v":""},{"$f":"IF(Turma!A$2=1,IF(VLOOKUP(\"x\",Turma!$B$4:$G$53,3,0)=\"Menina\",tblMLS2!O82,tblMLS2!O250),\"\")","v":""},{"$f":"IF(Turma!A$2=1,IF(VLOOKUP(\"x\",Turma!$B$4:$G$53,3,0)=\"Menina\",tblMLS2!P82,tblMLS2!P250),\"\")","v":""},{"$f":"IF(Turma!A$2=1,IF(VLOOKUP(\"x\",Turma!$B$4:$G$53,3,0)=\"Menina\",tblMLS2!Q82,tblMLS2!Q250),\"\")","v":""},{"$f":"IF(Turma!A$2=1,IF(VLOOKUP(\"x\",Turma!$B$4:$G$53,3,0)=\"Menina\",tblMLS2!S82,tblMLS2!S250),\"\")","v":""},{"$f":"IF(Turma!A$2=1,IF(VLOOKUP(\"x\",Turma!$B$4:$G$53,3,0)=\"Menina\",tblMLS2!U82,tblMLS2!U250),\"\")","v":""}]
[142,"",{"$f":"IF(Turma!A$2=1,IF(VLOOKUP(\"x\",Turma!$B$4:$G$53,3,0)=\"Menina\",tblMLS2!K83,tblMLS2!K251),\"\")","v":""},{"$f":"IF(Turma!A$2=1,IF(VLOOKUP(\"x\",Turma!$B$4:$G$53,3,0)=\"Menina\",tblMLS2!M83,tblMLS2!M251),\"\")","v":""},{"$f":"IF(Turma!A$2=1,IF(VLOOKUP(\"x\",Turma!$B$4:$G$53,3,0)=\"Menina\",tblMLS2!O83,tblMLS2!O251),\"\")","v":""},{"$f":"IF(Turma!A$2=1,IF(VLOOKUP(\"x\",Turma!$B$4:$G$53,3,0)=\"Menina\",tblMLS2!P83,tblMLS2!P251),\"\")","v":""},{"$f":"IF(Turma!A$2=1,IF(VLOOKUP(\"x\",Turma!$B$4:$G$53,3,0)=\"Menina\",tblMLS2!Q83,tblMLS2!Q251),\"\")","v":""},{"$f":"IF(Turma!A$2=1,IF(VLOOKUP(\"x\",Turma!$B$4:$G$53,3,0)=\"Menina\",tblMLS2!S83,tblMLS2!S251),\"\")","v":""},{"$f":"IF(Turma!A$2=1,IF(VLOOKUP(\"x\",Turma!$B$4:$G$53,3,0)=\"Menina\",tblMLS2!U83,tblMLS2!U251),\"\")","v":""}]
[143,"",{"$f":"IF(Turma!A$2=1,IF(VLOOKUP(\"x\",Turma!$B$4:$G$53,3,0)=\"Menina\",tblMLS2!K84,tblMLS2!K252),\"\")","v":""},{"$f":"IF(Turma!A$2=1,IF(VLOOKUP(\"x\",Turma!$B$4:$G$53,3,0)=\"Menina\",tblMLS2!M84,tblMLS2!M252),\"\")","v":""},{"$f":"IF(Turma!A$2=1,IF(VLOOKUP(\"x\",Turma!$B$4:$G$53,3,0)=\"Menina\",tblMLS2!O84,tblMLS2!O252),\"\")","v":""},{"$f":"IF(Turma!A$2=1,IF(VLOOKUP(\"x\",Turma!$B$4:$G$53,3,0)=\"Menina\",tblMLS2!P84,tblMLS2!P252),\"\")","v":""},{"$f":"IF(Turma!A$2=1,IF(VLOOKUP(\"x\",Turma!$B$4:$G$53,3,0)=\"Menina\",tblMLS2!Q84,tblMLS2!Q252),\"\")","v":""},{"$f":"IF(Turma!A$2=1,IF(VLOOKUP(\"x\",Turma!$B$4:$G$53,3,0)=\"Menina\",tblMLS2!S84,tblMLS2!S252),\"\")","v":""},{"$f":"IF(Turma!A$2=1,IF(VLOOKUP(\"x\",Turma!$B$4:$G$53,3,0)=\"Menina\",tblMLS2!U84,tblMLS2!U252),\"\")","v":""}]
[144,12,{"$f":"IF(Turma!A$2=1,IF(VLOOKUP(\"x\",Turma!$B$4:$G$53,3,0)=\"Menina\",tblMLS2!K85,tblMLS2!K253),\"\")","v":""},{"$f":"IF(Turma!A$2=1,IF(VLOOKUP(\"x\",Turma!$B$4:$G$53,3,0)=\"Menina\",tblMLS2!M85,tblMLS2!M253),\"\")","v":""},{"$f":"IF(Turma!A$2=1,IF(VLOOKUP(\"x\",Turma!$B$4:$G$53,3,0)=\"Menina\",tblMLS2!O85,tblMLS2!O253),\"\")","v":""},{"$f":"IF(Turma!A$2=1,IF(VLOOKUP(\"x\",Turma!$B$4:$G$53,3,0)=\"Menina\",tblMLS2!P85,tblMLS2!P253),\"\")","v":""},{"$f":"IF(Turma!A$2=1,IF(VLOOKUP(\"x\",Turma!$B$4:$G$53,3,0)=\"Menina\",tblMLS2!Q85,tblMLS2!Q253),\"\")","v":""},{"$f":"IF(Turma!A$2=1,IF(VLOOKUP(\"x\",Turma!$B$4:$G$53,3,0)=\"Menina\",tblMLS2!S85,tblMLS2!S253),\"\")","v":""},{"$f":"IF(Turma!A$2=1,IF(VLOOKUP(\"x\",Turma!$B$4:$G$53,3,0)=\"Menina\",tblMLS2!U85,tblMLS2!U253),\"\")","v":""}]
[145,"",{"$f":"IF(Turma!A$2=1,IF(VLOOKUP(\"x\",Turma!$B$4:$G$53,3,0)=\"Menina\",tblMLS2!K86,tblMLS2!K254),\"\")","v":""},{"$f":"IF(Turma!A$2=1,IF(VLOOKUP(\"x\",Turma!$B$4:$G$53,3,0)=\"Menina\",tblMLS2!M86,tblMLS2!M254),\"\")","v":""},{"$f":"IF(Turma!A$2=1,IF(VLOOKUP(\"x\",Turma!$B$4:$G$53,3,0)=\"Menina\",tblMLS2!O86,tblMLS2!O254),\"\")","v":""},{"$f":"IF(Turma!A$2=1,IF(VLOOKUP(\"x\",Turma!$B$4:$G$53,3,0)=\"Menina\",tblMLS2!P86,tblMLS2!P254),\"\")","v":""},{"$f":"IF(Turma!A$2=1,IF(VLOOKUP(\"x\",Turma!$B$4:$G$53,3,0)=\"Menina\",tblMLS2!Q86,tblMLS2!Q254),\"\")","v":""},{"$f":"IF(Turma!A$2=1,IF(VLOOKUP(\"x\",Turma!$B$4:$G$53,3,0)=\"Menina\",tblMLS2!S86,tblMLS2!S254),\"\")","v":""},{"$f":"IF(Turma!A$2=1,IF(VLOOKUP(\"x\",Turma!$B$4:$G$53,3,0)=\"Menina\",tblMLS2!U86,tblMLS2!U254),\"\")","v":""}]
[146,"",{"$f":"IF(Turma!A$2=1,IF(VLOOKUP(\"x\",Turma!$B$4:$G$53,3,0)=\"Menina\",tblMLS2!K87,tblMLS2!K255),\"\")","v":""},{"$f":"IF(Turma!A$2=1,IF(VLOOKUP(\"x\",Turma!$B$4:$G$53,3,0)=\"Menina\",tblMLS2!M87,tblMLS2!M255),\"\")","v":""},{"$f":"IF(Turma!A$2=1,IF(VLOOKUP(\"x\",Turma!$B$4:$G$53,3,0)=\"Menina\",tblMLS2!O87,tblMLS2!O255),\"\")","v":""},{"$f":"IF(Turma!A$2=1,IF(VLOOKUP(\"x\",Turma!$B$4:$G$53,3,0)=\"Menina\",tblMLS2!P87,tblMLS2!P255),\"\")","v":""},{"$f":"IF(Turma!A$2=1,IF(VLOOKUP(\"x\",Turma!$B$4:$G$53,3,0)=\"Menina\",tblMLS2!Q87,tblMLS2!Q255),\"\")","v":""},{"$f":"IF(Turma!A$2=1,IF(VLOOKUP(\"x\",Turma!$B$4:$G$53,3,0)=\"Menina\",tblMLS2!S87,tblMLS2!S255),\"\")","v":""},{"$f":"IF(Turma!A$2=1,IF(VLOOKUP(\"x\",Turma!$B$4:$G$53,3,0)=\"Menina\",tblMLS2!U87,tblMLS2!U255),\"\")","v":""}]
[147,"",{"$f":"IF(Turma!A$2=1,IF(VLOOKUP(\"x\",Turma!$B$4:$G$53,3,0)=\"Menina\",tblMLS2!K88,tblMLS2!K256),\"\")","v":""},{"$f":"IF(Turma!A$2=1,IF(VLOOKUP(\"x\",Turma!$B$4:$G$53,3,0)=\"Menina\",tblMLS2!M88,tblMLS2!M256),\"\")","v":""},{"$f":"IF(Turma!A$2=1,IF(VLOOKUP(\"x\",Turma!$B$4:$G$53,3,0)=\"Menina\",tblMLS2!O88,tblMLS2!O256),\"\")","v":""},{"$f":"IF(Turma!A$2=1,IF(VLOOKUP(\"x\",Turma!$B$4:$G$53,3,0)=\"Menina\",tblMLS2!P88,tblMLS2!P256),\"\")","v":""},{"$f":"IF(Turma!A$2=1,IF(VLOOKUP(\"x\",Turma!$B$4:$G$53,3,0)=\"Menina\",tblMLS2!Q88,tblMLS2!Q256),\"\")","v":""},{"$f":"IF(Turma!A$2=1,IF(VLOOKUP(\"x\",Turma!$B$4:$G$53,3,0)=\"Menina\",tblMLS2!S88,tblMLS2!S256),\"\")","v":""},{"$f":"IF(Turma!A$2=1,IF(VLOOKUP(\"x\",Turma!$B$4:$G$53,3,0)=\"Menina\",tblMLS2!U88,tblMLS2!U256),\"\")","v":""}]
[148,"",{"$f":"IF(Turma!A$2=1,IF(VLOOKUP(\"x\",Turma!$B$4:$G$53,3,0)=\"Menina\",tblMLS2!K89,tblMLS2!K257),\"\")","v":""},{"$f":"IF(Turma!A$2=1,IF(VLOOKUP(\"x\",Turma!$B$4:$G$53,3,0)=\"Menina\",tblMLS2!M89,tblMLS2!M257),\"\")","v":""},{"$f":"IF(Turma!A$2=1,IF(VLOOKUP(\"x\",Turma!$B$4:$G$53,3,0)=\"Menina\",tblMLS2!O89,tblMLS2!O257),\"\")","v":""},{"$f":"IF(Turma!A$2=1,IF(VLOOKUP(\"x\",Turma!$B$4:$G$53,3,0)=\"Menina\",tblMLS2!P89,tblMLS2!P257),\"\")","v":""},{"$f":"IF(Turma!A$2=1,IF(VLOOKUP(\"x\",Turma!$B$4:$G$53,3,0)=\"Menina\",tblMLS2!Q89,tblMLS2!Q257),\"\")","v":""},{"$f":"IF(Turma!A$2=1,IF(VLOOKUP(\"x\",Turma!$B$4:$G$53,3,0)=\"Menina\",tblMLS2!S89,tblMLS2!S257),\"\")","v":""},{"$f":"IF(Turma!A$2=1,IF(VLOOKUP(\"x\",Turma!$B$4:$G$53,3,0)=\"Menina\",tblMLS2!U89,tblMLS2!U257),\"\")","v":""}]
[149,"",{"$f":"IF(Turma!A$2=1,IF(VLOOKUP(\"x\",Turma!$B$4:$G$53,3,0)=\"Menina\",tblMLS2!K90,tblMLS2!K258),\"\")","v":""},{"$f":"IF(Turma!A$2=1,IF(VLOOKUP(\"x\",Turma!$B$4:$G$53,3,0)=\"Menina\",tblMLS2!M90,tblMLS2!M258),\"\")","v":""},{"$f":"IF(Turma!A$2=1,IF(VLOOKUP(\"x\",Turma!$B$4:$G$53,3,0)=\"Menina\",tblMLS2!O90,tblMLS2!O258),\"\")","v":""},{"$f":"IF(Turma!A$2=1,IF(VLOOKUP(\"x\",Turma!$B$4:$G$53,3,0)=\"Menina\",tblMLS2!P90,tblMLS2!P258),\"\")","v":""},{"$f":"IF(Turma!A$2=1,IF(VLOOKUP(\"x\",Turma!$B$4:$G$53,3,0)=\"Menina\",tblMLS2!Q90,tblMLS2!Q258),\"\")","v":""},{"$f":"IF(Turma!A$2=1,IF(VLOOKUP(\"x\",Turma!$B$4:$G$53,3,0)=\"Menina\",tblMLS2!S90,tblMLS2!S258),\"\")","v":""},{"$f":"IF(Turma!A$2=1,IF(VLOOKUP(\"x\",Turma!$B$4:$G$53,3,0)=\"Menina\",tblMLS2!U90,tblMLS2!U258),\"\")","v":""}]
[150,"",{"$f":"IF(Turma!A$2=1,IF(VLOOKUP(\"x\",Turma!$B$4:$G$53,3,0)=\"Menina\",tblMLS2!K91,tblMLS2!K259),\"\")","v":""},{"$f":"IF(Turma!A$2=1,IF(VLOOKUP(\"x\",Turma!$B$4:$G$53,3,0)=\"Menina\",tblMLS2!M91,tblMLS2!M259),\"\")","v":""},{"$f":"IF(Turma!A$2=1,IF(VLOOKUP(\"x\",Turma!$B$4:$G$53,3,0)=\"Menina\",tblMLS2!O91,tblMLS2!O259),\"\")","v":""},{"$f":"IF(Turma!A$2=1,IF(VLOOKUP(\"x\",Turma!$B$4:$G$53,3,0)=\"Menina\",tblMLS2!P91,tblMLS2!P259),\"\")","v":""},{"$f":"IF(Turma!A$2=1,IF(VLOOKUP(\"x\",Turma!$B$4:$G$53,3,0)=\"Menina\",tblMLS2!Q91,tblMLS2!Q259),\"\")","v":""},{"$f":"IF(Turma!A$2=1,IF(VLOOKUP(\"x\",Turma!$B$4:$G$53,3,0)=\"Menina\",tblMLS2!S91,tblMLS2!S259),\"\")","v":""},{"$f":"IF(Turma!A$2=1,IF(VLOOKUP(\"x\",Turma!$B$4:$G$53,3,0)=\"Menina\",tblMLS2!U91,tblMLS2!U259),\"\")","v":""}]
[151,"",{"$f":"IF(Turma!A$2=1,IF(VLOOKUP(\"x\",Turma!$B$4:$G$53,3,0)=\"Menina\",tblMLS2!K92,tblMLS2!K260),\"\")","v":""},{"$f":"IF(Turma!A$2=1,IF(VLOOKUP(\"x\",Turma!$B$4:$G$53,3,0)=\"Menina\",tblMLS2!M92,tblMLS2!M260),\"\")","v":""},{"$f":"IF(Turma!A$2=1,IF(VLOOKUP(\"x\",Turma!$B$4:$G$53,3,0)=\"Menina\",tblMLS2!O92,tblMLS2!O260),\"\")","v":""},{"$f":"IF(Turma!A$2=1,IF(VLOOKUP(\"x\",Turma!$B$4:$G$53,3,0)=\"Menina\",tblMLS2!P92,tblMLS2!P260),\"\")","v":""},{"$f":"IF(Turma!A$2=1,IF(VLOOKUP(\"x\",Turma!$B$4:$G$53,3,0)=\"Menina\",tblMLS2!Q92,tblMLS2!Q260),\"\")","v":""},{"$f":"IF(Turma!A$2=1,IF(VLOOKUP(\"x\",Turma!$B$4:$G$53,3,0)=\"Menina\",tblMLS2!S92,tblMLS2!S260),\"\")","v":""},{"$f":"IF(Turma!A$2=1,IF(VLOOKUP(\"x\",Turma!$B$4:$G$53,3,0)=\"Menina\",tblMLS2!U92,tblMLS2!U260),\"\")","v":""}]
[152,"",{"$f":"IF(Turma!A$2=1,IF(VLOOKUP(\"x\",Turma!$B$4:$G$53,3,0)=\"Menina\",tblMLS2!K93,tblMLS2!K261),\"\")","v":""},{"$f":"IF(Turma!A$2=1,IF(VLOOKUP(\"x\",Turma!$B$4:$G$53,3,0)=\"Menina\",tblMLS2!M93,tblMLS2!M261),\"\")","v":""},{"$f":"IF(Turma!A$2=1,IF(VLOOKUP(\"x\",Turma!$B$4:$G$53,3,0)=\"Menina\",tblMLS2!O93,tblMLS2!O261),\"\")","v":""},{"$f":"IF(Turma!A$2=1,IF(VLOOKUP(\"x\",Turma!$B$4:$G$53,3,0)=\"Menina\",tblMLS2!P93,tblMLS2!P261),\"\")","v":""},{"$f":"IF(Turma!A$2=1,IF(VLOOKUP(\"x\",Turma!$B$4:$G$53,3,0)=\"Menina\",tblMLS2!Q93,tblMLS2!Q261),\"\")","v":""},{"$f":"IF(Turma!A$2=1,IF(VLOOKUP(\"x\",Turma!$B$4:$G$53,3,0)=\"Menina\",tblMLS2!S93,tblMLS2!S261),\"\")","v":""},{"$f":"IF(Turma!A$2=1,IF(VLOOKUP(\"x\",Turma!$B$4:$G$53,3,0)=\"Menina\",tblMLS2!U93,tblMLS2!U261),\"\")","v":""}]
[153,"",{"$f":"IF(Turma!A$2=1,IF(VLOOKUP(\"x\",Turma!$B$4:$G$53,3,0)=\"Menina\",tblMLS2!K94,tblMLS2!K262),\"\")","v":""},{"$f":"IF(Turma!A$2=1,IF(VLOOKUP(\"x\",Turma!$B$4:$G$53,3,0)=\"Menina\",tblMLS2!M94,tblMLS2!M262),\"\")","v":""},{"$f":"IF(Turma!A$2=1,IF(VLOOKUP(\"x\",Turma!$B$4:$G$53,3,0)=\"Menina\",tblMLS2!O94,tblMLS2!O262),\"\")","v":""},{"$f":"IF(Turma!A$2=1,IF(VLOOKUP(\"x\",Turma!$B$4:$G$53,3,0)=\"Menina\",tblMLS2!P94,tblMLS2!P262),\"\")","v":""},{"$f":"IF(Turma!A$2=1,IF(VLOOKUP(\"x\",Turma!$B$4:$G$53,3,0)=\"Menina\",tblMLS2!Q94,tblMLS2!Q262),\"\")","v":""},{"$f":"IF(Turma!A$2=1,IF(VLOOKUP(\"x\",Turma!$B$4:$G$53,3,0)=\"Menina\",tblMLS2!S94,tblMLS2!S262),\"\")","v":""},{"$f":"IF(Turma!A$2=1,IF(VLOOKUP(\"x\",Turma!$B$4:$G$53,3,0)=\"Menina\",tblMLS2!U94,tblMLS2!U262),\"\")","v":""}]
[154,"",{"$f":"IF(Turma!A$2=1,IF(VLOOKUP(\"x\",Turma!$B$4:$G$53,3,0)=\"Menina\",tblMLS2!K95,tblMLS2!K263),\"\")","v":""},{"$f":"IF(Turma!A$2=1,IF(VLOOKUP(\"x\",Turma!$B$4:$G$53,3,0)=\"Menina\",tblMLS2!M95,tblMLS2!M263),\"\")","v":""},{"$f":"IF(Turma!A$2=1,IF(VLOOKUP(\"x\",Turma!$B$4:$G$53,3,0)=\"Menina\",tblMLS2!O95,tblMLS2!O263),\"\")","v":""},{"$f":"IF(Turma!A$2=1,IF(VLOOKUP(\"x\",Turma!$B$4:$G$53,3,0)=\"Menina\",tblMLS2!P95,tblMLS2!P263),\"\")","v":""},{"$f":"IF(Turma!A$2=1,IF(VLOOKUP(\"x\",Turma!$B$4:$G$53,3,0)=\"Menina\",tblMLS2!Q95,tblMLS2!Q263),\"\")","v":""},{"$f":"IF(Turma!A$2=1,IF(VLOOKUP(\"x\",Turma!$B$4:$G$53,3,0)=\"Menina\",tblMLS2!S95,tblMLS2!S263),\"\")","v":""},{"$f":"IF(Turma!A$2=1,IF(VLOOKUP(\"x\",Turma!$B$4:$G$53,3,0)=\"Menina\",tblMLS2!U95,tblMLS2!U263),\"\")","v":""}]
[155,"",{"$f":"IF(Turma!A$2=1,IF(VLOOKUP(\"x\",Turma!$B$4:$G$53,3,0)=\"Menina\",tblMLS2!K96,tblMLS2!K264),\"\")","v":""},{"$f":"IF(Turma!A$2=1,IF(VLOOKUP(\"x\",Turma!$B$4:$G$53,3,0)=\"Menina\",tblMLS2!M96,tblMLS2!M264),\"\")","v":""},{"$f":"IF(Turma!A$2=1,IF(VLOOKUP(\"x\",Turma!$B$4:$G$53,3,0)=\"Menina\",tblMLS2!O96,tblMLS2!O264),\"\")","v":""},{"$f":"IF(Turma!A$2=1,IF(VLOOKUP(\"x\",Turma!$B$4:$G$53,3,0)=\"Menina\",tblMLS2!P96,tblMLS2!P264),\"\")","v":""},{"$f":"IF(Turma!A$2=1,IF(VLOOKUP(\"x\",Turma!$B$4:$G$53,3,0)=\"Menina\",tblMLS2!Q96,tblMLS2!Q264),\"\")","v":""},{"$f":"IF(Turma!A$2=1,IF(VLOOKUP(\"x\",Turma!$B$4:$G$53,3,0)=\"Menina\",tblMLS2!S96,tblMLS2!S264),\"\")","v":""},{"$f":"IF(Turma!A$2=1,IF(VLOOKUP(\"x\",Turma!$B$4:$G$53,3,0)=\"Menina\",tblMLS2!U96,tblMLS2!U264),\"\")","v":""}]
[156,13,{"$f":"IF(Turma!A$2=1,IF(VLOOKUP(\"x\",Turma!$B$4:$G$53,3,0)=\"Menina\",tblMLS2!K97,tblMLS2!K265),\"\")","v":""},{"$f":"IF(Turma!A$2=1,IF(VLOOKUP(\"x\",Turma!$B$4:$G$53,3,0)=\"Menina\",tblMLS2!M97,tblMLS2!M265),\"\")","v":""},{"$f":"IF(Turma!A$2=1,IF(VLOOKUP(\"x\",Turma!$B$4:$G$53,3,0)=\"Menina\",tblMLS2!O97,tblMLS2!O265),\"\")","v":""},{"$f":"IF(Turma!A$2=1,IF(VLOOKUP(\"x\",Turma!$B$4:$G$53,3,0)=\"Menina\",tblMLS2!P97,tblMLS2!P265),\"\")","v":""},{"$f":"IF(Turma!A$2=1,IF(VLOOKUP(\"x\",Turma!$B$4:$G$53,3,0)=\"Menina\",tblMLS2!Q97,tblMLS2!Q265),\"\")","v":""},{"$f":"IF(Turma!A$2=1,IF(VLOOKUP(\"x\",Turma!$B$4:$G$53,3,0)=\"Menina\",tblMLS2!S97,tblMLS2!S265),\"\")","v":""},{"$f":"IF(Turma!A$2=1,IF(VLOOKUP(\"x\",Turma!$B$4:$G$53,3,0)=\"Menina\",tblMLS2!U97,tblMLS2!U265),\"\")","v":""}]
[157,"",{"$f":"IF(Turma!A$2=1,IF(VLOOKUP(\"x\",Turma!$B$4:$G$53,3,0)=\"Menina\",tblMLS2!K98,tblMLS2!K266),\"\")","v":""},{"$f":"IF(Turma!A$2=1,IF(VLOOKUP(\"x\",Turma!$B$4:$G$53,3,0)=\"Menina\",tblMLS2!M98,tblMLS2!M266),\"\")","v":""},{"$f":"IF(Turma!A$2=1,IF(VLOOKUP(\"x\",Turma!$B$4:$G$53,3,0)=\"Menina\",tblMLS2!O98,tblMLS2!O266),\"\")","v":""},{"$f":"IF(Turma!A$2=1,IF(VLOOKUP(\"x\",Turma!$B$4:$G$53,3,0)=\"Menina\",tblMLS2!P98,tblMLS2!P266),\"\")","v":""},{"$f":"IF(Turma!A$2=1,IF(VLOOKUP(\"x\",Turma!$B$4:$G$53,3,0)=\"Menina\",tblMLS2!Q98,tblMLS2!Q266),\"\")","v":""},{"$f":"IF(Turma!A$2=1,IF(VLOOKUP(\"x\",Turma!$B$4:$G$53,3,0)=\"Menina\",tblMLS2!S98,tblMLS2!S266),\"\")","v":""},{"$f":"IF(Turma!A$2=1,IF(VLOOKUP(\"x\",Turma!$B$4:$G$53,3,0)=\"Menina\",tblMLS2!U98,tblMLS2!U266),\"\")","v":""}]
[158,"",{"$f":"IF(Turma!A$2=1,IF(VLOOKUP(\"x\",Turma!$B$4:$G$53,3,0)=\"Menina\",tblMLS2!K99,tblMLS2!K267),\"\")","v":""},{"$f":"IF(Turma!A$2=1,IF(VLOOKUP(\"x\",Turma!$B$4:$G$53,3,0)=\"Menina\",tblMLS2!M99,tblMLS2!M267),\"\")","v":""},{"$f":"IF(Turma!A$2=1,IF(VLOOKUP(\"x\",Turma!$B$4:$G$53,3,0)=\"Menina\",tblMLS2!O99,tblMLS2!O267),\"\")","v":""},{"$f":"IF(Turma!A$2=1,IF(VLOOKUP(\"x\",Turma!$B$4:$G$53,3,0)=\"Menina\",tblMLS2!P99,tblMLS2!P267),\"\")","v":""},{"$f":"IF(Turma!A$2=1,IF(VLOOKUP(\"x\",Turma!$B$4:$G$53,3,0)=\"Menina\",tblMLS2!Q99,tblMLS2!Q267),\"\")","v":""},{"$f":"IF(Turma!A$2=1,IF(VLOOKUP(\"x\",Turma!$B$4:$G$53,3,0)=\"Menina\",tblMLS2!S99,tblMLS2!S267),\"\")","v":""},{"$f":"IF(Turma!A$2=1,IF(VLOOKUP(\"x\",Turma!$B$4:$G$53,3,0)=\"Menina\",tblMLS2!U99,tblMLS2!U267),\"\")","v":""}]
[159,"",{"$f":"IF(Turma!A$2=1,IF(VLOOKUP(\"x\",Turma!$B$4:$G$53,3,0)=\"Menina\",tblMLS2!K100,tblMLS2!K268),\"\")","v":""},{"$f":"IF(Turma!A$2=1,IF(VLOOKUP(\"x\",Turma!$B$4:$G$53,3,0)=\"Menina\",tblMLS2!M100,tblMLS2!M268),\"\")","v":""},{"$f":"IF(Turma!A$2=1,IF(VLOOKUP(\"x\",Turma!$B$4:$G$53,3,0)=\"Menina\",tblMLS2!O100,tblMLS2!O268),\"\")","v":""},{"$f":"IF(Turma!A$2=1,IF(VLOOKUP(\"x\",Turma!$B$4:$G$53,3,0)=\"Menina\",tblMLS2!P100,tblMLS2!P268),\"\")","v":""},{"$f":"IF(Turma!A$2=1,IF(VLOOKUP(\"x\",Turma!$B$4:$G$53,3,0)=\"Menina\",tblMLS2!Q100,tblMLS2!Q268),\"\")","v":""},{"$f":"IF(Turma!A$2=1,IF(VLOOKUP(\"x\",Turma!$B$4:$G$53,3,0)=\"Menina\",tblMLS2!S100,tblMLS2!S268),\"\")","v":""},{"$f":"IF(Turma!A$2=1,IF(VLOOKUP(\"x\",Turma!$B$4:$G$53,3,0)=\"Menina\",tblMLS2!U100,tblMLS2!U268),\"\")","v":""}]
[160,"",{"$f":"IF(Turma!A$2=1,IF(VLOOKUP(\"x\",Turma!$B$4:$G$53,3,0)=\"Menina\",tblMLS2!K101,tblMLS2!K269),\"\")","v":""},{"$f":"IF(Turma!A$2=1,IF(VLOOKUP(\"x\",Turma!$B$4:$G$53,3,0)=\"Menina\",tblMLS2!M101,tblMLS2!M269),\"\")","v":""},{"$f":"IF(Turma!A$2=1,IF(VLOOKUP(\"x\",Turma!$B$4:$G$53,3,0)=\"Menina\",tblMLS2!O101,tblMLS2!O269),\"\")","v":""},{"$f":"IF(Turma!A$2=1,IF(VLOOKUP(\"x\",Turma!$B$4:$G$53,3,0)=\"Menina\",tblMLS2!P101,tblMLS2!P269),\"\")","v":""},{"$f":"IF(Turma!A$2=1,IF(VLOOKUP(\"x\",Turma!$B$4:$G$53,3,0)=\"Menina\",tblMLS2!Q101,tblMLS2!Q269),\"\")","v":""},{"$f":"IF(Turma!A$2=1,IF(VLOOKUP(\"x\",Turma!$B$4:$G$53,3,0)=\"Menina\",tblMLS2!S101,tblMLS2!S269),\"\")","v":""},{"$f":"IF(Turma!A$2=1,IF(VLOOKUP(\"x\",Turma!$B$4:$G$53,3,0)=\"Menina\",tblMLS2!U101,tblMLS2!U269),\"\")","v":""}]
[161,"",{"$f":"IF(Turma!A$2=1,IF(VLOOKUP(\"x\",Turma!$B$4:$G$53,3,0)=\"Menina\",tblMLS2!K102,tblMLS2!K270),\"\")","v":""},{"$f":"IF(Turma!A$2=1,IF(VLOOKUP(\"x\",Turma!$B$4:$G$53,3,0)=\"Menina\",tblMLS2!M102,tblMLS2!M270),\"\")","v":""},{"$f":"IF(Turma!A$2=1,IF(VLOOKUP(\"x\",Turma!$B$4:$G$53,3,0)=\"Menina\",tblMLS2!O102,tblMLS2!O270),\"\")","v":""},{"$f":"IF(Turma!A$2=1,IF(VLOOKUP(\"x\",Turma!$B$4:$G$53,3,0)=\"Menina\",tblMLS2!P102,tblMLS2!P270),\"\")","v":""},{"$f":"IF(Turma!A$2=1,IF(VLOOKUP(\"x\",Turma!$B$4:$G$53,3,0)=\"Menina\",tblMLS2!Q102,tblMLS2!Q270),\"\")","v":""},{"$f":"IF(Turma!A$2=1,IF(VLOOKUP(\"x\",Turma!$B$4:$G$53,3,0)=\"Menina\",tblMLS2!S102,tblMLS2!S270),\"\")","v":""},{"$f":"IF(Turma!A$2=1,IF(VLOOKUP(\"x\",Turma!$B$4:$G$53,3,0)=\"Menina\",tblMLS2!U102,tblMLS2!U270),\"\")","v":""}]
[162,"",{"$f":"IF(Turma!A$2=1,IF(VLOOKUP(\"x\",Turma!$B$4:$G$53,3,0)=\"Menina\",tblMLS2!K103,tblMLS2!K271),\"\")","v":""},{"$f":"IF(Turma!A$2=1,IF(VLOOKUP(\"x\",Turma!$B$4:$G$53,3,0)=\"Menina\",tblMLS2!M103,tblMLS2!M271),\"\")","v":""},{"$f":"IF(Turma!A$2=1,IF(VLOOKUP(\"x\",Turma!$B$4:$G$53,3,0)=\"Menina\",tblMLS2!O103,tblMLS2!O271),\"\")","v":""},{"$f":"IF(Turma!A$2=1,IF(VLOOKUP(\"x\",Turma!$B$4:$G$53,3,0)=\"Menina\",tblMLS2!P103,tblMLS2!P271),\"\")","v":""},{"$f":"IF(Turma!A$2=1,IF(VLOOKUP(\"x\",Turma!$B$4:$G$53,3,0)=\"Menina\",tblMLS2!Q103,tblMLS2!Q271),\"\")","v":""},{"$f":"IF(Turma!A$2=1,IF(VLOOKUP(\"x\",Turma!$B$4:$G$53,3,0)=\"Menina\",tblMLS2!S103,tblMLS2!S271),\"\")","v":""},{"$f":"IF(Turma!A$2=1,IF(VLOOKUP(\"x\",Turma!$B$4:$G$53,3,0)=\"Menina\",tblMLS2!U103,tblMLS2!U271),\"\")","v":""}]
[163,"",{"$f":"IF(Turma!A$2=1,IF(VLOOKUP(\"x\",Turma!$B$4:$G$53,3,0)=\"Menina\",tblMLS2!K104,tblMLS2!K272),\"\")","v":""},{"$f":"IF(Turma!A$2=1,IF(VLOOKUP(\"x\",Turma!$B$4:$G$53,3,0)=\"Menina\",tblMLS2!M104,tblMLS2!M272),\"\")","v":""},{"$f":"IF(Turma!A$2=1,IF(VLOOKUP(\"x\",Turma!$B$4:$G$53,3,0)=\"Menina\",tblMLS2!O104,tblMLS2!O272),\"\")","v":""},{"$f":"IF(Turma!A$2=1,IF(VLOOKUP(\"x\",Turma!$B$4:$G$53,3,0)=\"Menina\",tblMLS2!P104,tblMLS2!P272),\"\")","v":""},{"$f":"IF(Turma!A$2=1,IF(VLOOKUP(\"x\",Turma!$B$4:$G$53,3,0)=\"Menina\",tblMLS2!Q104,tblMLS2!Q272),\"\")","v":""},{"$f":"IF(Turma!A$2=1,IF(VLOOKUP(\"x\",Turma!$B$4:$G$53,3,0)=\"Menina\",tblMLS2!S104,tblMLS2!S272),\"\")","v":""},{"$f":"IF(Turma!A$2=1,IF(VLOOKUP(\"x\",Turma!$B$4:$G$53,3,0)=\"Menina\",tblMLS2!U104,tblMLS2!U272),\"\")","v":""}]
[164,"",{"$f":"IF(Turma!A$2=1,IF(VLOOKUP(\"x\",Turma!$B$4:$G$53,3,0)=\"Menina\",tblMLS2!K105,tblMLS2!K273),\"\")","v":""},{"$f":"IF(Turma!A$2=1,IF(VLOOKUP(\"x\",Turma!$B$4:$G$53,3,0)=\"Menina\",tblMLS2!M105,tblMLS2!M273),\"\")","v":""},{"$f":"IF(Turma!A$2=1,IF(VLOOKUP(\"x\",Turma!$B$4:$G$53,3,0)=\"Menina\",tblMLS2!O105,tblMLS2!O273),\"\")","v":""},{"$f":"IF(Turma!A$2=1,IF(VLOOKUP(\"x\",Turma!$B$4:$G$53,3,0)=\"Menina\",tblMLS2!P105,tblMLS2!P273),\"\")","v":""},{"$f":"IF(Turma!A$2=1,IF(VLOOKUP(\"x\",Turma!$B$4:$G$53,3,0)=\"Menina\",tblMLS2!Q105,tblMLS2!Q273),\"\")","v":""},{"$f":"IF(Turma!A$2=1,IF(VLOOKUP(\"x\",Turma!$B$4:$G$53,3,0)=\"Menina\",tblMLS2!S105,tblMLS2!S273),\"\")","v":""},{"$f":"IF(Turma!A$2=1,IF(VLOOKUP(\"x\",Turma!$B$4:$G$53,3,0)=\"Menina\",tblMLS2!U105,tblMLS2!U273),\"\")","v":""}]
[165,"",{"$f":"IF(Turma!A$2=1,IF(VLOOKUP(\"x\",Turma!$B$4:$G$53,3,0)=\"Menina\",tblMLS2!K106,tblMLS2!K274),\"\")","v":""},{"$f":"IF(Turma!A$2=1,IF(VLOOKUP(\"x\",Turma!$B$4:$G$53,3,0)=\"Menina\",tblMLS2!M106,tblMLS2!M274),\"\")","v":""},{"$f":"IF(Turma!A$2=1,IF(VLOOKUP(\"x\",Turma!$B$4:$G$53,3,0)=\"Menina\",tblMLS2!O106,tblMLS2!O274),\"\")","v":""},{"$f":"IF(Turma!A$2=1,IF(VLOOKUP(\"x\",Turma!$B$4:$G$53,3,0)=\"Menina\",tblMLS2!P106,tblMLS2!P274),\"\")","v":""},{"$f":"IF(Turma!A$2=1,IF(VLOOKUP(\"x\",Turma!$B$4:$G$53,3,0)=\"Menina\",tblMLS2!Q106,tblMLS2!Q274),\"\")","v":""},{"$f":"IF(Turma!A$2=1,IF(VLOOKUP(\"x\",Turma!$B$4:$G$53,3,0)=\"Menina\",tblMLS2!S106,tblMLS2!S274),\"\")","v":""},{"$f":"IF(Turma!A$2=1,IF(VLOOKUP(\"x\",Turma!$B$4:$G$53,3,0)=\"Menina\",tblMLS2!U106,tblMLS2!U274),\"\")","v":""}]
[166,"",{"$f":"IF(Turma!A$2=1,IF(VLOOKUP(\"x\",Turma!$B$4:$G$53,3,0)=\"Menina\",tblMLS2!K107,tblMLS2!K275),\"\")","v":""},{"$f":"IF(Turma!A$2=1,IF(VLOOKUP(\"x\",Turma!$B$4:$G$53,3,0)=\"Menina\",tblMLS2!M107,tblMLS2!M275),\"\")","v":""},{"$f":"IF(Turma!A$2=1,IF(VLOOKUP(\"x\",Turma!$B$4:$G$53,3,0)=\"Menina\",tblMLS2!O107,tblMLS2!O275),\"\")","v":""},{"$f":"IF(Turma!A$2=1,IF(VLOOKUP(\"x\",Turma!$B$4:$G$53,3,0)=\"Menina\",tblMLS2!P107,tblMLS2!P275),\"\")","v":""},{"$f":"IF(Turma!A$2=1,IF(VLOOKUP(\"x\",Turma!$B$4:$G$53,3,0)=\"Menina\",tblMLS2!Q107,tblMLS2!Q275),\"\")","v":""},{"$f":"IF(Turma!A$2=1,IF(VLOOKUP(\"x\",Turma!$B$4:$G$53,3,0)=\"Menina\",tblMLS2!S107,tblMLS2!S275),\"\")","v":""},{"$f":"IF(Turma!A$2=1,IF(VLOOKUP(\"x\",Turma!$B$4:$G$53,3,0)=\"Menina\",tblMLS2!U107,tblMLS2!U275),\"\")","v":""}]
[167,"",{"$f":"IF(Turma!A$2=1,IF(VLOOKUP(\"x\",Turma!$B$4:$G$53,3,0)=\"Menina\",tblMLS2!K108,tblMLS2!K276),\"\")","v":""},{"$f":"IF(Turma!A$2=1,IF(VLOOKUP(\"x\",Turma!$B$4:$G$53,3,0)=\"Menina\",tblMLS2!M108,tblMLS2!M276),\"\")","v":""},{"$f":"IF(Turma!A$2=1,IF(VLOOKUP(\"x\",Turma!$B$4:$G$53,3,0)=\"Menina\",tblMLS2!O108,tblMLS2!O276),\"\")","v":""},{"$f":"IF(Turma!A$2=1,IF(VLOOKUP(\"x\",Turma!$B$4:$G$53,3,0)=\"Menina\",tblMLS2!P108,tblMLS2!P276),\"\")","v":""},{"$f":"IF(Turma!A$2=1,IF(VLOOKUP(\"x\",Turma!$B$4:$G$53,3,0)=\"Menina\",tblMLS2!Q108,tblMLS2!Q276),\"\")","v":""},{"$f":"IF(Turma!A$2=1,IF(VLOOKUP(\"x\",Turma!$B$4:$G$53,3,0)=\"Menina\",tblMLS2!S108,tblMLS2!S276),\"\")","v":""},{"$f":"IF(Turma!A$2=1,IF(VLOOKUP(\"x\",Turma!$B$4:$G$53,3,0)=\"Menina\",tblMLS2!U108,tblMLS2!U276),\"\")","v":""}]
[168,14,{"$f":"IF(Turma!A$2=1,IF(VLOOKUP(\"x\",Turma!$B$4:$G$53,3,0)=\"Menina\",tblMLS2!K109,tblMLS2!K277),\"\")","v":""},{"$f":"IF(Turma!A$2=1,IF(VLOOKUP(\"x\",Turma!$B$4:$G$53,3,0)=\"Menina\",tblMLS2!M109,tblMLS2!M277),\"\")","v":""},{"$f":"IF(Turma!A$2=1,IF(VLOOKUP(\"x\",Turma!$B$4:$G$53,3,0)=\"Menina\",tblMLS2!O109,tblMLS2!O277),\"\")","v":""},{"$f":"IF(Turma!A$2=1,IF(VLOOKUP(\"x\",Turma!$B$4:$G$53,3,0)=\"Menina\",tblMLS2!P109,tblMLS2!P277),\"\")","v":""},{"$f":"IF(Turma!A$2=1,IF(VLOOKUP(\"x\",Turma!$B$4:$G$53,3,0)=\"Menina\",tblMLS2!Q109,tblMLS2!Q277),\"\")","v":""},{"$f":"IF(Turma!A$2=1,IF(VLOOKUP(\"x\",Turma!$B$4:$G$53,3,0)=\"Menina\",tblMLS2!S109,tblMLS2!S277),\"\")","v":""},{"$f":"IF(Turma!A$2=1,IF(VLOOKUP(\"x\",Turma!$B$4:$G$53,3,0)=\"Menina\",tblMLS2!U109,tblMLS2!U277),\"\")","v":""}]
[169,"",{"$f":"IF(Turma!A$2=1,IF(VLOOKUP(\"x\",Turma!$B$4:$G$53,3,0)=\"Menina\",tblMLS2!K110,tblMLS2!K278),\"\")","v":""},{"$f":"IF(Turma!A$2=1,IF(VLOOKUP(\"x\",Turma!$B$4:$G$53,3,0)=\"Menina\",tblMLS2!M110,tblMLS2!M278),\"\")","v":""},{"$f":"IF(Turma!A$2=1,IF(VLOOKUP(\"x\",Turma!$B$4:$G$53,3,0)=\"Menina\",tblMLS2!O110,tblMLS2!O278),\"\")","v":""},{"$f":"IF(Turma!A$2=1,IF(VLOOKUP(\"x\",Turma!$B$4:$G$53,3,0)=\"Menina\",tblMLS2!P110,tblMLS2!P278),\"\")","v":""},{"$f":"IF(Turma!A$2=1,IF(VLOOKUP(\"x\",Turma!$B$4:$G$53,3,0)=\"Menina\",tblMLS2!Q110,tblMLS2!Q278),\"\")","v":""},{"$f":"IF(Turma!A$2=1,IF(VLOOKUP(\"x\",Turma!$B$4:$G$53,3,0)=\"Menina\",tblMLS2!S110,tblMLS2!S278),\"\")","v":""},{"$f":"IF(Turma!A$2=1,IF(VLOOKUP(\"x\",Turma!$B$4:$G$53,3,0)=\"Menina\",tblMLS2!U110,tblMLS2!U278),\"\")","v":""}]
[170,"",{"$f":"IF(Turma!A$2=1,IF(VLOOKUP(\"x\",Turma!$B$4:$G$53,3,0)=\"Menina\",tblMLS2!K111,tblMLS2!K279),\"\")","v":""},{"$f":"IF(Turma!A$2=1,IF(VLOOKUP(\"x\",Turma!$B$4:$G$53,3,0)=\"Menina\",tblMLS2!M111,tblMLS2!M279),\"\")","v":""},{"$f":"IF(Turma!A$2=1,IF(VLOOKUP(\"x\",Turma!$B$4:$G$53,3,0)=\"Menina\",tblMLS2!O111,tblMLS2!O279),\"\")","v":""},{"$f":"IF(Turma!A$2=1,IF(VLOOKUP(\"x\",Turma!$B$4:$G$53,3,0)=\"Menina\",tblMLS2!P111,tblMLS2!P279),\"\")","v":""},{"$f":"IF(Turma!A$2=1,IF(VLOOKUP(\"x\",Turma!$B$4:$G$53,3,0)=\"Menina\",tblMLS2!Q111,tblMLS2!Q279),\"\")","v":""},{"$f":"IF(Turma!A$2=1,IF(VLOOKUP(\"x\",Turma!$B$4:$G$53,3,0)=\"Menina\",tblMLS2!S111,tblMLS2!S279),\"\")","v":""},{"$f":"IF(Turma!A$2=1,IF(VLOOKUP(\"x\",Turma!$B$4:$G$53,3,0)=\"Menina\",tblMLS2!U111,tblMLS2!U279),\"\")","v":""}]
[171,"",{"$f":"IF(Turma!A$2=1,IF(VLOOKUP(\"x\",Turma!$B$4:$G$53,3,0)=\"Menina\",tblMLS2!K112,tblMLS2!K280),\"\")","v":""},{"$f":"IF(Turma!A$2=1,IF(VLOOKUP(\"x\",Turma!$B$4:$G$53,3,0)=\"Menina\",tblMLS2!M112,tblMLS2!M280),\"\")","v":""},{"$f":"IF(Turma!A$2=1,IF(VLOOKUP(\"x\",Turma!$B$4:$G$53,3,0)=\"Menina\",tblMLS2!O112,tblMLS2!O280),\"\")","v":""},{"$f":"IF(Turma!A$2=1,IF(VLOOKUP(\"x\",Turma!$B$4:$G$53,3,0)=\"Menina\",tblMLS2!P112,tblMLS2!P280),\"\")","v":""},{"$f":"IF(Turma!A$2=1,IF(VLOOKUP(\"x\",Turma!$B$4:$G$53,3,0)=\"Menina\",tblMLS2!Q112,tblMLS2!Q280),\"\")","v":""},{"$f":"IF(Turma!A$2=1,IF(VLOOKUP(\"x\",Turma!$B$4:$G$53,3,0)=\"Menina\",tblMLS2!S112,tblMLS2!S280),\"\")","v":""},{"$f":"IF(Turma!A$2=1,IF(VLOOKUP(\"x\",Turma!$B$4:$G$53,3,0)=\"Menina\",tblMLS2!U112,tblMLS2!U280),\"\")","v":""}]
[172,"",{"$f":"IF(Turma!A$2=1,IF(VLOOKUP(\"x\",Turma!$B$4:$G$53,3,0)=\"Menina\",tblMLS2!K113,tblMLS2!K281),\"\")","v":""},{"$f":"IF(Turma!A$2=1,IF(VLOOKUP(\"x\",Turma!$B$4:$G$53,3,0)=\"Menina\",tblMLS2!M113,tblMLS2!M281),\"\")","v":""},{"$f":"IF(Turma!A$2=1,IF(VLOOKUP(\"x\",Turma!$B$4:$G$53,3,0)=\"Menina\",tblMLS2!O113,tblMLS2!O281),\"\")","v":""},{"$f":"IF(Turma!A$2=1,IF(VLOOKUP(\"x\",Turma!$B$4:$G$53,3,0)=\"Menina\",tblMLS2!P113,tblMLS2!P281),\"\")","v":""},{"$f":"IF(Turma!A$2=1,IF(VLOOKUP(\"x\",Turma!$B$4:$G$53,3,0)=\"Menina\",tblMLS2!Q113,tblMLS2!Q281),\"\")","v":""},{"$f":"IF(Turma!A$2=1,IF(VLOOKUP(\"x\",Turma!$B$4:$G$53,3,0)=\"Menina\",tblMLS2!S113,tblMLS2!S281),\"\")","v":""},{"$f":"IF(Turma!A$2=1,IF(VLOOKUP(\"x\",Turma!$B$4:$G$53,3,0)=\"Menina\",tblMLS2!U113,tblMLS2!U281),\"\")","v":""}]
[173,"",{"$f":"IF(Turma!A$2=1,IF(VLOOKUP(\"x\",Turma!$B$4:$G$53,3,0)=\"Menina\",tblMLS2!K114,tblMLS2!K282),\"\")","v":""},{"$f":"IF(Turma!A$2=1,IF(VLOOKUP(\"x\",Turma!$B$4:$G$53,3,0)=\"Menina\",tblMLS2!M114,tblMLS2!M282),\"\")","v":""},{"$f":"IF(Turma!A$2=1,IF(VLOOKUP(\"x\",Turma!$B$4:$G$53,3,0)=\"Menina\",tblMLS2!O114,tblMLS2!O282),\"\")","v":""},{"$f":"IF(Turma!A$2=1,IF(VLOOKUP(\"x\",Turma!$B$4:$G$53,3,0)=\"Menina\",tblMLS2!P114,tblMLS2!P282),\"\")","v":""},{"$f":"IF(Turma!A$2=1,IF(VLOOKUP(\"x\",Turma!$B$4:$G$53,3,0)=\"Menina\",tblMLS2!Q114,tblMLS2!Q282),\"\")","v":""},{"$f":"IF(Turma!A$2=1,IF(VLOOKUP(\"x\",Turma!$B$4:$G$53,3,0)=\"Menina\",tblMLS2!S114,tblMLS2!S282),\"\")","v":""},{"$f":"IF(Turma!A$2=1,IF(VLOOKUP(\"x\",Turma!$B$4:$G$53,3,0)=\"Menina\",tblMLS2!U114,tblMLS2!U282),\"\")","v":""}]
[174,"",{"$f":"IF(Turma!A$2=1,IF(VLOOKUP(\"x\",Turma!$B$4:$G$53,3,0)=\"Menina\",tblMLS2!K115,tblMLS2!K283),\"\")","v":""},{"$f":"IF(Turma!A$2=1,IF(VLOOKUP(\"x\",Turma!$B$4:$G$53,3,0)=\"Menina\",tblMLS2!M115,tblMLS2!M283),\"\")","v":""},{"$f":"IF(Turma!A$2=1,IF(VLOOKUP(\"x\",Turma!$B$4:$G$53,3,0)=\"Menina\",tblMLS2!O115,tblMLS2!O283),\"\")","v":""},{"$f":"IF(Turma!A$2=1,IF(VLOOKUP(\"x\",Turma!$B$4:$G$53,3,0)=\"Menina\",tblMLS2!P115,tblMLS2!P283),\"\")","v":""},{"$f":"IF(Turma!A$2=1,IF(VLOOKUP(\"x\",Turma!$B$4:$G$53,3,0)=\"Menina\",tblMLS2!Q115,tblMLS2!Q283),\"\")","v":""},{"$f":"IF(Turma!A$2=1,IF(VLOOKUP(\"x\",Turma!$B$4:$G$53,3,0)=\"Menina\",tblMLS2!S115,tblMLS2!S283),\"\")","v":""},{"$f":"IF(Turma!A$2=1,IF(VLOOKUP(\"x\",Turma!$B$4:$G$53,3,0)=\"Menina\",tblMLS2!U115,tblMLS2!U283),\"\")","v":""}]
[175,"",{"$f":"IF(Turma!A$2=1,IF(VLOOKUP(\"x\",Turma!$B$4:$G$53,3,0)=\"Menina\",tblMLS2!K116,tblMLS2!K284),\"\")","v":""},{"$f":"IF(Turma!A$2=1,IF(VLOOKUP(\"x\",Turma!$B$4:$G$53,3,0)=\"Menina\",tblMLS2!M116,tblMLS2!M284),\"\")","v":""},{"$f":"IF(Turma!A$2=1,IF(VLOOKUP(\"x\",Turma!$B$4:$G$53,3,0)=\"Menina\",tblMLS2!O116,tblMLS2!O284),\"\")","v":""},{"$f":"IF(Turma!A$2=1,IF(VLOOKUP(\"x\",Turma!$B$4:$G$53,3,0)=\"Menina\",tblMLS2!P116,tblMLS2!P284),\"\")","v":""},{"$f":"IF(Turma!A$2=1,IF(VLOOKUP(\"x\",Turma!$B$4:$G$53,3,0)=\"Menina\",tblMLS2!Q116,tblMLS2!Q284),\"\")","v":""},{"$f":"IF(Turma!A$2=1,IF(VLOOKUP(\"x\",Turma!$B$4:$G$53,3,0)=\"Menina\",tblMLS2!S116,tblMLS2!S284),\"\")","v":""},{"$f":"IF(Turma!A$2=1,IF(VLOOKUP(\"x\",Turma!$B$4:$G$53,3,0)=\"Menina\",tblMLS2!U116,tblMLS2!U284),\"\")","v":""}]
[176,"",{"$f":"IF(Turma!A$2=1,IF(VLOOKUP(\"x\",Turma!$B$4:$G$53,3,0)=\"Menina\",tblMLS2!K117,tblMLS2!K285),\"\")","v":""},{"$f":"IF(Turma!A$2=1,IF(VLOOKUP(\"x\",Turma!$B$4:$G$53,3,0)=\"Menina\",tblMLS2!M117,tblMLS2!M285),\"\")","v":""},{"$f":"IF(Turma!A$2=1,IF(VLOOKUP(\"x\",Turma!$B$4:$G$53,3,0)=\"Menina\",tblMLS2!O117,tblMLS2!O285),\"\")","v":""},{"$f":"IF(Turma!A$2=1,IF(VLOOKUP(\"x\",Turma!$B$4:$G$53,3,0)=\"Menina\",tblMLS2!P117,tblMLS2!P285),\"\")","v":""},{"$f":"IF(Turma!A$2=1,IF(VLOOKUP(\"x\",Turma!$B$4:$G$53,3,0)=\"Menina\",tblMLS2!Q117,tblMLS2!Q285),\"\")","v":""},{"$f":"IF(Turma!A$2=1,IF(VLOOKUP(\"x\",Turma!$B$4:$G$53,3,0)=\"Menina\",tblMLS2!S117,tblMLS2!S285),\"\")","v":""},{"$f":"IF(Turma!A$2=1,IF(VLOOKUP(\"x\",Turma!$B$4:$G$53,3,0)=\"Menina\",tblMLS2!U117,tblMLS2!U285),\"\")","v":""}]
[177,"",{"$f":"IF(Turma!A$2=1,IF(VLOOKUP(\"x\",Turma!$B$4:$G$53,3,0)=\"Menina\",tblMLS2!K118,tblMLS2!K286),\"\")","v":""},{"$f":"IF(Turma!A$2=1,IF(VLOOKUP(\"x\",Turma!$B$4:$G$53,3,0)=\"Menina\",tblMLS2!M118,tblMLS2!M286),\"\")","v":""},{"$f":"IF(Turma!A$2=1,IF(VLOOKUP(\"x\",Turma!$B$4:$G$53,3,0)=\"Menina\",tblMLS2!O118,tblMLS2!O286),\"\")","v":""},{"$f":"IF(Turma!A$2=1,IF(VLOOKUP(\"x\",Turma!$B$4:$G$53,3,0)=\"Menina\",tblMLS2!P118,tblMLS2!P286),\"\")","v":""},{"$f":"IF(Turma!A$2=1,IF(VLOOKUP(\"x\",Turma!$B$4:$G$53,3,0)=\"Menina\",tblMLS2!Q118,tblMLS2!Q286),\"\")","v":""},{"$f":"IF(Turma!A$2=1,IF(VLOOKUP(\"x\",Turma!$B$4:$G$53,3,0)=\"Menina\",tblMLS2!S118,tblMLS2!S286),\"\")","v":""},{"$f":"IF(Turma!A$2=1,IF(VLOOKUP(\"x\",Turma!$B$4:$G$53,3,0)=\"Menina\",tblMLS2!U118,tblMLS2!U286),\"\")","v":""}]
[178,"",{"$f":"IF(Turma!A$2=1,IF(VLOOKUP(\"x\",Turma!$B$4:$G$53,3,0)=\"Menina\",tblMLS2!K119,tblMLS2!K287),\"\")","v":""},{"$f":"IF(Turma!A$2=1,IF(VLOOKUP(\"x\",Turma!$B$4:$G$53,3,0)=\"Menina\",tblMLS2!M119,tblMLS2!M287),\"\")","v":""},{"$f":"IF(Turma!A$2=1,IF(VLOOKUP(\"x\",Turma!$B$4:$G$53,3,0)=\"Menina\",tblMLS2!O119,tblMLS2!O287),\"\")","v":""},{"$f":"IF(Turma!A$2=1,IF(VLOOKUP(\"x\",Turma!$B$4:$G$53,3,0)=\"Menina\",tblMLS2!P119,tblMLS2!P287),\"\")","v":""},{"$f":"IF(Turma!A$2=1,IF(VLOOKUP(\"x\",Turma!$B$4:$G$53,3,0)=\"Menina\",tblMLS2!Q119,tblMLS2!Q287),\"\")","v":""},{"$f":"IF(Turma!A$2=1,IF(VLOOKUP(\"x\",Turma!$B$4:$G$53,3,0)=\"Menina\",tblMLS2!S119,tblMLS2!S287),\"\")","v":""},{"$f":"IF(Turma!A$2=1,IF(VLOOKUP(\"x\",Turma!$B$4:$G$53,3,0)=\"Menina\",tblMLS2!U119,tblMLS2!U287),\"\")","v":""}]
[179,"",{"$f":"IF(Turma!A$2=1,IF(VLOOKUP(\"x\",Turma!$B$4:$G$53,3,0)=\"Menina\",tblMLS2!K120,tblMLS2!K288),\"\")","v":""},{"$f":"IF(Turma!A$2=1,IF(VLOOKUP(\"x\",Turma!$B$4:$G$53,3,0)=\"Menina\",tblMLS2!M120,tblMLS2!M288),\"\")","v":""},{"$f":"IF(Turma!A$2=1,IF(VLOOKUP(\"x\",Turma!$B$4:$G$53,3,0)=\"Menina\",tblMLS2!O120,tblMLS2!O288),\"\")","v":""},{"$f":"IF(Turma!A$2=1,IF(VLOOKUP(\"x\",Turma!$B$4:$G$53,3,0)=\"Menina\",tblMLS2!P120,tblMLS2!P288),\"\")","v":""},{"$f":"IF(Turma!A$2=1,IF(VLOOKUP(\"x\",Turma!$B$4:$G$53,3,0)=\"Menina\",tblMLS2!Q120,tblMLS2!Q288),\"\")","v":""},{"$f":"IF(Turma!A$2=1,IF(VLOOKUP(\"x\",Turma!$B$4:$G$53,3,0)=\"Menina\",tblMLS2!S120,tblMLS2!S288),\"\")","v":""},{"$f":"IF(Turma!A$2=1,IF(VLOOKUP(\"x\",Turma!$B$4:$G$53,3,0)=\"Menina\",tblMLS2!U120,tblMLS2!U288),\"\")","v":""}]
[180,15,{"$f":"IF(Turma!A$2=1,IF(VLOOKUP(\"x\",Turma!$B$4:$G$53,3,0)=\"Menina\",tblMLS2!K121,tblMLS2!K289),\"\")","v":""},{"$f":"IF(Turma!A$2=1,IF(VLOOKUP(\"x\",Turma!$B$4:$G$53,3,0)=\"Menina\",tblMLS2!M121,tblMLS2!M289),\"\")","v":""},{"$f":"IF(Turma!A$2=1,IF(VLOOKUP(\"x\",Turma!$B$4:$G$53,3,0)=\"Menina\",tblMLS2!O121,tblMLS2!O289),\"\")","v":""},{"$f":"IF(Turma!A$2=1,IF(VLOOKUP(\"x\",Turma!$B$4:$G$53,3,0)=\"Menina\",tblMLS2!P121,tblMLS2!P289),\"\")","v":""},{"$f":"IF(Turma!A$2=1,IF(VLOOKUP(\"x\",Turma!$B$4:$G$53,3,0)=\"Menina\",tblMLS2!Q121,tblMLS2!Q289),\"\")","v":""},{"$f":"IF(Turma!A$2=1,IF(VLOOKUP(\"x\",Turma!$B$4:$G$53,3,0)=\"Menina\",tblMLS2!S121,tblMLS2!S289),\"\")","v":""},{"$f":"IF(Turma!A$2=1,IF(VLOOKUP(\"x\",Turma!$B$4:$G$53,3,0)=\"Menina\",tblMLS2!U121,tblMLS2!U289),\"\")","v":""}]
[181,"",{"$f":"IF(Turma!A$2=1,IF(VLOOKUP(\"x\",Turma!$B$4:$G$53,3,0)=\"Menina\",tblMLS2!K122,tblMLS2!K290),\"\")","v":""},{"$f":"IF(Turma!A$2=1,IF(VLOOKUP(\"x\",Turma!$B$4:$G$53,3,0)=\"Menina\",tblMLS2!M122,tblMLS2!M290),\"\")","v":""},{"$f":"IF(Turma!A$2=1,IF(VLOOKUP(\"x\",Turma!$B$4:$G$53,3,0)=\"Menina\",tblMLS2!O122,tblMLS2!O290),\"\")","v":""},{"$f":"IF(Turma!A$2=1,IF(VLOOKUP(\"x\",Turma!$B$4:$G$53,3,0)=\"Menina\",tblMLS2!P122,tblMLS2!P290),\"\")","v":""},{"$f":"IF(Turma!A$2=1,IF(VLOOKUP(\"x\",Turma!$B$4:$G$53,3,0)=\"Menina\",tblMLS2!Q122,tblMLS2!Q290),\"\")","v":""},{"$f":"IF(Turma!A$2=1,IF(VLOOKUP(\"x\",Turma!$B$4:$G$53,3,0)=\"Menina\",tblMLS2!S122,tblMLS2!S290),\"\")","v":""},{"$f":"IF(Turma!A$2=1,IF(VLOOKUP(\"x\",Turma!$B$4:$G$53,3,0)=\"Menina\",tblMLS2!U122,tblMLS2!U290),\"\")","v":""}]
[182,"",{"$f":"IF(Turma!A$2=1,IF(VLOOKUP(\"x\",Turma!$B$4:$G$53,3,0)=\"Menina\",tblMLS2!K123,tblMLS2!K291),\"\")","v":""},{"$f":"IF(Turma!A$2=1,IF(VLOOKUP(\"x\",Turma!$B$4:$G$53,3,0)=\"Menina\",tblMLS2!M123,tblMLS2!M291),\"\")","v":""},{"$f":"IF(Turma!A$2=1,IF(VLOOKUP(\"x\",Turma!$B$4:$G$53,3,0)=\"Menina\",tblMLS2!O123,tblMLS2!O291),\"\")","v":""},{"$f":"IF(Turma!A$2=1,IF(VLOOKUP(\"x\",Turma!$B$4:$G$53,3,0)=\"Menina\",tblMLS2!P123,tblMLS2!P291),\"\")","v":""},{"$f":"IF(Turma!A$2=1,IF(VLOOKUP(\"x\",Turma!$B$4:$G$53,3,0)=\"Menina\",tblMLS2!Q123,tblMLS2!Q291),\"\")","v":""},{"$f":"IF(Turma!A$2=1,IF(VLOOKUP(\"x\",Turma!$B$4:$G$53,3,0)=\"Menina\",tblMLS2!S123,tblMLS2!S291),\"\")","v":""},{"$f":"IF(Turma!A$2=1,IF(VLOOKUP(\"x\",Turma!$B$4:$G$53,3,0)=\"Menina\",tblMLS2!U123,tblMLS2!U291),\"\")","v":""}]
[183,"",{"$f":"IF(Turma!A$2=1,IF(VLOOKUP(\"x\",Turma!$B$4:$G$53,3,0)=\"Menina\",tblMLS2!K124,tblMLS2!K292),\"\")","v":""},{"$f":"IF(Turma!A$2=1,IF(VLOOKUP(\"x\",Turma!$B$4:$G$53,3,0)=\"Menina\",tblMLS2!M124,tblMLS2!M292),\"\")","v":""},{"$f":"IF(Turma!A$2=1,IF(VLOOKUP(\"x\",Turma!$B$4:$G$53,3,0)=\"Menina\",tblMLS2!O124,tblMLS2!O292),\"\")","v":""},{"$f":"IF(Turma!A$2=1,IF(VLOOKUP(\"x\",Turma!$B$4:$G$53,3,0)=\"Menina\",tblMLS2!P124,tblMLS2!P292),\"\")","v":""},{"$f":"IF(Turma!A$2=1,IF(VLOOKUP(\"x\",Turma!$B$4:$G$53,3,0)=\"Menina\",tblMLS2!Q124,tblMLS2!Q292),\"\")","v":""},{"$f":"IF(Turma!A$2=1,IF(VLOOKUP(\"x\",Turma!$B$4:$G$53,3,0)=\"Menina\",tblMLS2!S124,tblMLS2!S292),\"\")","v":""},{"$f":"IF(Turma!A$2=1,IF(VLOOKUP(\"x\",Turma!$B$4:$G$53,3,0)=\"Menina\",tblMLS2!U124,tblMLS2!U292),\"\")","v":""}]
[184,"",{"$f":"IF(Turma!A$2=1,IF(VLOOKUP(\"x\",Turma!$B$4:$G$53,3,0)=\"Menina\",tblMLS2!K125,tblMLS2!K293),\"\")","v":""},{"$f":"IF(Turma!A$2=1,IF(VLOOKUP(\"x\",Turma!$B$4:$G$53,3,0)=\"Menina\",tblMLS2!M125,tblMLS2!M293),\"\")","v":""},{"$f":"IF(Turma!A$2=1,IF(VLOOKUP(\"x\",Turma!$B$4:$G$53,3,0)=\"Menina\",tblMLS2!O125,tblMLS2!O293),\"\")","v":""},{"$f":"IF(Turma!A$2=1,IF(VLOOKUP(\"x\",Turma!$B$4:$G$53,3,0)=\"Menina\",tblMLS2!P125,tblMLS2!P293),\"\")","v":""},{"$f":"IF(Turma!A$2=1,IF(VLOOKUP(\"x\",Turma!$B$4:$G$53,3,0)=\"Menina\",tblMLS2!Q125,tblMLS2!Q293),\"\")","v":""},{"$f":"IF(Turma!A$2=1,IF(VLOOKUP(\"x\",Turma!$B$4:$G$53,3,0)=\"Menina\",tblMLS2!S125,tblMLS2!S293),\"\")","v":""},{"$f":"IF(Turma!A$2=1,IF(VLOOKUP(\"x\",Turma!$B$4:$G$53,3,0)=\"Menina\",tblMLS2!U125,tblMLS2!U293),\"\")","v":""}]
[185,"",{"$f":"IF(Turma!A$2=1,IF(VLOOKUP(\"x\",Turma!$B$4:$G$53,3,0)=\"Menina\",tblMLS2!K126,tblMLS2!K294),\"\")","v":""},{"$f":"IF(Turma!A$2=1,IF(VLOOKUP(\"x\",Turma!$B$4:$G$53,3,0)=\"Menina\",tblMLS2!M126,tblMLS2!M294),\"\")","v":""},{"$f":"IF(Turma!A$2=1,IF(VLOOKUP(\"x\",Turma!$B$4:$G$53,3,0)=\"Menina\",tblMLS2!O126,tblMLS2!O294),\"\")","v":""},{"$f":"IF(Turma!A$2=1,IF(VLOOKUP(\"x\",Turma!$B$4:$G$53,3,0)=\"Menina\",tblMLS2!P126,tblMLS2!P294),\"\")","v":""},{"$f":"IF(Turma!A$2=1,IF(VLOOKUP(\"x\",Turma!$B$4:$G$53,3,0)=\"Menina\",tblMLS2!Q126,tblMLS2!Q294),\"\")","v":""},{"$f":"IF(Turma!A$2=1,IF(VLOOKUP(\"x\",Turma!$B$4:$G$53,3,0)=\"Menina\",tblMLS2!S126,tblMLS2!S294),\"\")","v":""},{"$f":"IF(Turma!A$2=1,IF(VLOOKUP(\"x\",Turma!$B$4:$G$53,3,0)=\"Menina\",tblMLS2!U126,tblMLS2!U294),\"\")","v":""}]
[186,"",{"$f":"IF(Turma!A$2=1,IF(VLOOKUP(\"x\",Turma!$B$4:$G$53,3,0)=\"Menina\",tblMLS2!K127,tblMLS2!K295),\"\")","v":""},{"$f":"IF(Turma!A$2=1,IF(VLOOKUP(\"x\",Turma!$B$4:$G$53,3,0)=\"Menina\",tblMLS2!M127,tblMLS2!M295),\"\")","v":""},{"$f":"IF(Turma!A$2=1,IF(VLOOKUP(\"x\",Turma!$B$4:$G$53,3,0)=\"Menina\",tblMLS2!O127,tblMLS2!O295),\"\")","v":""},{"$f":"IF(Turma!A$2=1,IF(VLOOKUP(\"x\",Turma!$B$4:$G$53,3,0)=\"Menina\",tblMLS2!P127,tblMLS2!P295),\"\")","v":""},{"$f":"IF(Turma!A$2=1,IF(VLOOKUP(\"x\",Turma!$B$4:$G$53,3,0)=\"Menina\",tblMLS2!Q127,tblMLS2!Q295),\"\")","v":""},{"$f":"IF(Turma!A$2=1,IF(VLOOKUP(\"x\",Turma!$B$4:$G$53,3,0)=\"Menina\",tblMLS2!S127,tblMLS2!S295),\"\")","v":""},{"$f":"IF(Turma!A$2=1,IF(VLOOKUP(\"x\",Turma!$B$4:$G$53,3,0)=\"Menina\",tblMLS2!U127,tblMLS2!U295),\"\")","v":""}]
[187,"",{"$f":"IF(Turma!A$2=1,IF(VLOOKUP(\"x\",Turma!$B$4:$G$53,3,0)=\"Menina\",tblMLS2!K128,tblMLS2!K296),\"\")","v":""},{"$f":"IF(Turma!A$2=1,IF(VLOOKUP(\"x\",Turma!$B$4:$G$53,3,0)=\"Menina\",tblMLS2!M128,tblMLS2!M296),\"\")","v":""},{"$f":"IF(Turma!A$2=1,IF(VLOOKUP(\"x\",Turma!$B$4:$G$53,3,0)=\"Menina\",tblMLS2!O128,tblMLS2!O296),\"\")","v":""},{"$f":"IF(Turma!A$2=1,IF(VLOOKUP(\"x\",Turma!$B$4:$G$53,3,0)=\"Menina\",tblMLS2!P128,tblMLS2!P296),\"\")","v":""},{"$f":"IF(Turma!A$2=1,IF(VLOOKUP(\"x\",Turma!$B$4:$G$53,3,0)=\"Menina\",tblMLS2!Q128,tblMLS2!Q296),\"\")","v":""},{"$f":"IF(Turma!A$2=1,IF(VLOOKUP(\"x\",Turma!$B$4:$G$53,3,0)=\"Menina\",tblMLS2!S128,tblMLS2!S296),\"\")","v":""},{"$f":"IF(Turma!A$2=1,IF(VLOOKUP(\"x\",Turma!$B$4:$G$53,3,0)=\"Menina\",tblMLS2!U128,tblMLS2!U296),\"\")","v":""}]
[188,"",{"$f":"IF(Turma!A$2=1,IF(VLOOKUP(\"x\",Turma!$B$4:$G$53,3,0)=\"Menina\",tblMLS2!K129,tblMLS2!K297),\"\")","v":""},{"$f":"IF(Turma!A$2=1,IF(VLOOKUP(\"x\",Turma!$B$4:$G$53,3,0)=\"Menina\",tblMLS2!M129,tblMLS2!M297),\"\")","v":""},{"$f":"IF(Turma!A$2=1,IF(VLOOKUP(\"x\",Turma!$B$4:$G$53,3,0)=\"Menina\",tblMLS2!O129,tblMLS2!O297),\"\")","v":""},{"$f":"IF(Turma!A$2=1,IF(VLOOKUP(\"x\",Turma!$B$4:$G$53,3,0)=\"Menina\",tblMLS2!P129,tblMLS2!P297),\"\")","v":""},{"$f":"IF(Turma!A$2=1,IF(VLOOKUP(\"x\",Turma!$B$4:$G$53,3,0)=\"Menina\",tblMLS2!Q129,tblMLS2!Q297),\"\")","v":""},{"$f":"IF(Turma!A$2=1,IF(VLOOKUP(\"x\",Turma!$B$4:$G$53,3,0)=\"Menina\",tblMLS2!S129,tblMLS2!S297),\"\")","v":""},{"$f":"IF(Turma!A$2=1,IF(VLOOKUP(\"x\",Turma!$B$4:$G$53,3,0)=\"Menina\",tblMLS2!U129,tblMLS2!U297),\"\")","v":""}]
[189,{"$f":"IF(A131/12=INT(A131/12),A131/12,\"\")","v":""},{"$f":"IF(Turma!A$2=1,IF(VLOOKUP(\"x\",Turma!$B$4:$G$53,3,0)=\"Menina\",tblMLS2!K130,tblMLS2!K298),\"\")","v":""},{"$f":"IF(Turma!A$2=1,IF(VLOOKUP(\"x\",Turma!$B$4:$G$53,3,0)=\"Menina\",tblMLS2!M130,tblMLS2!M298),\"\")","v":""},{"$f":"IF(Turma!A$2=1,IF(VLOOKUP(\"x\",Turma!$B$4:$G$53,3,0)=\"Menina\",tblMLS2!O130,tblMLS2!O298),\"\")","v":""},{"$f":"IF(Turma!A$2=1,IF(VLOOKUP(\"x\",Turma!$B$4:$G$53,3,0)=\"Menina\",tblMLS2!P130,tblMLS2!P298),\"\")","v":""},{"$f":"IF(Turma!A$2=1,IF(VLOOKUP(\"x\",Turma!$B$4:$G$53,3,0)=\"Menina\",tblMLS2!Q130,tblMLS2!Q298),\"\")","v":""},{"$f":"IF(Turma!A$2=1,IF(VLOOKUP(\"x\",Turma!$B$4:$G$53,3,0)=\"Menina\",tblMLS2!S130,tblMLS2!S298),\"\")","v":""},{"$f":"IF(Turma!A$2=1,IF(VLOOKUP(\"x\",Turma!$B$4:$G$53,3,0)=\"Menina\",tblMLS2!U130,tblMLS2!U298),\"\")","v":""}]
[190,"",{"$f":"IF(Turma!A$2=1,IF(VLOOKUP(\"x\",Turma!$B$4:$G$53,3,0)=\"Menina\",tblMLS2!K131,tblMLS2!K299),\"\")","v":""},{"$f":"IF(Turma!A$2=1,IF(VLOOKUP(\"x\",Turma!$B$4:$G$53,3,0)=\"Menina\",tblMLS2!M131,tblMLS2!M299),\"\")","v":""},{"$f":"IF(Turma!A$2=1,IF(VLOOKUP(\"x\",Turma!$B$4:$G$53,3,0)=\"Menina\",tblMLS2!O131,tblMLS2!O299),\"\")","v":""},{"$f":"IF(Turma!A$2=1,IF(VLOOKUP(\"x\",Turma!$B$4:$G$53,3,0)=\"Menina\",tblMLS2!P131,tblMLS2!P299),\"\")","v":""},{"$f":"IF(Turma!A$2=1,IF(VLOOKUP(\"x\",Turma!$B$4:$G$53,3,0)=\"Menina\",tblMLS2!Q131,tblMLS2!Q299),\"\")","v":""},{"$f":"IF(Turma!A$2=1,IF(VLOOKUP(\"x\",Turma!$B$4:$G$53,3,0)=\"Menina\",tblMLS2!S131,tblMLS2!S299),\"\")","v":""},{"$f":"IF(Turma!A$2=1,IF(VLOOKUP(\"x\",Turma!$B$4:$G$53,3,0)=\"Menina\",tblMLS2!U131,tblMLS2!U299),\"\")","v":""}]
[191,"",{"$f":"IF(Turma!A$2=1,IF(VLOOKUP(\"x\",Turma!$B$4:$G$53,3,0)=\"Menina\",tblMLS2!K132,tblMLS2!K300),\"\")","v":""},{"$f":"IF(Turma!A$2=1,IF(VLOOKUP(\"x\",Turma!$B$4:$G$53,3,0)=\"Menina\",tblMLS2!M132,tblMLS2!M300),\"\")","v":""},{"$f":"IF(Turma!A$2=1,IF(VLOOKUP(\"x\",Turma!$B$4:$G$53,3,0)=\"Menina\",tblMLS2!O132,tblMLS2!O300),\"\")","v":""},{"$f":"IF(Turma!A$2=1,IF(VLOOKUP(\"x\",Turma!$B$4:$G$53,3,0)=\"Menina\",tblMLS2!P132,tblMLS2!P300),\"\")","v":""},{"$f":"IF(Turma!A$2=1,IF(VLOOKUP(\"x\",Turma!$B$4:$G$53,3,0)=\"Menina\",tblMLS2!Q132,tblMLS2!Q300),\"\")","v":""},{"$f":"IF(Turma!A$2=1,IF(VLOOKUP(\"x\",Turma!$B$4:$G$53,3,0)=\"Menina\",tblMLS2!S132,tblMLS2!S300),\"\")","v":""},{"$f":"IF(Turma!A$2=1,IF(VLOOKUP(\"x\",Turma!$B$4:$G$53,3,0)=\"Menina\",tblMLS2!U132,tblMLS2!U300),\"\")","v":""}]
[192,16,{"$f":"IF(Turma!A$2=1,IF(VLOOKUP(\"x\",Turma!$B$4:$G$53,3,0)=\"Menina\",tblMLS2!K133,tblMLS2!K301),\"\")","v":""},{"$f":"IF(Turma!A$2=1,IF(VLOOKUP(\"x\",Turma!$B$4:$G$53,3,0)=\"Menina\",tblMLS2!M133,tblMLS2!M301),\"\")","v":""},{"$f":"IF(Turma!A$2=1,IF(VLOOKUP(\"x\",Turma!$B$4:$G$53,3,0)=\"Menina\",tblMLS2!O133,tblMLS2!O301),\"\")","v":""},{"$f":"IF(Turma!A$2=1,IF(VLOOKUP(\"x\",Turma!$B$4:$G$53,3,0)=\"Menina\",tblMLS2!P133,tblMLS2!P301),\"\")","v":""},{"$f":"IF(Turma!A$2=1,IF(VLOOKUP(\"x\",Turma!$B$4:$G$53,3,0)=\"Menina\",tblMLS2!Q133,tblMLS2!Q301),\"\")","v":""},{"$f":"IF(Turma!A$2=1,IF(VLOOKUP(\"x\",Turma!$B$4:$G$53,3,0)=\"Menina\",tblMLS2!S133,tblMLS2!S301),\"\")","v":""},{"$f":"IF(Turma!A$2=1,IF(VLOOKUP(\"x\",Turma!$B$4:$G$53,3,0)=\"Menina\",tblMLS2!U133,tblMLS2!U301),\"\")","v":""}]
[193,"",{"$f":"IF(Turma!A$2=1,IF(VLOOKUP(\"x\",Turma!$B$4:$G$53,3,0)=\"Menina\",tblMLS2!K134,tblMLS2!K302),\"\")","v":""},{"$f":"IF(Turma!A$2=1,IF(VLOOKUP(\"x\",Turma!$B$4:$G$53,3,0)=\"Menina\",tblMLS2!M134,tblMLS2!M302),\"\")","v":""},{"$f":"IF(Turma!A$2=1,IF(VLOOKUP(\"x\",Turma!$B$4:$G$53,3,0)=\"Menina\",tblMLS2!O134,tblMLS2!O302),\"\")","v":""},{"$f":"IF(Turma!A$2=1,IF(VLOOKUP(\"x\",Turma!$B$4:$G$53,3,0)=\"Menina\",tblMLS2!P134,tblMLS2!P302),\"\")","v":""},{"$f":"IF(Turma!A$2=1,IF(VLOOKUP(\"x\",Turma!$B$4:$G$53,3,0)=\"Menina\",tblMLS2!Q134,tblMLS2!Q302),\"\")","v":""},{"$f":"IF(Turma!A$2=1,IF(VLOOKUP(\"x\",Turma!$B$4:$G$53,3,0)=\"Menina\",tblMLS2!S134,tblMLS2!S302),\"\")","v":""},{"$f":"IF(Turma!A$2=1,IF(VLOOKUP(\"x\",Turma!$B$4:$G$53,3,0)=\"Menina\",tblMLS2!U134,tblMLS2!U302),\"\")","v":""}]
[194,"",{"$f":"IF(Turma!A$2=1,IF(VLOOKUP(\"x\",Turma!$B$4:$G$53,3,0)=\"Menina\",tblMLS2!K135,tblMLS2!K303),\"\")","v":""},{"$f":"IF(Turma!A$2=1,IF(VLOOKUP(\"x\",Turma!$B$4:$G$53,3,0)=\"Menina\",tblMLS2!M135,tblMLS2!M303),\"\")","v":""},{"$f":"IF(Turma!A$2=1,IF(VLOOKUP(\"x\",Turma!$B$4:$G$53,3,0)=\"Menina\",tblMLS2!O135,tblMLS2!O303),\"\")","v":""},{"$f":"IF(Turma!A$2=1,IF(VLOOKUP(\"x\",Turma!$B$4:$G$53,3,0)=\"Menina\",tblMLS2!P135,tblMLS2!P303),\"\")","v":""},{"$f":"IF(Turma!A$2=1,IF(VLOOKUP(\"x\",Turma!$B$4:$G$53,3,0)=\"Menina\",tblMLS2!Q135,tblMLS2!Q303),\"\")","v":""},{"$f":"IF(Turma!A$2=1,IF(VLOOKUP(\"x\",Turma!$B$4:$G$53,3,0)=\"Menina\",tblMLS2!S135,tblMLS2!S303),\"\")","v":""},{"$f":"IF(Turma!A$2=1,IF(VLOOKUP(\"x\",Turma!$B$4:$G$53,3,0)=\"Menina\",tblMLS2!U135,tblMLS2!U303),\"\")","v":""}]
[195,"",{"$f":"IF(Turma!A$2=1,IF(VLOOKUP(\"x\",Turma!$B$4:$G$53,3,0)=\"Menina\",tblMLS2!K136,tblMLS2!K304),\"\")","v":""},{"$f":"IF(Turma!A$2=1,IF(VLOOKUP(\"x\",Turma!$B$4:$G$53,3,0)=\"Menina\",tblMLS2!M136,tblMLS2!M304),\"\")","v":""},{"$f":"IF(Turma!A$2=1,IF(VLOOKUP(\"x\",Turma!$B$4:$G$53,3,0)=\"Menina\",tblMLS2!O136,tblMLS2!O304),\"\")","v":""},{"$f":"IF(Turma!A$2=1,IF(VLOOKUP(\"x\",Turma!$B$4:$G$53,3,0)=\"Menina\",tblMLS2!P136,tblMLS2!P304),\"\")","v":""},{"$f":"IF(Turma!A$2=1,IF(VLOOKUP(\"x\",Turma!$B$4:$G$53,3,0)=\"Menina\",tblMLS2!Q136,tblMLS2!Q304),\"\")","v":""},{"$f":"IF(Turma!A$2=1,IF(VLOOKUP(\"x\",Turma!$B$4:$G$53,3,0)=\"Menina\",tblMLS2!S136,tblMLS2!S304),\"\")","v":""},{"$f":"IF(Turma!A$2=1,IF(VLOOKUP(\"x\",Turma!$B$4:$G$53,3,0)=\"Menina\",tblMLS2!U136,tblMLS2!U304),\"\")","v":""}]
[196,"",{"$f":"IF(Turma!A$2=1,IF(VLOOKUP(\"x\",Turma!$B$4:$G$53,3,0)=\"Menina\",tblMLS2!K137,tblMLS2!K305),\"\")","v":""},{"$f":"IF(Turma!A$2=1,IF(VLOOKUP(\"x\",Turma!$B$4:$G$53,3,0)=\"Menina\",tblMLS2!M137,tblMLS2!M305),\"\")","v":""},{"$f":"IF(Turma!A$2=1,IF(VLOOKUP(\"x\",Turma!$B$4:$G$53,3,0)=\"Menina\",tblMLS2!O137,tblMLS2!O305),\"\")","v":""},{"$f":"IF(Turma!A$2=1,IF(VLOOKUP(\"x\",Turma!$B$4:$G$53,3,0)=\"Menina\",tblMLS2!P137,tblMLS2!P305),\"\")","v":""},{"$f":"IF(Turma!A$2=1,IF(VLOOKUP(\"x\",Turma!$B$4:$G$53,3,0)=\"Menina\",tblMLS2!Q137,tblMLS2!Q305),\"\")","v":""},{"$f":"IF(Turma!A$2=1,IF(VLOOKUP(\"x\",Turma!$B$4:$G$53,3,0)=\"Menina\",tblMLS2!S137,tblMLS2!S305),\"\")","v":""},{"$f":"IF(Turma!A$2=1,IF(VLOOKUP(\"x\",Turma!$B$4:$G$53,3,0)=\"Menina\",tblMLS2!U137,tblMLS2!U305),\"\")","v":""}]
[197,"",{"$f":"IF(Turma!A$2=1,IF(VLOOKUP(\"x\",Turma!$B$4:$G$53,3,0)=\"Menina\",tblMLS2!K138,tblMLS2!K306),\"\")","v":""},{"$f":"IF(Turma!A$2=1,IF(VLOOKUP(\"x\",Turma!$B$4:$G$53,3,0)=\"Menina\",tblMLS2!M138,tblMLS2!M306),\"\")","v":""},{"$f":"IF(Turma!A$2=1,IF(VLOOKUP(\"x\",Turma!$B$4:$G$53,3,0)=\"Menina\",tblMLS2!O138,tblMLS2!O306),\"\")","v":""},{"$f":"IF(Turma!A$2=1,IF(VLOOKUP(\"x\",Turma!$B$4:$G$53,3,0)=\"Menina\",tblMLS2!P138,tblMLS2!P306),\"\")","v":""},{"$f":"IF(Turma!A$2=1,IF(VLOOKUP(\"x\",Turma!$B$4:$G$53,3,0)=\"Menina\",tblMLS2!Q138,tblMLS2!Q306),\"\")","v":""},{"$f":"IF(Turma!A$2=1,IF(VLOOKUP(\"x\",Turma!$B$4:$G$53,3,0)=\"Menina\",tblMLS2!S138,tblMLS2!S306),\"\")","v":""},{"$f":"IF(Turma!A$2=1,IF(VLOOKUP(\"x\",Turma!$B$4:$G$53,3,0)=\"Menina\",tblMLS2!U138,tblMLS2!U306),\"\")","v":""}]
[198,"",{"$f":"IF(Turma!A$2=1,IF(VLOOKUP(\"x\",Turma!$B$4:$G$53,3,0)=\"Menina\",tblMLS2!K139,tblMLS2!K307),\"\")","v":""},{"$f":"IF(Turma!A$2=1,IF(VLOOKUP(\"x\",Turma!$B$4:$G$53,3,0)=\"Menina\",tblMLS2!M139,tblMLS2!M307),\"\")","v":""},{"$f":"IF(Turma!A$2=1,IF(VLOOKUP(\"x\",Turma!$B$4:$G$53,3,0)=\"Menina\",tblMLS2!O139,tblMLS2!O307),\"\")","v":""},{"$f":"IF(Turma!A$2=1,IF(VLOOKUP(\"x\",Turma!$B$4:$G$53,3,0)=\"Menina\",tblMLS2!P139,tblMLS2!P307),\"\")","v":""},{"$f":"IF(Turma!A$2=1,IF(VLOOKUP(\"x\",Turma!$B$4:$G$53,3,0)=\"Menina\",tblMLS2!Q139,tblMLS2!Q307),\"\")","v":""},{"$f":"IF(Turma!A$2=1,IF(VLOOKUP(\"x\",Turma!$B$4:$G$53,3,0)=\"Menina\",tblMLS2!S139,tblMLS2!S307),\"\")","v":""},{"$f":"IF(Turma!A$2=1,IF(VLOOKUP(\"x\",Turma!$B$4:$G$53,3,0)=\"Menina\",tblMLS2!U139,tblMLS2!U307),\"\")","v":""}]
[199,"",{"$f":"IF(Turma!A$2=1,IF(VLOOKUP(\"x\",Turma!$B$4:$G$53,3,0)=\"Menina\",tblMLS2!K140,tblMLS2!K308),\"\")","v":""},{"$f":"IF(Turma!A$2=1,IF(VLOOKUP(\"x\",Turma!$B$4:$G$53,3,0)=\"Menina\",tblMLS2!M140,tblMLS2!M308),\"\")","v":""},{"$f":"IF(Turma!A$2=1,IF(VLOOKUP(\"x\",Turma!$B$4:$G$53,3,0)=\"Menina\",tblMLS2!O140,tblMLS2!O308),\"\")","v":""},{"$f":"IF(Turma!A$2=1,IF(VLOOKUP(\"x\",Turma!$B$4:$G$53,3,0)=\"Menina\",tblMLS2!P140,tblMLS2!P308),\"\")","v":""},{"$f":"IF(Turma!A$2=1,IF(VLOOKUP(\"x\",Turma!$B$4:$G$53,3,0)=\"Menina\",tblMLS2!Q140,tblMLS2!Q308),\"\")","v":""},{"$f":"IF(Turma!A$2=1,IF(VLOOKUP(\"x\",Turma!$B$4:$G$53,3,0)=\"Menina\",tblMLS2!S140,tblMLS2!S308),\"\")","v":""},{"$f":"IF(Turma!A$2=1,IF(VLOOKUP(\"x\",Turma!$B$4:$G$53,3,0)=\"Menina\",tblMLS2!U140,tblMLS2!U308),\"\")","v":""}]
[200,"",{"$f":"IF(Turma!A$2=1,IF(VLOOKUP(\"x\",Turma!$B$4:$G$53,3,0)=\"Menina\",tblMLS2!K141,tblMLS2!K309),\"\")","v":""},{"$f":"IF(Turma!A$2=1,IF(VLOOKUP(\"x\",Turma!$B$4:$G$53,3,0)=\"Menina\",tblMLS2!M141,tblMLS2!M309),\"\")","v":""},{"$f":"IF(Turma!A$2=1,IF(VLOOKUP(\"x\",Turma!$B$4:$G$53,3,0)=\"Menina\",tblMLS2!O141,tblMLS2!O309),\"\")","v":""},{"$f":"IF(Turma!A$2=1,IF(VLOOKUP(\"x\",Turma!$B$4:$G$53,3,0)=\"Menina\",tblMLS2!P141,tblMLS2!P309),\"\")","v":""},{"$f":"IF(Turma!A$2=1,IF(VLOOKUP(\"x\",Turma!$B$4:$G$53,3,0)=\"Menina\",tblMLS2!Q141,tblMLS2!Q309),\"\")","v":""},{"$f":"IF(Turma!A$2=1,IF(VLOOKUP(\"x\",Turma!$B$4:$G$53,3,0)=\"Menina\",tblMLS2!S141,tblMLS2!S309),\"\")","v":""},{"$f":"IF(Turma!A$2=1,IF(VLOOKUP(\"x\",Turma!$B$4:$G$53,3,0)=\"Menina\",tblMLS2!U141,tblMLS2!U309),\"\")","v":""}]
[201,"",{"$f":"IF(Turma!A$2=1,IF(VLOOKUP(\"x\",Turma!$B$4:$G$53,3,0)=\"Menina\",tblMLS2!K142,tblMLS2!K310),\"\")","v":""},{"$f":"IF(Turma!A$2=1,IF(VLOOKUP(\"x\",Turma!$B$4:$G$53,3,0)=\"Menina\",tblMLS2!M142,tblMLS2!M310),\"\")","v":""},{"$f":"IF(Turma!A$2=1,IF(VLOOKUP(\"x\",Turma!$B$4:$G$53,3,0)=\"Menina\",tblMLS2!O142,tblMLS2!O310),\"\")","v":""},{"$f":"IF(Turma!A$2=1,IF(VLOOKUP(\"x\",Turma!$B$4:$G$53,3,0)=\"Menina\",tblMLS2!P142,tblMLS2!P310),\"\")","v":""},{"$f":"IF(Turma!A$2=1,IF(VLOOKUP(\"x\",Turma!$B$4:$G$53,3,0)=\"Menina\",tblMLS2!Q142,tblMLS2!Q310),\"\")","v":""},{"$f":"IF(Turma!A$2=1,IF(VLOOKUP(\"x\",Turma!$B$4:$G$53,3,0)=\"Menina\",tblMLS2!S142,tblMLS2!S310),\"\")","v":""},{"$f":"IF(Turma!A$2=1,IF(VLOOKUP(\"x\",Turma!$B$4:$G$53,3,0)=\"Menina\",tblMLS2!U142,tblMLS2!U310),\"\")","v":""}]
[202,"",{"$f":"IF(Turma!A$2=1,IF(VLOOKUP(\"x\",Turma!$B$4:$G$53,3,0)=\"Menina\",tblMLS2!K143,tblMLS2!K311),\"\")","v":""},{"$f":"IF(Turma!A$2=1,IF(VLOOKUP(\"x\",Turma!$B$4:$G$53,3,0)=\"Menina\",tblMLS2!M143,tblMLS2!M311),\"\")","v":""},{"$f":"IF(Turma!A$2=1,IF(VLOOKUP(\"x\",Turma!$B$4:$G$53,3,0)=\"Menina\",tblMLS2!O143,tblMLS2!O311),\"\")","v":""},{"$f":"IF(Turma!A$2=1,IF(VLOOKUP(\"x\",Turma!$B$4:$G$53,3,0)=\"Menina\",tblMLS2!P143,tblMLS2!P311),\"\")","v":""},{"$f":"IF(Turma!A$2=1,IF(VLOOKUP(\"x\",Turma!$B$4:$G$53,3,0)=\"Menina\",tblMLS2!Q143,tblMLS2!Q311),\"\")","v":""},{"$f":"IF(Turma!A$2=1,IF(VLOOKUP(\"x\",Turma!$B$4:$G$53,3,0)=\"Menina\",tblMLS2!S143,tblMLS2!S311),\"\")","v":""},{"$f":"IF(Turma!A$2=1,IF(VLOOKUP(\"x\",Turma!$B$4:$G$53,3,0)=\"Menina\",tblMLS2!U143,tblMLS2!U311),\"\")","v":""}]
[203,"",{"$f":"IF(Turma!A$2=1,IF(VLOOKUP(\"x\",Turma!$B$4:$G$53,3,0)=\"Menina\",tblMLS2!K144,tblMLS2!K312),\"\")","v":""},{"$f":"IF(Turma!A$2=1,IF(VLOOKUP(\"x\",Turma!$B$4:$G$53,3,0)=\"Menina\",tblMLS2!M144,tblMLS2!M312),\"\")","v":""},{"$f":"IF(Turma!A$2=1,IF(VLOOKUP(\"x\",Turma!$B$4:$G$53,3,0)=\"Menina\",tblMLS2!O144,tblMLS2!O312),\"\")","v":""},{"$f":"IF(Turma!A$2=1,IF(VLOOKUP(\"x\",Turma!$B$4:$G$53,3,0)=\"Menina\",tblMLS2!P144,tblMLS2!P312),\"\")","v":""},{"$f":"IF(Turma!A$2=1,IF(VLOOKUP(\"x\",Turma!$B$4:$G$53,3,0)=\"Menina\",tblMLS2!Q144,tblMLS2!Q312),\"\")","v":""},{"$f":"IF(Turma!A$2=1,IF(VLOOKUP(\"x\",Turma!$B$4:$G$53,3,0)=\"Menina\",tblMLS2!S144,tblMLS2!S312),\"\")","v":""},{"$f":"IF(Turma!A$2=1,IF(VLOOKUP(\"x\",Turma!$B$4:$G$53,3,0)=\"Menina\",tblMLS2!U144,tblMLS2!U312),\"\")","v":""}]
[204,17,{"$f":"IF(Turma!A$2=1,IF(VLOOKUP(\"x\",Turma!$B$4:$G$53,3,0)=\"Menina\",tblMLS2!K145,tblMLS2!K313),\"\")","v":""},{"$f":"IF(Turma!A$2=1,IF(VLOOKUP(\"x\",Turma!$B$4:$G$53,3,0)=\"Menina\",tblMLS2!M145,tblMLS2!M313),\"\")","v":""},{"$f":"IF(Turma!A$2=1,IF(VLOOKUP(\"x\",Turma!$B$4:$G$53,3,0)=\"Menina\",tblMLS2!O145,tblMLS2!O313),\"\")","v":""},{"$f":"IF(Turma!A$2=1,IF(VLOOKUP(\"x\",Turma!$B$4:$G$53,3,0)=\"Menina\",tblMLS2!P145,tblMLS2!P313),\"\")","v":""},{"$f":"IF(Turma!A$2=1,IF(VLOOKUP(\"x\",Turma!$B$4:$G$53,3,0)=\"Menina\",tblMLS2!Q145,tblMLS2!Q313),\"\")","v":""},{"$f":"IF(Turma!A$2=1,IF(VLOOKUP(\"x\",Turma!$B$4:$G$53,3,0)=\"Menina\",tblMLS2!S145,tblMLS2!S313),\"\")","v":""},{"$f":"IF(Turma!A$2=1,IF(VLOOKUP(\"x\",Turma!$B$4:$G$53,3,0)=\"Menina\",tblMLS2!U145,tblMLS2!U313),\"\")","v":""}]
[205,"",{"$f":"IF(Turma!A$2=1,IF(VLOOKUP(\"x\",Turma!$B$4:$G$53,3,0)=\"Menina\",tblMLS2!K146,tblMLS2!K314),\"\")","v":""},{"$f":"IF(Turma!A$2=1,IF(VLOOKUP(\"x\",Turma!$B$4:$G$53,3,0)=\"Menina\",tblMLS2!M146,tblMLS2!M314),\"\")","v":""},{"$f":"IF(Turma!A$2=1,IF(VLOOKUP(\"x\",Turma!$B$4:$G$53,3,0)=\"Menina\",tblMLS2!O146,tblMLS2!O314),\"\")","v":""},{"$f":"IF(Turma!A$2=1,IF(VLOOKUP(\"x\",Turma!$B$4:$G$53,3,0)=\"Menina\",tblMLS2!P146,tblMLS2!P314),\"\")","v":""},{"$f":"IF(Turma!A$2=1,IF(VLOOKUP(\"x\",Turma!$B$4:$G$53,3,0)=\"Menina\",tblMLS2!Q146,tblMLS2!Q314),\"\")","v":""},{"$f":"IF(Turma!A$2=1,IF(VLOOKUP(\"x\",Turma!$B$4:$G$53,3,0)=\"Menina\",tblMLS2!S146,tblMLS2!S314),\"\")","v":""},{"$f":"IF(Turma!A$2=1,IF(VLOOKUP(\"x\",Turma!$B$4:$G$53,3,0)=\"Menina\",tblMLS2!U146,tblMLS2!U314),\"\")","v":""}]
[206,"",{"$f":"IF(Turma!A$2=1,IF(VLOOKUP(\"x\",Turma!$B$4:$G$53,3,0)=\"Menina\",tblMLS2!K147,tblMLS2!K315),\"\")","v":""},{"$f":"IF(Turma!A$2=1,IF(VLOOKUP(\"x\",Turma!$B$4:$G$53,3,0)=\"Menina\",tblMLS2!M147,tblMLS2!M315),\"\")","v":""},{"$f":"IF(Turma!A$2=1,IF(VLOOKUP(\"x\",Turma!$B$4:$G$53,3,0)=\"Menina\",tblMLS2!O147,tblMLS2!O315),\"\")","v":""},{"$f":"IF(Turma!A$2=1,IF(VLOOKUP(\"x\",Turma!$B$4:$G$53,3,0)=\"Menina\",tblMLS2!P147,tblMLS2!P315),\"\")","v":""},{"$f":"IF(Turma!A$2=1,IF(VLOOKUP(\"x\",Turma!$B$4:$G$53,3,0)=\"Menina\",tblMLS2!Q147,tblMLS2!Q315),\"\")","v":""},{"$f":"IF(Turma!A$2=1,IF(VLOOKUP(\"x\",Turma!$B$4:$G$53,3,0)=\"Menina\",tblMLS2!S147,tblMLS2!S315),\"\")","v":""},{"$f":"IF(Turma!A$2=1,IF(VLOOKUP(\"x\",Turma!$B$4:$G$53,3,0)=\"Menina\",tblMLS2!U147,tblMLS2!U315),\"\")","v":""}]
[207,"",{"$f":"IF(Turma!A$2=1,IF(VLOOKUP(\"x\",Turma!$B$4:$G$53,3,0)=\"Menina\",tblMLS2!K148,tblMLS2!K316),\"\")","v":""},{"$f":"IF(Turma!A$2=1,IF(VLOOKUP(\"x\",Turma!$B$4:$G$53,3,0)=\"Menina\",tblMLS2!M148,tblMLS2!M316),\"\")","v":""},{"$f":"IF(Turma!A$2=1,IF(VLOOKUP(\"x\",Turma!$B$4:$G$53,3,0)=\"Menina\",tblMLS2!O148,tblMLS2!O316),\"\")","v":""},{"$f":"IF(Turma!A$2=1,IF(VLOOKUP(\"x\",Turma!$B$4:$G$53,3,0)=\"Menina\",tblMLS2!P148,tblMLS2!P316),\"\")","v":""},{"$f":"IF(Turma!A$2=1,IF(VLOOKUP(\"x\",Turma!$B$4:$G$53,3,0)=\"Menina\",tblMLS2!Q148,tblMLS2!Q316),\"\")","v":""},{"$f":"IF(Turma!A$2=1,IF(VLOOKUP(\"x\",Turma!$B$4:$G$53,3,0)=\"Menina\",tblMLS2!S148,tblMLS2!S316),\"\")","v":""},{"$f":"IF(Turma!A$2=1,IF(VLOOKUP(\"x\",Turma!$B$4:$G$53,3,0)=\"Menina\",tblMLS2!U148,tblMLS2!U316),\"\")","v":""}]
[208,"",{"$f":"IF(Turma!A$2=1,IF(VLOOKUP(\"x\",Turma!$B$4:$G$53,3,0)=\"Menina\",tblMLS2!K149,tblMLS2!K317),\"\")","v":""},{"$f":"IF(Turma!A$2=1,IF(VLOOKUP(\"x\",Turma!$B$4:$G$53,3,0)=\"Menina\",tblMLS2!M149,tblMLS2!M317),\"\")","v":""},{"$f":"IF(Turma!A$2=1,IF(VLOOKUP(\"x\",Turma!$B$4:$G$53,3,0)=\"Menina\",tblMLS2!O149,tblMLS2!O317),\"\")","v":""},{"$f":"IF(Turma!A$2=1,IF(VLOOKUP(\"x\",Turma!$B$4:$G$53,3,0)=\"Menina\",tblMLS2!P149,tblMLS2!P317),\"\")","v":""},{"$f":"IF(Turma!A$2=1,IF(VLOOKUP(\"x\",Turma!$B$4:$G$53,3,0)=\"Menina\",tblMLS2!Q149,tblMLS2!Q317),\"\")","v":""},{"$f":"IF(Turma!A$2=1,IF(VLOOKUP(\"x\",Turma!$B$4:$G$53,3,0)=\"Menina\",tblMLS2!S149,tblMLS2!S317),\"\")","v":""},{"$f":"IF(Turma!A$2=1,IF(VLOOKUP(\"x\",Turma!$B$4:$G$53,3,0)=\"Menina\",tblMLS2!U149,tblMLS2!U317),\"\")","v":""}]
[209,"",{"$f":"IF(Turma!A$2=1,IF(VLOOKUP(\"x\",Turma!$B$4:$G$53,3,0)=\"Menina\",tblMLS2!K150,tblMLS2!K318),\"\")","v":""},{"$f":"IF(Turma!A$2=1,IF(VLOOKUP(\"x\",Turma!$B$4:$G$53,3,0)=\"Menina\",tblMLS2!M150,tblMLS2!M318),\"\")","v":""},{"$f":"IF(Turma!A$2=1,IF(VLOOKUP(\"x\",Turma!$B$4:$G$53,3,0)=\"Menina\",tblMLS2!O150,tblMLS2!O318),\"\")","v":""},{"$f":"IF(Turma!A$2=1,IF(VLOOKUP(\"x\",Turma!$B$4:$G$53,3,0)=\"Menina\",tblMLS2!P150,tblMLS2!P318),\"\")","v":""},{"$f":"IF(Turma!A$2=1,IF(VLOOKUP(\"x\",Turma!$B$4:$G$53,3,0)=\"Menina\",tblMLS2!Q150,tblMLS2!Q318),\"\")","v":""},{"$f":"IF(Turma!A$2=1,IF(VLOOKUP(\"x\",Turma!$B$4:$G$53,3,0)=\"Menina\",tblMLS2!S150,tblMLS2!S318),\"\")","v":""},{"$f":"IF(Turma!A$2=1,IF(VLOOKUP(\"x\",Turma!$B$4:$G$53,3,0)=\"Menina\",tblMLS2!U150,tblMLS2!U318),\"\")","v":""}]
[210,"",{"$f":"IF(Turma!A$2=1,IF(VLOOKUP(\"x\",Turma!$B$4:$G$53,3,0)=\"Menina\",tblMLS2!K151,tblMLS2!K319),\"\")","v":""},{"$f":"IF(Turma!A$2=1,IF(VLOOKUP(\"x\",Turma!$B$4:$G$53,3,0)=\"Menina\",tblMLS2!M151,tblMLS2!M319),\"\")","v":""},{"$f":"IF(Turma!A$2=1,IF(VLOOKUP(\"x\",Turma!$B$4:$G$53,3,0)=\"Menina\",tblMLS2!O151,tblMLS2!O319),\"\")","v":""},{"$f":"IF(Turma!A$2=1,IF(VLOOKUP(\"x\",Turma!$B$4:$G$53,3,0)=\"Menina\",tblMLS2!P151,tblMLS2!P319),\"\")","v":""},{"$f":"IF(Turma!A$2=1,IF(VLOOKUP(\"x\",Turma!$B$4:$G$53,3,0)=\"Menina\",tblMLS2!Q151,tblMLS2!Q319),\"\")","v":""},{"$f":"IF(Turma!A$2=1,IF(VLOOKUP(\"x\",Turma!$B$4:$G$53,3,0)=\"Menina\",tblMLS2!S151,tblMLS2!S319),\"\")","v":""},{"$f":"IF(Turma!A$2=1,IF(VLOOKUP(\"x\",Turma!$B$4:$G$53,3,0)=\"Menina\",tblMLS2!U151,tblMLS2!U319),\"\")","v":""}]
[211,"",{"$f":"IF(Turma!A$2=1,IF(VLOOKUP(\"x\",Turma!$B$4:$G$53,3,0)=\"Menina\",tblMLS2!K152,tblMLS2!K320),\"\")","v":""},{"$f":"IF(Turma!A$2=1,IF(VLOOKUP(\"x\",Turma!$B$4:$G$53,3,0)=\"Menina\",tblMLS2!M152,tblMLS2!M320),\"\")","v":""},{"$f":"IF(Turma!A$2=1,IF(VLOOKUP(\"x\",Turma!$B$4:$G$53,3,0)=\"Menina\",tblMLS2!O152,tblMLS2!O320),\"\")","v":""},{"$f":"IF(Turma!A$2=1,IF(VLOOKUP(\"x\",Turma!$B$4:$G$53,3,0)=\"Menina\",tblMLS2!P152,tblMLS2!P320),\"\")","v":""},{"$f":"IF(Turma!A$2=1,IF(VLOOKUP(\"x\",Turma!$B$4:$G$53,3,0)=\"Menina\",tblMLS2!Q152,tblMLS2!Q320),\"\")","v":""},{"$f":"IF(Turma!A$2=1,IF(VLOOKUP(\"x\",Turma!$B$4:$G$53,3,0)=\"Menina\",tblMLS2!S152,tblMLS2!S320),\"\")","v":""},{"$f":"IF(Turma!A$2=1,IF(VLOOKUP(\"x\",Turma!$B$4:$G$53,3,0)=\"Menina\",tblMLS2!U152,tblMLS2!U320),\"\")","v":""}]
[212,"",{"$f":"IF(Turma!A$2=1,IF(VLOOKUP(\"x\",Turma!$B$4:$G$53,3,0)=\"Menina\",tblMLS2!K153,tblMLS2!K321),\"\")","v":""},{"$f":"IF(Turma!A$2=1,IF(VLOOKUP(\"x\",Turma!$B$4:$G$53,3,0)=\"Menina\",tblMLS2!M153,tblMLS2!M321),\"\")","v":""},{"$f":"IF(Turma!A$2=1,IF(VLOOKUP(\"x\",Turma!$B$4:$G$53,3,0)=\"Menina\",tblMLS2!O153,tblMLS2!O321),\"\")","v":""},{"$f":"IF(Turma!A$2=1,IF(VLOOKUP(\"x\",Turma!$B$4:$G$53,3,0)=\"Menina\",tblMLS2!P153,tblMLS2!P321),\"\")","v":""},{"$f":"IF(Turma!A$2=1,IF(VLOOKUP(\"x\",Turma!$B$4:$G$53,3,0)=\"Menina\",tblMLS2!Q153,tblMLS2!Q321),\"\")","v":""},{"$f":"IF(Turma!A$2=1,IF(VLOOKUP(\"x\",Turma!$B$4:$G$53,3,0)=\"Menina\",tblMLS2!S153,tblMLS2!S321),\"\")","v":""},{"$f":"IF(Turma!A$2=1,IF(VLOOKUP(\"x\",Turma!$B$4:$G$53,3,0)=\"Menina\",tblMLS2!U153,tblMLS2!U321),\"\")","v":""}]
[213,"",{"$f":"IF(Turma!A$2=1,IF(VLOOKUP(\"x\",Turma!$B$4:$G$53,3,0)=\"Menina\",tblMLS2!K154,tblMLS2!K322),\"\")","v":""},{"$f":"IF(Turma!A$2=1,IF(VLOOKUP(\"x\",Turma!$B$4:$G$53,3,0)=\"Menina\",tblMLS2!M154,tblMLS2!M322),\"\")","v":""},{"$f":"IF(Turma!A$2=1,IF(VLOOKUP(\"x\",Turma!$B$4:$G$53,3,0)=\"Menina\",tblMLS2!O154,tblMLS2!O322),\"\")","v":""},{"$f":"IF(Turma!A$2=1,IF(VLOOKUP(\"x\",Turma!$B$4:$G$53,3,0)=\"Menina\",tblMLS2!P154,tblMLS2!P322),\"\")","v":""},{"$f":"IF(Turma!A$2=1,IF(VLOOKUP(\"x\",Turma!$B$4:$G$53,3,0)=\"Menina\",tblMLS2!Q154,tblMLS2!Q322),\"\")","v":""},{"$f":"IF(Turma!A$2=1,IF(VLOOKUP(\"x\",Turma!$B$4:$G$53,3,0)=\"Menina\",tblMLS2!S154,tblMLS2!S322),\"\")","v":""},{"$f":"IF(Turma!A$2=1,IF(VLOOKUP(\"x\",Turma!$B$4:$G$53,3,0)=\"Menina\",tblMLS2!U154,tblMLS2!U322),\"\")","v":""}]
[214,"",{"$f":"IF(Turma!A$2=1,IF(VLOOKUP(\"x\",Turma!$B$4:$G$53,3,0)=\"Menina\",tblMLS2!K155,tblMLS2!K323),\"\")","v":""},{"$f":"IF(Turma!A$2=1,IF(VLOOKUP(\"x\",Turma!$B$4:$G$53,3,0)=\"Menina\",tblMLS2!M155,tblMLS2!M323),\"\")","v":""},{"$f":"IF(Turma!A$2=1,IF(VLOOKUP(\"x\",Turma!$B$4:$G$53,3,0)=\"Menina\",tblMLS2!O155,tblMLS2!O323),\"\")","v":""},{"$f":"IF(Turma!A$2=1,IF(VLOOKUP(\"x\",Turma!$B$4:$G$53,3,0)=\"Menina\",tblMLS2!P155,tblMLS2!P323),\"\")","v":""},{"$f":"IF(Turma!A$2=1,IF(VLOOKUP(\"x\",Turma!$B$4:$G$53,3,0)=\"Menina\",tblMLS2!Q155,tblMLS2!Q323),\"\")","v":""},{"$f":"IF(Turma!A$2=1,IF(VLOOKUP(\"x\",Turma!$B$4:$G$53,3,0)=\"Menina\",tblMLS2!S155,tblMLS2!S323),\"\")","v":""},{"$f":"IF(Turma!A$2=1,IF(VLOOKUP(\"x\",Turma!$B$4:$G$53,3,0)=\"Menina\",tblMLS2!U155,tblMLS2!U323),\"\")","v":""}]
[215,"",{"$f":"IF(Turma!A$2=1,IF(VLOOKUP(\"x\",Turma!$B$4:$G$53,3,0)=\"Menina\",tblMLS2!K156,tblMLS2!K324),\"\")","v":""},{"$f":"IF(Turma!A$2=1,IF(VLOOKUP(\"x\",Turma!$B$4:$G$53,3,0)=\"Menina\",tblMLS2!M156,tblMLS2!M324),\"\")","v":""},{"$f":"IF(Turma!A$2=1,IF(VLOOKUP(\"x\",Turma!$B$4:$G$53,3,0)=\"Menina\",tblMLS2!O156,tblMLS2!O324),\"\")","v":""},{"$f":"IF(Turma!A$2=1,IF(VLOOKUP(\"x\",Turma!$B$4:$G$53,3,0)=\"Menina\",tblMLS2!P156,tblMLS2!P324),\"\")","v":""},{"$f":"IF(Turma!A$2=1,IF(VLOOKUP(\"x\",Turma!$B$4:$G$53,3,0)=\"Menina\",tblMLS2!Q156,tblMLS2!Q324),\"\")","v":""},{"$f":"IF(Turma!A$2=1,IF(VLOOKUP(\"x\",Turma!$B$4:$G$53,3,0)=\"Menina\",tblMLS2!S156,tblMLS2!S324),\"\")","v":""},{"$f":"IF(Turma!A$2=1,IF(VLOOKUP(\"x\",Turma!$B$4:$G$53,3,0)=\"Menina\",tblMLS2!U156,tblMLS2!U324),\"\")","v":""}]
[216,18,{"$f":"IF(Turma!A$2=1,IF(VLOOKUP(\"x\",Turma!$B$4:$G$53,3,0)=\"Menina\",tblMLS2!K157,tblMLS2!K325),\"\")","v":""},{"$f":"IF(Turma!A$2=1,IF(VLOOKUP(\"x\",Turma!$B$4:$G$53,3,0)=\"Menina\",tblMLS2!M157,tblMLS2!M325),\"\")","v":""},{"$f":"IF(Turma!A$2=1,IF(VLOOKUP(\"x\",Turma!$B$4:$G$53,3,0)=\"Menina\",tblMLS2!O157,tblMLS2!O325),\"\")","v":""},{"$f":"IF(Turma!A$2=1,IF(VLOOKUP(\"x\",Turma!$B$4:$G$53,3,0)=\"Menina\",tblMLS2!P157,tblMLS2!P325),\"\")","v":""},{"$f":"IF(Turma!A$2=1,IF(VLOOKUP(\"x\",Turma!$B$4:$G$53,3,0)=\"Menina\",tblMLS2!Q157,tblMLS2!Q325),\"\")","v":""},{"$f":"IF(Turma!A$2=1,IF(VLOOKUP(\"x\",Turma!$B$4:$G$53,3,0)=\"Menina\",tblMLS2!S157,tblMLS2!S325),\"\")","v":""},{"$f":"IF(Turma!A$2=1,IF(VLOOKUP(\"x\",Turma!$B$4:$G$53,3,0)=\"Menina\",tblMLS2!U157,tblMLS2!U325),\"\")","v":""}]
[217,"",{"$f":"IF(Turma!A$2=1,IF(VLOOKUP(\"x\",Turma!$B$4:$G$53,3,0)=\"Menina\",tblMLS2!K158,tblMLS2!K326),\"\")","v":""},{"$f":"IF(Turma!A$2=1,IF(VLOOKUP(\"x\",Turma!$B$4:$G$53,3,0)=\"Menina\",tblMLS2!M158,tblMLS2!M326),\"\")","v":""},{"$f":"IF(Turma!A$2=1,IF(VLOOKUP(\"x\",Turma!$B$4:$G$53,3,0)=\"Menina\",tblMLS2!O158,tblMLS2!O326),\"\")","v":""},{"$f":"IF(Turma!A$2=1,IF(VLOOKUP(\"x\",Turma!$B$4:$G$53,3,0)=\"Menina\",tblMLS2!P158,tblMLS2!P326),\"\")","v":""},{"$f":"IF(Turma!A$2=1,IF(VLOOKUP(\"x\",Turma!$B$4:$G$53,3,0)=\"Menina\",tblMLS2!Q158,tblMLS2!Q326),\"\")","v":""},{"$f":"IF(Turma!A$2=1,IF(VLOOKUP(\"x\",Turma!$B$4:$G$53,3,0)=\"Menina\",tblMLS2!S158,tblMLS2!S326),\"\")","v":""},{"$f":"IF(Turma!A$2=1,IF(VLOOKUP(\"x\",Turma!$B$4:$G$53,3,0)=\"Menina\",tblMLS2!U158,tblMLS2!U326),\"\")","v":""}]
[218,"",{"$f":"IF(Turma!A$2=1,IF(VLOOKUP(\"x\",Turma!$B$4:$G$53,3,0)=\"Menina\",tblMLS2!K159,tblMLS2!K327),\"\")","v":""},{"$f":"IF(Turma!A$2=1,IF(VLOOKUP(\"x\",Turma!$B$4:$G$53,3,0)=\"Menina\",tblMLS2!M159,tblMLS2!M327),\"\")","v":""},{"$f":"IF(Turma!A$2=1,IF(VLOOKUP(\"x\",Turma!$B$4:$G$53,3,0)=\"Menina\",tblMLS2!O159,tblMLS2!O327),\"\")","v":""},{"$f":"IF(Turma!A$2=1,IF(VLOOKUP(\"x\",Turma!$B$4:$G$53,3,0)=\"Menina\",tblMLS2!P159,tblMLS2!P327),\"\")","v":""},{"$f":"IF(Turma!A$2=1,IF(VLOOKUP(\"x\",Turma!$B$4:$G$53,3,0)=\"Menina\",tblMLS2!Q159,tblMLS2!Q327),\"\")","v":""},{"$f":"IF(Turma!A$2=1,IF(VLOOKUP(\"x\",Turma!$B$4:$G$53,3,0)=\"Menina\",tblMLS2!S159,tblMLS2!S327),\"\")","v":""},{"$f":"IF(Turma!A$2=1,IF(VLOOKUP(\"x\",Turma!$B$4:$G$53,3,0)=\"Menina\",tblMLS2!U159,tblMLS2!U327),\"\")","v":""}]
[219,"",{"$f":"IF(Turma!A$2=1,IF(VLOOKUP(\"x\",Turma!$B$4:$G$53,3,0)=\"Menina\",tblMLS2!K160,tblMLS2!K328),\"\")","v":""},{"$f":"IF(Turma!A$2=1,IF(VLOOKUP(\"x\",Turma!$B$4:$G$53,3,0)=\"Menina\",tblMLS2!M160,tblMLS2!M328),\"\")","v":""},{"$f":"IF(Turma!A$2=1,IF(VLOOKUP(\"x\",Turma!$B$4:$G$53,3,0)=\"Menina\",tblMLS2!O160,tblMLS2!O328),\"\")","v":""},{"$f":"IF(Turma!A$2=1,IF(VLOOKUP(\"x\",Turma!$B$4:$G$53,3,0)=\"Menina\",tblMLS2!P160,tblMLS2!P328),\"\")","v":""},{"$f":"IF(Turma!A$2=1,IF(VLOOKUP(\"x\",Turma!$B$4:$G$53,3,0)=\"Menina\",tblMLS2!Q160,tblMLS2!Q328),\"\")","v":""},{"$f":"IF(Turma!A$2=1,IF(VLOOKUP(\"x\",Turma!$B$4:$G$53,3,0)=\"Menina\",tblMLS2!S160,tblMLS2!S328),\"\")","v":""},{"$f":"IF(Turma!A$2=1,IF(VLOOKUP(\"x\",Turma!$B$4:$G$53,3,0)=\"Menina\",tblMLS2!U160,tblMLS2!U328),\"\")","v":""}]
[220,"",{"$f":"IF(Turma!A$2=1,IF(VLOOKUP(\"x\",Turma!$B$4:$G$53,3,0)=\"Menina\",tblMLS2!K161,tblMLS2!K329),\"\")","v":""},{"$f":"IF(Turma!A$2=1,IF(VLOOKUP(\"x\",Turma!$B$4:$G$53,3,0)=\"Menina\",tblMLS2!M161,tblMLS2!M329),\"\")","v":""},{"$f":"IF(Turma!A$2=1,IF(VLOOKUP(\"x\",Turma!$B$4:$G$53,3,0)=\"Menina\",tblMLS2!O161,tblMLS2!O329),\"\")","v":""},{"$f":"IF(Turma!A$2=1,IF(VLOOKUP(\"x\",Turma!$B$4:$G$53,3,0)=\"Menina\",tblMLS2!P161,tblMLS2!P329),\"\")","v":""},{"$f":"IF(Turma!A$2=1,IF(VLOOKUP(\"x\",Turma!$B$4:$G$53,3,0)=\"Menina\",tblMLS2!Q161,tblMLS2!Q329),\"\")","v":""},{"$f":"IF(Turma!A$2=1,IF(VLOOKUP(\"x\",Turma!$B$4:$G$53,3,0)=\"Menina\",tblMLS2!S161,tblMLS2!S329),\"\")","v":""},{"$f":"IF(Turma!A$2=1,IF(VLOOKUP(\"x\",Turma!$B$4:$G$53,3,0)=\"Menina\",tblMLS2!U161,tblMLS2!U329),\"\")","v":""}]
[221,"",{"$f":"IF(Turma!A$2=1,IF(VLOOKUP(\"x\",Turma!$B$4:$G$53,3,0)=\"Menina\",tblMLS2!K162,tblMLS2!K330),\"\")","v":""},{"$f":"IF(Turma!A$2=1,IF(VLOOKUP(\"x\",Turma!$B$4:$G$53,3,0)=\"Menina\",tblMLS2!M162,tblMLS2!M330),\"\")","v":""},{"$f":"IF(Turma!A$2=1,IF(VLOOKUP(\"x\",Turma!$B$4:$G$53,3,0)=\"Menina\",tblMLS2!O162,tblMLS2!O330),\"\")","v":""},{"$f":"IF(Turma!A$2=1,IF(VLOOKUP(\"x\",Turma!$B$4:$G$53,3,0)=\"Menina\",tblMLS2!P162,tblMLS2!P330),\"\")","v":""},{"$f":"IF(Turma!A$2=1,IF(VLOOKUP(\"x\",Turma!$B$4:$G$53,3,0)=\"Menina\",tblMLS2!Q162,tblMLS2!Q330),\"\")","v":""},{"$f":"IF(Turma!A$2=1,IF(VLOOKUP(\"x\",Turma!$B$4:$G$53,3,0)=\"Menina\",tblMLS2!S162,tblMLS2!S330),\"\")","v":""},{"$f":"IF(Turma!A$2=1,IF(VLOOKUP(\"x\",Turma!$B$4:$G$53,3,0)=\"Menina\",tblMLS2!U162,tblMLS2!U330),\"\")","v":""}]
[222,"",{"$f":"IF(Turma!A$2=1,IF(VLOOKUP(\"x\",Turma!$B$4:$G$53,3,0)=\"Menina\",tblMLS2!K163,tblMLS2!K331),\"\")","v":""},{"$f":"IF(Turma!A$2=1,IF(VLOOKUP(\"x\",Turma!$B$4:$G$53,3,0)=\"Menina\",tblMLS2!M163,tblMLS2!M331),\"\")","v":""},{"$f":"IF(Turma!A$2=1,IF(VLOOKUP(\"x\",Turma!$B$4:$G$53,3,0)=\"Menina\",tblMLS2!O163,tblMLS2!O331),\"\")","v":""},{"$f":"IF(Turma!A$2=1,IF(VLOOKUP(\"x\",Turma!$B$4:$G$53,3,0)=\"Menina\",tblMLS2!P163,tblMLS2!P331),\"\")","v":""},{"$f":"IF(Turma!A$2=1,IF(VLOOKUP(\"x\",Turma!$B$4:$G$53,3,0)=\"Menina\",tblMLS2!Q163,tblMLS2!Q331),\"\")","v":""},{"$f":"IF(Turma!A$2=1,IF(VLOOKUP(\"x\",Turma!$B$4:$G$53,3,0)=\"Menina\",tblMLS2!S163,tblMLS2!S331),\"\")","v":""},{"$f":"IF(Turma!A$2=1,IF(VLOOKUP(\"x\",Turma!$B$4:$G$53,3,0)=\"Menina\",tblMLS2!U163,tblMLS2!U331),\"\")","v":""}]
[223,"",{"$f":"IF(Turma!A$2=1,IF(VLOOKUP(\"x\",Turma!$B$4:$G$53,3,0)=\"Menina\",tblMLS2!K164,tblMLS2!K332),\"\")","v":""},{"$f":"IF(Turma!A$2=1,IF(VLOOKUP(\"x\",Turma!$B$4:$G$53,3,0)=\"Menina\",tblMLS2!M164,tblMLS2!M332),\"\")","v":""},{"$f":"IF(Turma!A$2=1,IF(VLOOKUP(\"x\",Turma!$B$4:$G$53,3,0)=\"Menina\",tblMLS2!O164,tblMLS2!O332),\"\")","v":""},{"$f":"IF(Turma!A$2=1,IF(VLOOKUP(\"x\",Turma!$B$4:$G$53,3,0)=\"Menina\",tblMLS2!P164,tblMLS2!P332),\"\")","v":""},{"$f":"IF(Turma!A$2=1,IF(VLOOKUP(\"x\",Turma!$B$4:$G$53,3,0)=\"Menina\",tblMLS2!Q164,tblMLS2!Q332),\"\")","v":""},{"$f":"IF(Turma!A$2=1,IF(VLOOKUP(\"x\",Turma!$B$4:$G$53,3,0)=\"Menina\",tblMLS2!S164,tblMLS2!S332),\"\")","v":""},{"$f":"IF(Turma!A$2=1,IF(VLOOKUP(\"x\",Turma!$B$4:$G$53,3,0)=\"Menina\",tblMLS2!U164,tblMLS2!U332),\"\")","v":""}]
[224,"",{"$f":"IF(Turma!A$2=1,IF(VLOOKUP(\"x\",Turma!$B$4:$G$53,3,0)=\"Menina\",tblMLS2!K165,tblMLS2!K333),\"\")","v":""},{"$f":"IF(Turma!A$2=1,IF(VLOOKUP(\"x\",Turma!$B$4:$G$53,3,0)=\"Menina\",tblMLS2!M165,tblMLS2!M333),\"\")","v":""},{"$f":"IF(Turma!A$2=1,IF(VLOOKUP(\"x\",Turma!$B$4:$G$53,3,0)=\"Menina\",tblMLS2!O165,tblMLS2!O333),\"\")","v":""},{"$f":"IF(Turma!A$2=1,IF(VLOOKUP(\"x\",Turma!$B$4:$G$53,3,0)=\"Menina\",tblMLS2!P165,tblMLS2!P333),\"\")","v":""},{"$f":"IF(Turma!A$2=1,IF(VLOOKUP(\"x\",Turma!$B$4:$G$53,3,0)=\"Menina\",tblMLS2!Q165,tblMLS2!Q333),\"\")","v":""},{"$f":"IF(Turma!A$2=1,IF(VLOOKUP(\"x\",Turma!$B$4:$G$53,3,0)=\"Menina\",tblMLS2!S165,tblMLS2!S333),\"\")","v":""},{"$f":"IF(Turma!A$2=1,IF(VLOOKUP(\"x\",Turma!$B$4:$G$53,3,0)=\"Menina\",tblMLS2!U165,tblMLS2!U333),\"\")","v":""}]
[225,"",{"$f":"IF(Turma!A$2=1,IF(VLOOKUP(\"x\",Turma!$B$4:$G$53,3,0)=\"Menina\",tblMLS2!K166,tblMLS2!K334),\"\")","v":""},{"$f":"IF(Turma!A$2=1,IF(VLOOKUP(\"x\",Turma!$B$4:$G$53,3,0)=\"Menina\",tblMLS2!M166,tblMLS2!M334),\"\")","v":""},{"$f":"IF(Turma!A$2=1,IF(VLOOKUP(\"x\",Turma!$B$4:$G$53,3,0)=\"Menina\",tblMLS2!O166,tblMLS2!O334),\"\")","v":""},{"$f":"IF(Turma!A$2=1,IF(VLOOKUP(\"x\",Turma!$B$4:$G$53,3,0)=\"Menina\",tblMLS2!P166,tblMLS2!P334),\"\")","v":""},{"$f":"IF(Turma!A$2=1,IF(VLOOKUP(\"x\",Turma!$B$4:$G$53,3,0)=\"Menina\",tblMLS2!Q166,tblMLS2!Q334),\"\")","v":""},{"$f":"IF(Turma!A$2=1,IF(VLOOKUP(\"x\",Turma!$B$4:$G$53,3,0)=\"Menina\",tblMLS2!S166,tblMLS2!S334),\"\")","v":""},{"$f":"IF(Turma!A$2=1,IF(VLOOKUP(\"x\",Turma!$B$4:$G$53,3,0)=\"Menina\",tblMLS2!U166,tblMLS2!U334),\"\")","v":""}]
[226,"",{"$f":"IF(Turma!A$2=1,IF(VLOOKUP(\"x\",Turma!$B$4:$G$53,3,0)=\"Menina\",tblMLS2!K167,tblMLS2!K335),\"\")","v":""},{"$f":"IF(Turma!A$2=1,IF(VLOOKUP(\"x\",Turma!$B$4:$G$53,3,0)=\"Menina\",tblMLS2!M167,tblMLS2!M335),\"\")","v":""},{"$f":"IF(Turma!A$2=1,IF(VLOOKUP(\"x\",Turma!$B$4:$G$53,3,0)=\"Menina\",tblMLS2!O167,tblMLS2!O335),\"\")","v":""},{"$f":"IF(Turma!A$2=1,IF(VLOOKUP(\"x\",Turma!$B$4:$G$53,3,0)=\"Menina\",tblMLS2!P167,tblMLS2!P335),\"\")","v":""},{"$f":"IF(Turma!A$2=1,IF(VLOOKUP(\"x\",Turma!$B$4:$G$53,3,0)=\"Menina\",tblMLS2!Q167,tblMLS2!Q335),\"\")","v":""},{"$f":"IF(Turma!A$2=1,IF(VLOOKUP(\"x\",Turma!$B$4:$G$53,3,0)=\"Menina\",tblMLS2!S167,tblMLS2!S335),\"\")","v":""},{"$f":"IF(Turma!A$2=1,IF(VLOOKUP(\"x\",Turma!$B$4:$G$53,3,0)=\"Menina\",tblMLS2!U167,tblMLS2!U335),\"\")","v":""}]
[227,"",{"$f":"IF(Turma!A$2=1,IF(VLOOKUP(\"x\",Turma!$B$4:$G$53,3,0)=\"Menina\",tblMLS2!K168,tblMLS2!K336),\"\")","v":""},{"$f":"IF(Turma!A$2=1,IF(VLOOKUP(\"x\",Turma!$B$4:$G$53,3,0)=\"Menina\",tblMLS2!M168,tblMLS2!M336),\"\")","v":""},{"$f":"IF(Turma!A$2=1,IF(VLOOKUP(\"x\",Turma!$B$4:$G$53,3,0)=\"Menina\",tblMLS2!O168,tblMLS2!O336),\"\")","v":""},{"$f":"IF(Turma!A$2=1,IF(VLOOKUP(\"x\",Turma!$B$4:$G$53,3,0)=\"Menina\",tblMLS2!P168,tblMLS2!P336),\"\")","v":""},{"$f":"IF(Turma!A$2=1,IF(VLOOKUP(\"x\",Turma!$B$4:$G$53,3,0)=\"Menina\",tblMLS2!Q168,tblMLS2!Q336),\"\")","v":""},{"$f":"IF(Turma!A$2=1,IF(VLOOKUP(\"x\",Turma!$B$4:$G$53,3,0)=\"Menina\",tblMLS2!S168,tblMLS2!S336),\"\")","v":""},{"$f":"IF(Turma!A$2=1,IF(VLOOKUP(\"x\",Turma!$B$4:$G$53,3,0)=\"Menina\",tblMLS2!U168,tblMLS2!U336),\"\")","v":""}]
[228,19,{"$f":"IF(Turma!A$2=1,IF(VLOOKUP(\"x\",Turma!$B$4:$G$53,3,0)=\"Menina\",tblMLS2!K169,tblMLS2!K337),\"\")","v":""},{"$f":"IF(Turma!A$2=1,IF(VLOOKUP(\"x\",Turma!$B$4:$G$53,3,0)=\"Menina\",tblMLS2!M169,tblMLS2!M337),\"\")","v":""},{"$f":"IF(Turma!A$2=1,IF(VLOOKUP(\"x\",Turma!$B$4:$G$53,3,0)=\"Menina\",tblMLS2!O169,tblMLS2!O337),\"\")","v":""},{"$f":"IF(Turma!A$2=1,IF(VLOOKUP(\"x\",Turma!$B$4:$G$53,3,0)=\"Menina\",tblMLS2!P169,tblMLS2!P337),\"\")","v":""},{"$f":"IF(Turma!A$2=1,IF(VLOOKUP(\"x\",Turma!$B$4:$G$53,3,0)=\"Menina\",tblMLS2!Q169,tblMLS2!Q337),\"\")","v":""},{"$f":"IF(Turma!A$2=1,IF(VLOOKUP(\"x\",Turma!$B$4:$G$53,3,0)=\"Menina\",tblMLS2!S169,tblMLS2!S337),\"\")","v":""},{"$f":"IF(Turma!A$2=1,IF(VLOOKUP(\"x\",Turma!$B$4:$G$53,3,0)=\"Menina\",tblMLS2!U169,tblMLS2!U337),\"\")","v":""}]

{"sheet":"tblMLS2","index":3,"n_rows":337,"n_cols":37,"rows_kept":337,"cut":false,"hidden":true,"merged":[]}
["idLMS","variavel","genero","meses","L","M","S","StDev","P01","P1","P3","P5","P10","P15","P25","P50","P75","P85","P90","P95","P97","P99","P999","L","M","S","StDev","SD5neg","SD4neg","SD3neg","SD2neg","SD1neg","SD0","SD1","SD2","SD3","SD4"]
[1,"altura","menina",61]
[2,"altura","menina",{"$f":"D2+1","v":62}]
[3,"altura","menina",{"$f":"D3+1","v":63}]
[4,"altura","menina",64]
[5,"altura","menina",65]
[6,"altura","menina",66]
[7,"altura","menina",67]
[8,"altura","menina",68]
[9,"altura","menina",69]
[10,"altura","menina",70]
[11,"altura","menina",71]
[12,"altura","menina",72,0.54611739999999998,114.9111,3.9699999999999999E-2,null,null,null,105.9425,null,108.89530000000001,null,111.8848,114.9111,117.974,null,121.0733,null,124.2092]
[13,"altura","menina",73]
[14,"altura","menina",74]
[15,"altura","menina",75]
[16,"altura","menina",76]
[17,"altura","menina",77]
[18,"altura","menina",78,null,null,null,null,null,null,108.4379,null,111.57989999999999,null,114.7808,118.041,121.3612,null,124.7419,null,128.18350000000001]
[19,"altura","menina",79]
[20,"altura","menina",80]
[21,"altura","menina",81]
[22,"altura","menina",82]
[23,"altura","menina",83]
[24,"altura","menina",84,null,null,null,null,null,null,111.07299999999999,null,114.3976,null,117.8056,121.2985,124.8783,null,128.54640000000001,null,132.3048]
[25,"altura","menina",85]
[26,"altura","menina",86]
[27,"altura","menina",87]
[28,"altura","menina",88]
[29,"altura","menina",89]
[30,"altura","menina",90,null,null,null,null,null,null,113.69840000000001,null,117.1814,null,120.77070000000001,124.4693,128.28059999999999,null,132.208,null,136.255]
[31,"altura","menina",91]
[32,"altura","menina",92]
[33,"altura","menina",93]
[34,"altura","menina",94]
[35,"altura","menina",95]
[36,"altura","menina",96,null,null,null,null,null,null,116.5886,null,120.2304,null,123.996,127.8901,131.91730000000001,null,136.08260000000001,null,140.39099999999999]
[37,"altura","menina",97]
[38,"altura","menina",98]
[39,"altura","menina",99]
[40,"altura","menina",100]
[41,"altura","menina",101]
[42,"altura","menina",102,null,null,null,null,null,null,119.1417,null,122.9181,null,126.8292,130.88059999999999,135.0779,null,139.42670000000001,null,143.93340000000001]
[43,"altura","menina",103]
[44,"altura","menina",104]
[45,"altura","menina",105]
[46,"altura","menina",106]
[47,"altura","menina",107]
[48,"altura","menina",108,null,null,null,null,null,null,121.7903,null,125.6965,null,129.74590000000001,133.9442,138.2978,null,142.81299999999999,null,147.4965]
[49,"altura","menina",109]
[50,"altura","menina",110]
[51,"altura","menina",111]
[52,"altura","menina",112]
[53,"altura","menina",113]
[54,"altura","menina",114,null,null,null,null,null,null,124.66379999999999,null,128.68809999999999,null,132.86340000000001,137.1961,141.69309999999999,null,146.3614,null,151.20859999999999]
[55,"altura","menina",115]
[56,"altura","menina",116]
[57,"altura","menina",117]
[58,"altura","menina",118]
[59,"altura","menina",119]
[60,"altura","menina",120,null,null,null,null,null,null,127.4787,null,131.6148,null,135.90549999999999,140.35749999999999,144.97749999999999,null,149.77279999999999,null,154.7508]
[61,"altura","menina",121]
[62,"altura","menina",122]
[63,"altura","menina",123]
[64,"altura","menina",124]
[65,"altura","menina",125]
[66,"altura","menina",126,null,null,null,null,null,null,130.5051,null,134.7672,null,139.18180000000001,143.75489999999999,148.49250000000001,null,153.40129999999999,null,158.48779999999999]
[67,"altura","menina",{"$f":"D67+1","v":127}]
[68,"altura","menina",128]
[69,"altura","menina",129]
[70,"altura","menina",130]
[71,"altura","menina",131]
[72,"altura","menina",132]
[73,"altura","menina",133]
[74,"altura","menina",134]
[75,"altura","menina",135]
[76,"altura","menina",136]
[77,"altura","menina",137]
[78,"altura","menina",138]
[79,"altura","menina",139]
[80,"altura","menina",140]
[81,"altura","menina",141]
[82,"altura","menina",142]
[83,"altura","menina",143]
[84,"altura","menina",144]
[85,"altura","menina",145]
[86,"altura","menina",146]
[87,"altura","menina",147]
[88,"altura","menina",148]
[89,"altura","menina",149]
[90,"altura","menina",150]
[91,"altura","menina",151]
[92,"altura","menina",152]
[93,"altura","menina",153]
[94,"altura","menina",154]
[95,"altura","menina",155]
[96,"altura","menina",{"$f":"D96+1","v":156}]
[97,"altura","menina",{"$f":"D97+1","v":157}]
[98,"altura","menina",158]
[99,"altura","menina",159]
[100,"altura","menina",160]
[101,"altura","menina",161]
[102,"altura","menina",162]
[103,"altura","menina",163]
[104,"altura","menina",164]
[105,"altura","menina",165]
[106,"altura","menina",166]
[107,"altura","menina",167]
[108,"altura","menina",168]
[109,"altura","menina",169]
[110,"altura","menina",170]
[111,"altura","menina",171]
[112,"altura","menina",172]
[113,"altura","menina",173]
[114,"altura","menina",174]
[115,"altura","menina",175]
[116,"altura","menina",176]
[117,"altura","menina",177]
[118,"altura","menina",178]
[119,"altura","menina",179]
[120,"altura","menina",180]
[121,"altura","menina",181]
[122,"altura","menina",182]
[123,"altura","menina",183]
[124,"altura","menina",184]
[125,"altura","menina",185]
[126,"altura","menina",186]
[127,"altura","menina",187]
[128,"altura","menina",188]
[129,"altura","menina",189]
[130,"altura","menina",190]
[131,"altura","menina",191]
[132,"altura","menina",192]
[133,"altura","menina",193]
[134,"altura","menina",194]
[135,"altura","menina",195]
[136,"altura","menina",196]
[137,"altura","menina",197]
[138,"altura","menina",198]
[139,"altura","menina",199]
[140,"altura","menina",200]
[141,"altura","menina",201]
[142,"altura","menina",202]
[143,"altura","menina",203]
[144,"altura","menina",204]
[145,"altura","menina",205]
[146,"altura","menina",206]
[147,"altura","menina",207]
[148,"altura","menina",208]
[149,"altura","menina",209]
[150,"altura","menina",210]
[151,"altura","menina",211]
[152,"altura","menina",212]
[153,"altura","menina",213]
[154,"altura","menina",214]
[155,"altura","menina",215]
[156,"altura","menina",216]
[157,"altura","menina",217]
[158,"altura","menina",218]
[159,"altura","menina",219]
[160,"altura","menina",220]
[161,"altura","menina",{"$f":"D161+1","v":221}]
[162,"altura","menina",222]
[163,"altura","menina",223]
[164,"altura","menina",224]
[165,"altura","menina",225]
[166,"altura","menina",226]
[167,"altura","menina",227]
[168,"altura","menina",228]
[169,"altura","menino",61]
[170,"altura","menino",{"$f":"D170+1","v":62}]
[171,"altura","menino",{"$f":"D171+1","v":63}]
[172,"altura","menino",64]
[173,"altura","menino",65]
[174,"altura","menino",66]
[175,"altura","menino",67]
[176,"altura","menino",68]
[177,"altura","menino",69]
[178,"altura","menino",70]
[179,"altura","menino",71]
[180,"altura","menino",72,null,null,null,null,null,null,107.6858,null,110.43680000000001,null,113.2914,116.2548,119.3325,null,122.5304,null,125.85469999999999]
[181,"altura","menino",73]
[182,"altura","menino",74]
[183,"altura","menino",75]
[184,"altura","menino",76]
[185,"altura","menino",77]
[186,"altura","menino",78,null,null,null,null,null,null,110.4051,null,113.3389,null,116.37820000000001,119.5278,122.7928,null,126.1784,null,129.69040000000001]
[187,"altura","menino",79]
[188,"altura","menino",80]
[189,"altura","menino",81]
[190,"altura","menino",82]
[191,"altura","menino",83]
[192,"altura","menino",84,null,null,null,null,null,null,113.0565,null,116.1574,null,119.3622,122.675,126.1002,null,129.6422,null,133.3058]
[193,"altura","menino",85]
[194,"altura","menino",86]
[195,"altura","menino",87]
[196,"altura","menino",88]
[197,"altura","menino",89]
[198,"altura","menino",90,null,null,null,null,null,null,115.6818,null,118.9689,null,122.3526,125.8361,129.42230000000001,null,133.11429999999999,null,136.91540000000001]
[199,"altura","menino",91]
[200,"altura","menino",92]
[201,"altura","menino",93]
[202,"altura","menino",94]
[203,"altura","menino",95]
[204,"altura","menino",96,null,null,null,null,null,null,118.14400000000001,null,121.6056,null,125.1473,128.7705,132.47649999999999,null,136.26689999999999,null,140.1429]
[205,"altura","menino",97]
[206,"altura","menino",98]
[207,"altura","menino",99]
[208,"altura","menino",100]
[209,"altura","menino",101]
[210,"altura","menino",102,null,null,null,null,null,null,120.60809999999999,null,124.2379,null,127.9241,131.66679999999999,135.46600000000001,null,139.3219,null,143.2345]
[211,"altura","menino",103]
[212,"altura","menino",104]
[213,"altura","menino",105]
[214,"altura","menino",106]
[215,"altura","menino",107]
[216,"altura","menino",108,null,null,null,null,null,null,123.1332,null,126.92319999999999,null,130.7407,134.5855,138.4571,null,142.35499999999999,null,146.279]
[217,"altura","menino",109]
[218,"altura","menino",110]
[219,"altura","menino",111]
[220,"altura","menino",112]
[221,"altura","menino",113]
[222,"altura","menino",114,null,null,null,null,null,null,125.5399,null,129.48949999999999,null,133.4297,137.36080000000001,141.28299999999999,null,145.19669999999999,null,149.10210000000001]
[223,"altura","menino",115]
[224,"altura","menino",116]
[225,"altura","menino",117]
[226,"altura","menino",118]
[227,"altura","menino",119]
[228,"altura","menino",120,null,null,null,null,null,null,127.6938,null,131.81039999999999,null,135.86799999999999,139.87010000000001,143.81970000000001,null,147.71950000000001,null,151.572]
[229,"altura","menino",121]
[230,"altura","menino",122]
[231,"altura","menino",123]
[232,"altura","menino",124]
[233,"altura","menino",125]
[234,"altura","menino",126,null,null,null,null,null,null,129.80590000000001,null,134.05850000000001,null,138.19540000000001,142.226,146.1584,null,149.99969999999999,null,153.75620000000001]
[235,"altura","menino",{"$f":"D235+1","v":127}]
[236,"altura","menino",128]
[237,"altura","menino",129]
[238,"altura","menino",130]
[239,"altura","menino",131]
[240,"altura","menino",132]
[241,"altura","menino",133]
[242,"altura","menino",134]
[243,"altura","menino",135]
[244,"altura","menino",136]
[245,"altura","menino",137]
[246,"altura","menino",138]
[247,"altura","menino",139]
[248,"altura","menino",140]
[249,"altura","menino",141]
[250,"altura","menino",142]
[251,"altura","menino",143]
[252,"altura","menino",144]
[253,"altura","menino",145]
[254,"altura","menino",146]
[255,"altura","menino",147]
[256,"altura","menino",148]
[257,"altura","menino",149]
[258,"altura","menino",150]
[259,"altura","menino",151]
[260,"altura","menino",152]
[261,"altura","menino",153]
[262,"altura","menino",154]
[263,"altura","menino",155]
[264,"altura","menino",156]
[265,"altura","menino",157]
[266,"altura","menino",158]
[267,"altura","menino",159]
[268,"altura","menino",160]
[269,"altura","menino",161]
[270,"altura","menino",162]
[271,"altura","menino",163]
[272,"altura","menino",164]
[273,"altura","menino",165]
[274,"altura","menino",166]
[275,"altura","menino",167]
[276,"altura","menino",168]
[277,"altura","menino",169]
[278,"altura","menino",170]
[279,"altura","menino",171]
[280,"altura","menino",172]
[281,"altura","menino",173]
[282,"altura","menino",174]
[283,"altura","menino",175]
[284,"altura","menino",176]
[285,"altura","menino",177]
[286,"altura","menino",178]
[287,"altura","menino",179]
[288,"altura","menino",180]
[289,"altura","menino",181]
[290,"altura","menino",182]
[291,"altura","menino",183]
[292,"altura","menino",184]
[293,"altura","menino",185]
[294,"altura","menino",186]
[295,"altura","menino",187]
[296,"altura","menino",188]
[297,"altura","menino",189]
[298,"altura","menino",190]
[299,"altura","menino",{"$f":"D299+1","v":191}]
[300,"altura","menino",192]
[301,"altura","menino",193]
[302,"altura","menino",194]
[303,"altura","menino",195]
[304,"altura","menino",196]
[305,"altura","menino",197]
[306,"altura","menino",198]
[307,"altura","menino",199]
[308,"altura","menino",200]
[309,"altura","menino",201]
[310,"altura","menino",202]
[311,"altura","menino",203]
[312,"altura","menino",204]
[313,"altura","menino",205]
[314,"altura","menino",206]
[315,"altura","menino",207]
[316,"altura","menino",208]
[317,"altura","menino",209]
[318,"altura","menino",210]
[319,"altura","menino",211]
[320,"altura","menino",212]
[321,"altura","menino",213]
[322,"altura","menino",214]
[323,"altura","menino",215]
[324,"altura","menino",216]
[325,"altura","menino",217]
[326,"altura","menino",218]
[327,"altura","menino",219]
[328,"altura","menino",220]
[329,"altura","menino",221]
[330,"altura","menino",222]
[331,"altura","menino",223]
[332,"altura","menino",224]
[333,"altura","menino",225]
[334,"altura","menino",226]
[335,"altura","menino",227]
[336,"altura","menino",228]