{"text_format":"1","workbook":"xlsx","n_sheets":6,"sheets":["Turma","Relatório","pesoPercentis","imcPercentis","matPeso","matIMC"],"not_rendered":{"charts":0,"images":4,"macros":1,"external_links":0,"defined_names":2,"comments":1,"pivot_tables":0},"unopened":[],"bounds":{"document_bytes":16777216,"sheet_cells":100000,"rows_first":2000,"rows_last":500,"rows_between":2000,"halvings":0,"cell_chars":16384,"cell_head_chars":4096},"cells_cut":0,"cells_raw":0,"read":"whole","date_system":"1900"}

{"sheet":"Turma","index":0,"n_rows":53,"n_cols":10,"rows_kept":53,"cut":false,"hidden":false,"merged":[]}
[null,"Ano:",null,null,null,"Média Global:",{"$f":"IF(COUNTA(G4:G53)>0,AVERAGE(G4:G53),\"\")","v":""},{"$f":"IF(COUNTA(H4:H53)>0,AVERAGE(H4:H53),\"\")","v":""},{"$f":"IF(COUNTA(I4:I53)>0,AVERAGE(I4:I53),\"\")","v":{"$error":"#DIV/0!"}},{"$f":"IF(COUNTA(J4:J53)>0,AVERAGE(J4:J53),\"\")","v":{"$error":"#DIV/0!"}}]
[{"$f":"COUNTIF(B4:B53,\"x\")","v":0},"Turma:",null,null,null,"Desvio Padrão Global:",{"$f":"IF(COUNTA(G4:G53)>0,_xlfn.STDEV.P(G4:G53),\"\")","v":""},{"$f":"IF(COUNTA(H4:H53)>0,_xlfn.STDEV.P(H4:H53),\"\")","v":""},{"$f":"IF(COUNTA(I4:I53)>0,_xlfn.STDEV.P(I4:I53),\"\")","v":{"$error":"#DIV/0!"}},{"$f":"IF(COUNTA(J4:J53)>0,_xlfn.STDEV.P(J4:J53),\"\")","v":{"$error":"#DIV/0!"}}]
["ID Aluno",{"$f":"_xlfn.CONCAT(\"Ver: \",A2)","v":"Ver: 0"},"Nome","Género","Data de nascimento","Data de avaliação","Peso","Altura","Idade","IMC"]
[1,null,null,null,null,null,null,null,{"$f":"IF(AND(E4<>\"\",F4<>\"\"),INT(12*_xlfn.DAYS(F4,E4)/365),\"\")","v":""},{"$f":"IF(H4<>0,G4/(H4/100*H4/100),\"\")","v":""}]
[{"$f":"A4+1","v":2},null,null,null,null,null,null,null,{"$f":"IF(AND(E5<>\"\",F5<>\"\"),INT(12*_xlfn.DAYS(F5,E5)/365),\"\")","v":""},{"$f":"IF(H5<>0,G5/(H5/100*H5/100),\"\")","v":""}]
[{"$f":"A5+1","v":3},null,null,null,null,null,null,null,"",""]
[4,null,null,null,null,null,null,null,"",""]
[5,null,null,null,null,null,null,null,"",""]
[6,null,null,null,null,null,null,null,"",""]
[7,null,null,null,null,null,null,null,"",""]
[8,null,null,null,null,null,null,null,"",""]
[9,null,null,null,null,null,null,null,"",""]
[10,null,null,null,null,null,null,null,"",""]
[11,null,null,null,null,null,null,null,"",""]
[12,null,null,null,null,null,null,null,"",""]
[13,null,null,null,null,null,null,null,"",""]
[14,null,null,null,null,null,null,null,"",""]
[15,null,null,null,null,null,null,null,"",""]
[16,null,null,null,null,null,null,null,"",""]
[17,null,null,null,null,null,null,null,"",""]
[18,null,null,null,null,null,null,null,"",""]
[19,null,null,null,null,null,null,null,"",""]
[20,null,null,null,null,null,null,null,"",""]
[21,null,null,null,null,null,null,null,"",""]
[22,null,null,null,null,null,null,null,"",""]
[23,null,null,null,null,null,null,null,"",""]
[24,null,null,null,null,null,null,null,"",""]
[25,null,null,null,null,null,null,null,"",""]
[26,null,null,null,null,null,null,null,"",""]
[27,null,null,null,null,null,null,null,"",""]
[28,null,null,null,null,null,null,null,"",""]
[29,null,null,null,null,null,null,null,"",""]
[30,null,null,null,null,null,null,null,"",""]
[31,null,null,null,null,null,null,null,"",""]
[32,null,null,null,null,null,null,null,"",""]
[33,null,null,null,null,null,null,null,"",""]
[34,null,null,null,null,null,null,null,"",""]
[35,null,null,null,null,null,null,null,"",""]
[36,null,null,null,null,null,null,null,"",""]
[37,null,null,null,null,null,null,null,"",""]
[38,null,null,null,null,null,null,null,"",""]
[39,null,null,null,null,null,null,null,"",""]
[40,null,null,null,null,null,null,null,"",""]
[41,null,null,null,null,null,null,null,"",""]
[42,null,null,null,null,null,null,null,"",""]
[43,null,null,null,null,null,null,null,"",""]
[44,null,null,null,null,null,null,null,"",""]
[45,null,null,null,null,null,null,null,"",""]
[46,null,null,null,null,null,null,null,"",""]
[47,null,null,null,null,null,null,null,"",""]
[48,null,null,null,null,null,null,null,"",""]
[49,null,null,null,null,null,null,null,"",""]
[50,null,null,null,null,null,null,null,"",""]

{"sheet":"Relatório","index":1,"n_rows":48,"n_cols":11,"rows_kept":48,"cut":false,"hidden":false,"merged":[[11,0,11,9],[31,0,31,5]]}
["RELATÓRIO INDIVIDUAL - PESO E "]
["ÍNDICE DE MASSA CORPORAL"]
[{"$f":"IF(Turma!A2=1,VLOOKUP(\"x\",Turma!B4:G53,2,0),\"\")","v":""}]
[{"$f":"IF(Turma!A2=1,_xlfn.CONCAT(TEXT(VLOOKUP(\"x\",Turma!B$4:G$53,4,0),\"dd-mm-aaaa\"),\" | \",Turma!C1,\"º ano\",\" | \",Turma!C2),\"\")","v":""}]
[null,"Resultado",null,"Média",null,"Mínimo",null,"Máximo"]
[null,"da criança",null,"da turma",null,"da turma",null,"da turma"]
["Peso (kg)",{"$f":"IF(Turma!$A$2=1,IF(VLOOKUP(\"x\",Turma!B4:J53,6,0)=0,0,VLOOKUP(\"x\",Turma!B4:J53,6,0)),0)","v":0},null,{"$f":"IF(AND(Turma!$A$2=1,COUNTA(Turma!$G$4:$G$53)>0),Turma!$G$1,0)","v":0},null,{"$f":"IF(AND(Turma!$A$2=1,COUNTA(Turma!$G$4:$G$53)>0),SMALL(Turma!$G$4:$G$53,1),0)","v":0},null,{"$f":"IF(AND(Turma!$A$2=1,COUNTA(Turma!$G$4:$G$53)>0),LARGE(Turma!$G$4:$G$53,1),0)","v":0}]
[]
["IMC (kg/m2)",{"$f":"IF(Turma!$A$2=1,IF(VLOOKUP(\"x\",Turma!B4:J53,9,0)=0,0,VLOOKUP(\"x\",Turma!B4:J53,9,0)),0)","v":0},null,{"$f":"IF(AND(Turma!$A$2=1,AND(COUNTA(Turma!$J$4:$J$53)>0),COUNTA(Turma!$H$4:$H$53)>0),Turma!$J$1,0)","v":0},null,{"$f":"IF(AND(Turma!$A$2=1,AND(COUNTA(Turma!$G$4:$G$53)>0,COUNTA(Turma!$H$4:$H$53)>0)),SMALL(Turma!$J$4:$J$53,1),0)","v":0},null,{"$f":"IF(AND(Turma!$A$2=1,AND(COUNTA(Turma!$G$4:$G$53)>0,COUNTA(Turma!$H$4:$H$53)>0)),LARGE(Turma!$J$4:$J$53,1),0)","v":0}]
[]
[]
["Carta de referência do peso  e IMC do conselho de Matosinhos"]
[]
[]
[]
[]
[]
[]
[]
[]
[]
[]
[]
[]
[]
[]
[]
[]
[]
[]
[]
[]
[]
[]
[]
[]
[]
[]
[]
[]
[]
[]
[]
[]
[]
[]
[]
[null,null,null,null,null,null,null,null,null,null,"Este relatório foi gerado a partir de uma aplicação desenvolvida no contexto do projeto REACT financiado pela FCT (https://doi.org/10.54499/PTDC/SAU-DES/2286/2021)"]

{"sheet":"pesoPercentis","index":2,"n_rows":68,"n_cols":13,"rows_kept":68,"cut":false,"hidden":true,"merged":[]}
["meses","anos","P3","P10","P25","P50","P75","P90","P97",null,"Género","Meses","Peso"]
[60,{"$f":"IF(A2/12=INT(A2/12),A2/12,\"\")","v":5},null,null,null,null,null,null,null,null,{"$f":"IF(Turma!A2=1,VLOOKUP(\"x\",Turma!B4:H53,3,0),\"\")","v":""},{"$f":"IF(Turma!A2=1,VLOOKUP(\"x\",Turma!B4:I53,8,0),\"\")","v":""},{"$f":"IF(Turma!A2=1,VLOOKUP(\"x\",Turma!B4:I53,6,0),\"\")","v":""}]
[61,{"$f":"IF(A3/12=INT(A3/12),A3/12,\"\")","v":""},{"$f":"IF(Turma!A$2=1,IF(VLOOKUP(\"x\",Turma!$B$4:$H$53,3,0)=\"Menina\",matPeso!J2,matPeso!J68),\"\")","v":""},{"$f":"IF(Turma!A$2=1,IF(VLOOKUP(\"x\",Turma!$B$4:$H$53,3,0)=\"Menina\",matPeso!L2,matPeso!L68),\"\")","v":""},{"$f":"IF(Turma!A$2=1,IF(VLOOKUP(\"x\",Turma!$B$4:$H$53,3,0)=\"Menina\",matPeso!N2,matPeso!N68),\"\")","v":""},{"$f":"IF(Turma!A$2=1,IF(VLOOKUP(\"x\",Turma!$B$4:$H$53,3,0)=\"Menina\",matPeso!O2,matPeso!O68),\"\")","v":""},{"$f":"IF(Turma!A$2=1,IF(VLOOKUP(\"x\",Turma!$B$4:$H$53,3,0)=\"Menina\",matPeso!P2,matPeso!P68),\"\")","v":""},{"$f":"IF(Turma!A$2=1,IF(VLOOKUP(\"x\",Turma!$B$4:$H$53,3,0)=\"Menina\",matPeso!R2,matPeso!R68),\"\")","v":""},{"$f":"IF(Turma!A$2=1,IF(VLOOKUP(\"x\",Turma!$B$4:$H$53,3,0)=\"Menina\",matPeso!T2,matPeso!T68),\"\")","v":""}]
[62,"",{"$f":"IF(Turma!A$2=1,IF(VLOOKUP(\"x\",Turma!$B$4:$H$53,3,0)=\"Menina\",matPeso!J3,matPeso!J69),\"\")","v":""},{"$f":"IF(Turma!A$2=1,IF(VLOOKUP(\"x\",Turma!$B$4:$H$53,3,0)=\"Menina\",matPeso!L3,matPeso!L69),\"\")","v":""},{"$f":"IF(Turma!A$2=1,IF(VLOOKUP(\"x\",Turma!$B$4:$H$53,3,0)=\"Menina\",matPeso!N3,matPeso!N69),\"\")","v":""},{"$f":"IF(Turma!A$2=1,IF(VLOOKUP(\"x\",Turma!$B$4:$H$53,3,0)=\"Menina\",matPeso!O3,matPeso!O69),\"\")","v":""},{"$f":"IF(Turma!A$2=1,IF(VLOOKUP(\"x\",Turma!$B$4:$H$53,3,0)=\"Menina\",matPeso!P3,matPeso!P69),\"\")","v":""},{"$f":"IF(Turma!A$2=1,IF(VLOOKUP(\"x\",Turma!$B$4:$H$53,3,0)=\"Menina\",matPeso!R3,matPeso!R69),\"\")","v":""},{"$f":"IF(Turma!A$2=1,IF(VLOOKUP(\"x\",Turma!$B$4:$H$53,3,0)=\"Menina\",matPeso!T3,matPeso!T69),\"\")","v":""}]
[63,"",{"$f":"IF(Turma!A$2=1,IF(VLOOKUP(\"x\",Turma!$B$4:$H$53,3,0)=\"Menina\",matPeso!J4,matPeso!J70),\"\")","v":""},{"$f":"IF(Turma!A$2=1,IF(VLOOKUP(\"x\",Turma!$B$4:$H$53,3,0)=\"Menina\",matPeso!L4,matPeso!L70),\"\")","v":""},{"$f":"IF(Turma!A$2=1,IF(VLOOKUP(\"x\",Turma!$B$4:$H$53,3,0)=\"Menina\",matPeso!N4,matPeso!N70),\"\")","v":""},{"$f":"IF(Turma!A$2=1,IF(VLOOKUP(\"x\",Turma!$B$4:$H$53,3,0)=\"Menina\",matPeso!O4,matPeso!O70),\"\")","v":""},{"$f":"IF(Turma!A$2=1,IF(VLOOKUP(\"x\",Turma!$B$4:$H$53,3,0)=\"Menina\",matPeso!P4,matPeso!P70),\"\")","v":""},{"$f":"IF(Turma!A$2=1,IF(VLOOKUP(\"x\",Turma!$B$4:$H$53,3,0)=\"Menina\",matPeso!R4,matPeso!R70),\"\")","v":""},{"$f":"IF(Turma!A$2=1,IF(VLOOKUP(\"x\",Turma!$B$4:$H$53,3,0)=\"Menina\",matPeso!T4,matPeso!T70),\"\")","v":""}]
[64,"",{"$f":"IF(Turma!A$2=1,IF(VLOOKUP(\"x\",Turma!$B$4:$H$53,3,0)=\"Menina\",matPeso!J5,matPeso!J71),\"\")","v":""},{"$f":"IF(Turma!A$2=1,IF(VLOOKUP(\"x\",Turma!$B$4:$H$53,3,0)=\"Menina\",matPeso!L5,matPeso!L71),\"\")","v":""},{"$f":"IF(Turma!A$2=1,IF(VLOOKUP(\"x\",Turma!$B$4:$H$53,3,0)=\"Menina\",matPeso!N5,matPeso!N71),\"\")","v":""},{"$f":"IF(Turma!A$2=1,IF(VLOOKUP(\"x\",Turma!$B$4:$H$53,3,0)=\"Menina\",matPeso!O5,matPeso!O71),\"\")","v":""},{"$f":"IF(Turma!A$2=1,IF(VLOOKUP(\"x\",Turma!$B$4:$H$53,3,0)=\"Menina\",matPeso!P5,matPeso!P71),\"\")","v":""},{"$f":"IF(Turma!A$2=1,IF(VLOOKUP(\"x\",Turma!$B$4:$H$53,3,0)=\"Menina\",matPeso!R5,matPeso!R71),\"\")","v":""},{"$f":"IF(Turma!A$2=1,IF(VLOOKUP(\"x\",Turma!$B$4:$H$53,3,0)=\"Menina\",matPeso!T5,matPeso!T71),\"\")","v":""}]
[65,"",{"$f":"IF(Turma!A$2=1,IF(VLOOKUP(\"x\",Turma!$B$4:$H$53,3,0)=\"Menina\",matPeso!J6,matPeso!J72),\"\")","v":""},{"$f":"IF(Turma!A$2=1,IF(VLOOKUP(\"x\",Turma!$B$4:$H$53,3,0)=\"Menina\",matPeso!L6,matPeso!L72),\"\")","v":""},{"$f":"IF(Turma!A$2=1,IF(VLOOKUP(\"x\",Turma!$B$4:$H$53,3,0)=\"Menina\",matPeso!N6,matPeso!N72),\"\")","v":""},{"$f":"IF(Turma!A$2=1,IF(VLOOKUP(\"x\",Turma!$B$4:$H$53,3,0)=\"Menina\",matPeso!O6,matPeso!O72),\"\")","v":""},{"$f":"IF(Turma!A$2=1,IF(VLOOKUP(\"x\",Turma!$B$4:$H$53,3,0)=\"Menina\",matPeso!P6,matPeso!P72),\"\")","v":""},{"$f":"IF(Turma!A$2=1,IF(VLOOKUP(\"x\",Turma!$B$4:$H$53,3,0)=\"Menina\",matPeso!R6,matPeso!R72),\"\")","v":""},{"$f":"IF(Turma!A$2=1,IF(VLOOKUP(\"x\",Turma!$B$4:$H$53,3,0)=\"Menina\",matPeso!T6,matPeso!T72),\"\")","v":""}]
[66,"",{"$f":"IF(Turma!A$2=1,IF(VLOOKUP(\"x\",Turma!$B$4:$H$53,3,0)=\"Menina\",matPeso!J7,matPeso!J73),\"\")","v":""},{"$f":"IF(Turma!A$2=1,IF(VLOOKUP(\"x\",Turma!$B$4:$H$53,3,0)=\"Menina\",matPeso!L7,matPeso!L73),\"\")","v":""},{"$f":"IF(Turma!A$2=1,IF(VLOOKUP(\"x\",Turma!$B$4:$H$53,3,0)=\"Menina\",matPeso!N7,matPeso!N73),\"\")","v":""},{"$f":"IF(Turma!A$2=1,IF(VLOOKUP(\"x\",Turma!$B$4:$H$53,3,0)=\"Menina\",matPeso!O7,matPeso!O73),\"\")","v":""},{"$f":"IF(Turma!A$2=1,IF(VLOOKUP(\"x\",Turma!$B$4:$H$53,3,0)=\"Menina\",matPeso!P7,matPeso!P73),\"\")","v":""},{"$f":"IF(Turma!A$2=1,IF(VLOOKUP(\"x\",Turma!$B$4:$H$53,3,0)=\"Menina\",matPeso!R7,matPeso!R73),\"\")","v":""},{"$f":"IF(Turma!A$2=1,IF(VLOOKUP(\"x\",Turma!$B$4:$H$53,3,0)=\"Menina\",matPeso!T7,matPeso!T73),\"\")","v":""}]
[67,"",{"$f":"IF(Turma!A$2=1,IF(VLOOKUP(\"x\",Turma!$B$4:$H$53,3,0)=\"Menina\",matPeso!J8,matPeso!J74),\"\")","v":""},{"$f":"IF(Turma!A$2=1,IF(VLOOKUP(\"x\",Turma!$B$4:$H$53,3,0)=\"Menina\",matPeso!L8,matPeso!L74),\"\")","v":""},{"$f":"IF(Turma!A$2=1,IF(VLOOKUP(\"x\",Turma!$B$4:$H$53,3,0)=\"Menina\",matPeso!N8,matPeso!N74),\"\")","v":""},{"$f":"IF(Turma!A$2=1,IF(VLOOKUP(\"x\",Turma!$B$4:$H$53,3,0)=\"Menina\",matPeso!O8,matPeso!O74),\"\")","v":""},{"$f":"IF(Turma!A$2=1,IF(VLOOKUP(\"x\",Turma!$B$4:$H$53,3,0)=\"Menina\",matPeso!P8,matPeso!P74),\"\")","v":""},{"$f":"IF(Turma!A$2=1,IF(VLOOKUP(\"x\",Turma!$B$4:$H$53,3,0)=\"Menina\",matPeso!R8,matPeso!R74),\"\")","v":""},{"$f":"IF(Turma!A$2=1,IF(VLOOKUP(\"x\",Turma!$B$4:$H$53,3,0)=\"Menina\",matPeso!T8,matPeso!T74),\"\")","v":""}]
[68,"",{"$f":"IF(Turma!A$2=1,IF(VLOOKUP(\"x\",Turma!$B$4:$H$53,3,0)=\"Menina\",matPeso!J9,matPeso!J75),\"\")","v":""},{"$f":"IF(Turma!A$2=1,IF(VLOOKUP(\"x\",Turma!$B$4:$H$53,3,0)=\"Menina\",matPeso!L9,matPeso!L75),\"\")","v":""},{"$f":"IF(Turma!A$2=1,IF(VLOOKUP(\"x\",Turma!$B$4:$H$53,3,0)=\"Menina\",matPeso!N9,matPeso!N75),\"\")","v":""},{"$f":"IF(Turma!A$2=1,IF(VLOOKUP(\"x\",Turma!$B$4:$H$53,3,0)=\"Menina\",matPeso!O9,matPeso!O75),\"\")","v":""},{"$f":"IF(Turma!A$2=1,IF(VLOOKUP(\"x\",Turma!$B$4:$H$53,3,0)=\"Menina\",matPeso!P9,matPeso!P75),\"\")","v":""},{"$f":"IF(Turma!A$2=1,IF(VLOOKUP(\"x\",Turma!$B$4:$H$53,3,0)=\"Menina\",matPeso!R9,matPeso!R75),\"\")","v":""},{"$f":"IF(Turma!A$2=1,IF(VLOOKUP(\"x\",Turma!$B$4:$H$53,3,0)=\"Menina\",matPeso!T9,matPeso!T75),\"\")","v":""}]
[69,"",{"$f":"IF(Turma!A$2=1,IF(VLOOKUP(\"x\",Turma!$B$4:$H$53,3,0)=\"Menina\",matPeso!J10,matPeso!J76),\"\")","v":""},{"$f":"IF(Turma!A$2=1,IF(VLOOKUP(\"x\",Turma!$B$4:$H$53,3,0)=\"Menina\",matPeso!L10,matPeso!L76),\"\")","v":""},{"$f":"IF(Turma!A$2=1,IF(VLOOKUP(\"x\",Turma!$B$4:$H$53,3,0)=\"Menina\",matPeso!N10,matPeso!N76),\"\")","v":""},{"$f":"IF(Turma!A$2=1,IF(VLOOKUP(\"x\",Turma!$B$4:$H$53,3,0)=\"Menina\",matPeso!O10,matPeso!O76),\"\")","v":""},{"$f":"IF(Turma!A$2=1,IF(VLOOKUP(\"x\",Turma!$B$4:$H$53,3,0)=\"Menina\",matPeso!P10,matPeso!P76),\"\")","v":""},{"$f":"IF(Turma!A$2=1,IF(VLOOKUP(\"x\",Turma!$B$4:$H$53,3,0)=\"Menina\",matPeso!R10,matPeso!R76),\"\")","v":""},{"$f":"IF(Turma!A$2=1,IF(VLOOKUP(\"x\",Turma!$B$4:$H$53,3,0)=\"Menina\",matPeso!T10,matPeso!T76),\"\")","v":""}]
[70,"",{"$f":"IF(Turma!A$2=1,IF(VLOOKUP(\"x\",Turma!$B$4:$H$53,3,0)=\"Menina\",matPeso!J11,matPeso!J77),\"\")","v":""},{"$f":"IF(Turma!A$2=1,IF(VLOOKUP(\"x\",Turma!$B$4:$H$53,3,0)=\"Menina\",matPeso!L11,matPeso!L77),\"\")","v":""},{"$f":"IF(Turma!A$2=1,IF(VLOOKUP(\"x\",Turma!$B$4:$H$53,3,0)=\"Menina\",matPeso!N11,matPeso!N77),\"\")","v":""},{"$f":"IF(Turma!A$2=1,IF(VLOOKUP(\"x\",Turma!$B$4:$H$53,3,0)=\"Menina\",matPeso!O11,matPeso!O77),\"\")","v":""},{"$f":"IF(Turma!A$2=1,IF(VLOOKUP(\"x\",Turma!$B$4:$H$53,3,0)=\"Menina\",matPeso!P11,matPeso!P77),\"\")","v":""},{"$f":"IF(Turma!A$2=1,IF(VLOOKUP(\"x\",Turma!$B$4:$H$53,3,0)=\"Menina\",matPeso!R11,matPeso!R77),\"\")","v":""},{"$f":"IF(Turma!A$2=1,IF(VLOOKUP(\"x\",Turma!$B$4:$H$53,3,0)=\"Menina\",matPeso!T11,matPeso!T77),\"\")","v":""}]
[71,"",{"$f":"IF(Turma!A$2=1,IF(VLOOKUP(\"x\",Turma!$B$4:$H$53,3,0)=\"Menina\",matPeso!J12,matPeso!J78),\"\")","v":""},{"$f":"IF(Turma!A$2=1,IF(VLOOKUP(\"x\",Turma!$B$4:$H$53,3,0)=\"Menina\",matPeso!L12,matPeso!L78),\"\")","v":""},{"$f":"IF(Turma!A$2=1,IF(VLOOKUP(\"x\",Turma!$B$4:$H$53,3,0)=\"Menina\",matPeso!N12,matPeso!N78),\"\")","v":""},{"$f":"IF(Turma!A$2=1,IF(VLOOKUP(\"x\",Turma!$B$4:$H$53,3,0)=\"Menina\",matPeso!O12,matPeso!O78),\"\")","v":""},{"$f":"IF(Turma!A$2=1,IF(VLOOKUP(\"x\",Turma!$B$4:$H$53,3,0)=\"Menina\",matPeso!P12,matPeso!P78),\"\")","v":""},{"$f":"IF(Turma!A$2=1,IF(VLOOKUP(\"x\",Turma!$B$4:$H$53,3,0)=\"Menina\",matPeso!R12,matPeso!R78),\"\")","v":""},{"$f":"IF(Turma!A$2=1,IF(VLOOKUP(\"x\",Turma!$B$4:$H$53,3,0)=\"Menina\",matPeso!T12,matPeso!T78),\"\")","v":""}]
[72,6,{"$f":"IF(Turma!A$2=1,IF(VLOOKUP(\"x\",Turma!$B$4:$H$53,3,0)=\"Menina\",matPeso!J13,matPeso!J79),\"\")","v":""},{"$f":"IF(Turma!A$2=1,IF(VLOOKUP(\"x\",Turma!$B$4:$H$53,3,0)=\"Menina\",matPeso!L13,matPeso!L79),\"\")","v":""},{"$f":"IF(Turma!A$2=1,IF(VLOOKUP(\"x\",Turma!$B$4:$H$53,3,0)=\"Menina\",matPeso!N13,matPeso!N79),\"\")","v":""},{"$f":"IF(Turma!A$2=1,IF(VLOOKUP(\"x\",Turma!$B$4:$H$53,3,0)=\"Menina\",matPeso!O13,matPeso!O79),\"\")","v":""},{"$f":"IF(Turma!A$2=1,IF(VLOOKUP(\"x\",Turma!$B$4:$H$53,3,0)=\"Menina\",matPeso!P13,matPeso!P79),\"\")","v":""},{"$f":"IF(Turma!A$2=1,IF(VLOOKUP(\"x\",Turma!$B$4:$H$53,3,0)=\"Menina\",matPeso!R13,matPeso!R79),\"\")","v":""},{"$f":"IF(Turma!A$2=1,IF(VLOOKUP(\"x\",Turma!$B$4:$H$53,3,0)=\"Menina\",matPeso!T13,matPeso!T79),\"\")","v":""}]
[73,"",{"$f":"IF(Turma!A$2=1,IF(VLOOKUP(\"x\",Turma!$B$4:$H$53,3,0)=\"Menina\",matPeso!J14,matPeso!J80),\"\")","v":""},{"$f":"IF(Turma!A$2=1,IF(VLOOKUP(\"x\",Turma!$B$4:$H$53,3,0)=\"Menina\",matPeso!L14,matPeso!L80),\"\")","v":""},{"$f":"IF(Turma!A$2=1,IF(VLOOKUP(\"x\",Turma!$B$4:$H$53,3,0)=\"Menina\",matPeso!N14,matPeso!N80),\"\")","v":""},{"$f":"IF(Turma!A$2=1,IF(VLOOKUP(\"x\",Turma!$B$4:$H$53,3,0)=\"Menina\",matPeso!O14,matPeso!O80),\"\")","v":""},{"$f":"IF(Turma!A$2=1,IF(VLOOKUP(\"x\",Turma!$B$4:$H$53,3,0)=\"Menina\",matPeso!P14,matPeso!P80),\"\")","v":""},{"$f":"IF(Turma!A$2=1,IF(VLOOKUP(\"x\",Turma!$B$4:$H$53,3,0)=\"Menina\",matPeso!R14,matPeso!R80),\"\")","v":""},{"$f":"IF(Turma!A$2=1,IF(VLOOKUP(\"x\",Turma!$B$4:$H$53,3,0)=\"Menina\",matPeso!T14,matPeso!T80),\"\")","v":""}]
[74,"",{"$f":"IF(Turma!A$2=1,IF(VLOOKUP(\"x\",Turma!$B$4:$H$53,3,0)=\"Menina\",matPeso!J15,matPeso!J81),\"\")","v":""},{"$f":"IF(Turma!A$2=1,IF(VLOOKUP(\"x\",Turma!$B$4:$H$53,3,0)=\"Menina\",matPeso!L15,matPeso!L81),\"\")","v":""},{"$f":"IF(Turma!A$2=1,IF(VLOOKUP(\"x\",Turma!$B$4:$H$53,3,0)=\"Menina\",matPeso!N15,matPeso!N81),\"\")","v":""},{"$f":"IF(Turma!A$2=1,IF(VLOOKUP(\"x\",Turma!$B$4:$H$53,3,0)=\"Menina\",matPeso!O15,matPeso!O81),\"\")","v":""},{"$f":"IF(Turma!A$2=1,IF(VLOOKUP(\"x\",Turma!$B$4:$H$53,3,0)=\"Menina\",matPeso!P15,matPeso!P81),\"\")","v":""},{"$f":"IF(Turma!A$2=1,IF(VLOOKUP(\"x\",Turma!$B$4:$H$53,3,0)=\"Menina\",matPeso!R15,matPeso!R81),\"\")","v":""},{"$f":"IF(Turma!A$2=1,IF(VLOOKUP(\"x\",Turma!$B$4:$H$53,3,0)=\"Menina\",matPeso!T15,matPeso!T81),\"\")","v":""}]
[75,"",{"$f":"IF(Turma!A$2=1,IF(VLOOKUP(\"x\",Turma!$B$4:$H$53,3,0)=\"Menina\",matPeso!J16,matPeso!J82),\"\")","v":""},{"$f":"IF(Turma!A$2=1,IF(VLOOKUP(\"x\",Turma!$B$4:$H$53,3,0)=\"Menina\",matPeso!L16,matPeso!L82),\"\")","v":""},{"$f":"IF(Turma!A$2=1,IF(VLOOKUP(\"x\",Turma!$B$4:$H$53,3,0)=\"Menina\",matPeso!N16,matPeso!N82),\"\")","v":""},{"$f":"IF(Turma!A$2=1,IF(VLOOKUP(\"x\",Turma!$B$4:$H$53,3,0)=\"Menina\",matPeso!O16,matPeso!O82),\"\")","v":""},{"$f":"IF(Turma!A$2=1,IF(VLOOKUP(\"x\",Turma!$B$4:$H$53,3,0)=\"Menina\",matPeso!P16,matPeso!P82),\"\")","v":""},{"$f":"IF(Turma!A$2=1,IF(VLOOKUP(\"x\",Turma!$B$4:$H$53,3,0)=\"Menina\",matPeso!R16,matPeso!R82),\"\")","v":""},{"$f":"IF(Turma!A$2=1,IF(VLOOKUP(\"x\",Turma!$B$4:$H$53,3,0)=\"Menina\",matPeso!T16,matPeso!T82),\"\")","v":""}]
[76,"",{"$f":"IF(Turma!A$2=1,IF(VLOOKUP(\"x\",Turma!$B$4:$H$53,3,0)=\"Menina\",matPeso!J17,matPeso!J83),\"\")","v":""},{"$f":"IF(Turma!A$2=1,IF(VLOOKUP(\"x\",Turma!$B$4:$H$53,3,0)=\"Menina\",matPeso!L17,matPeso!L83),\"\")","v":""},{"$f":"IF(Turma!A$2=1,IF(VLOOKUP(\"x\",Turma!$B$4:$H$53,3,0)=\"Menina\",matPeso!N17,matPeso!N83),\"\")","v":""},{"$f":"IF(Turma!A$2=1,IF(VLOOKUP(\"x\",Turma!$B$4:$H$53,3,0)=\"Menina\",matPeso!O17,matPeso!O83),\"\")","v":""},{"$f":"IF(Turma!A$2=1,IF(VLOOKUP(\"x\",Turma!$B$4:$H$53,3,0)=\"Menina\",matPeso!P17,matPeso!P83),\"\")","v":""},{"$f":"IF(Turma!A$2=1,IF(VLOOKUP(\"x\",Turma!$B$4:$H$53,3,0)=\"Menina\",matPeso!R17,matPeso!R83),\"\")","v":""},{"$f":"IF(Turma!A$2=1,IF(VLOOKUP(\"x\",Turma!$B$4:$H$53,3,0)=\"Menina\",matPeso!T17,matPeso!T83),\"\")","v":""}]
[77,"",{"$f":"IF(Turma!A$2=1,IF(VLOOKUP(\"x\",Turma!$B$4:$H$53,3,0)=\"Menina\",matPeso!J18,matPeso!J84),\"\")","v":""},{"$f":"IF(Turma!A$2=1,IF(VLOOKUP(\"x\",Turma!$B$4:$H$53,3,0)=\"Menina\",matPeso!L18,matPeso!L84),\"\")","v":""},{"$f":"IF(Turma!A$2=1,IF(VLOOKUP(\"x\",Turma!$B$4:$H$53,3,0)=\"Menina\",matPeso!N18,matPeso!N84),\"\")","v":""},{"$f":"IF(Turma!A$2=1,IF(VLOOKUP(\"x\",Turma!$B$4:$H$53,3,0)=\"Menina\",matPeso!O18,matPeso!O84),\"\")","v":""},{"$f":"IF(Turma!A$2=1,IF(VLOOKUP(\"x\",Turma!$B$4:$H$53,3,0)=\"Menina\",matPeso!P18,matPeso!P84),\"\")","v":""},{"$f":"IF(Turma!A$2=1,IF(VLOOKUP(\"x\",Turma!$B$4:$H$53,3,0)=\"Menina\",matPeso!R18,matPeso!R84),\"\")","v":""},{"$f":"IF(Turma!A$2=1,IF(VLOOKUP(\"x\",Turma!$B$4:$H$53,3,0)=\"Menina\",matPeso!T18,matPeso!T84),\"\")","v":""}]
[78,"",{"$f":"IF(Turma!A$2=1,IF(VLOOKUP(\"x\",Turma!$B$4:$H$53,3,0)=\"Menina\",matPeso!J19,matPeso!J85),\"\")","v":""},{"$f":"IF(Turma!A$2=1,IF(VLOOKUP(\"x\",Turma!$B$4:$H$53,3,0)=\"Menina\",matPeso!L19,matPeso!L85),\"\")","v":""},{"$f":"IF(Turma!A$2=1,IF(VLOOKUP(\"x\",Turma!$B$4:$H$53,3,0)=\"Menina\",matPeso!N19,matPeso!N85),\"\")","v":""},{"$f":"IF(Turma!A$2=1,IF(VLOOKUP(\"x\",Turma!$B$4:$H$53,3,0)=\"Menina\",matPeso!O19,matPeso!O85),\"\")","v":""},{"$f":"IF(Turma!A$2=1,IF(VLOOKUP(\"x\",Turma!$B$4:$H$53,3,0)=\"Menina\",matPeso!P19,matPeso!P85),\"\")","v":""},{"$f":"IF(Turma!A$2=1,IF(VLOOKUP(\"x\",Turma!$B$4:$H$53,3,0)=\"Menina\",matPeso!R19,matPeso!R85),\"\")","v":""},{"$f":"IF(Turma!A$2=1,IF(VLOOKUP(\"x\",Turma!$B$4:$H$53,3,0)=\"Menina\",matPeso!T19,matPeso!T85),\"\")","v":""}]
[79,"",{"$f":"IF(Turma!A$2=1,IF(VLOOKUP(\"x\",Turma!$B$4:$H$53,3,0)=\"Menina\",matPeso!J20,matPeso!J86),\"\")","v":""},{"$f":"IF(Turma!A$2=1,IF(VLOOKUP(\"x\",Turma!$B$4:$H$53,3,0)=\"Menina\",matPeso!L20,matPeso!L86),\"\")","v":""},{"$f":"IF(Turma!A$2=1,IF(VLOOKUP(\"x\",Turma!$B$4:$H$53,3,0)=\"Menina\",matPeso!N20,matPeso!N86),\"\")","v":""},{"$f":"IF(Turma!A$2=1,IF(VLOOKUP(\"x\",Turma!$B$4:$H$53,3,0)=\"Menina\",matPeso!O20,matPeso!O86),\"\")","v":""},{"$f":"IF(Turma!A$2=1,IF(VLOOKUP(\"x\",Turma!$B$4:$H$53,3,0)=\"Menina\",matPeso!P20,matPeso!P86),\"\")","v":""},{"$f":"IF(Turma!A$2=1,IF(VLOOKUP(\"x\",Turma!$B$4:$H$53,3,0)=\"Menina\",matPeso!R20,matPeso!R86),\"\")","v":""},{"$f":"IF(Turma!A$2=1,IF(VLOOKUP(\"x\",Turma!$B$4:$H$53,3,0)=\"Menina\",matPeso!T20,matPeso!T86),\"\")","v":""}]
[80,"",{"$f":"IF(Turma!A$2=1,IF(VLOOKUP(\"x\",Turma!$B$4:$H$53,3,0)=\"Menina\",matPeso!J21,matPeso!J87),\"\")","v":""},{"$f":"IF(Turma!A$2=1,IF(VLOOKUP(\"x\",Turma!$B$4:$H$53,3,0)=\"Menina\",matPeso!L21,matPeso!L87),\"\")","v":""},{"$f":"IF(Turma!A$2=1,IF(VLOOKUP(\"x\",Turma!$B$4:$H$53,3,0)=\"Menina\",matPeso!N21,matPeso!N87),\"\")","v":""},{"$f":"IF(Turma!A$2=1,IF(VLOOKUP(\"x\",Turma!$B$4:$H$53,3,0)=\"Menina\",matPeso!O21,matPeso!O87),\"\")","v":""},{"$f":"IF(Turma!A$2=1,IF(VLOOKUP(\"x\",Turma!$B$4:$H$53,3,0)=\"Menina\",matPeso!P21,matPeso!P87),\"\")","v":""},{"$f":"IF(Turma!A$2=1,IF(VLOOKUP(\"x\",Turma!$B$4:$H$53,3,0)=\"Menina\",matPeso!R21,matPeso!R87),\"\")","v":""},{"$f":"IF(Turma!A$2=1,IF(VLOOKUP(\"x\",Turma!$B$4:$H$53,3,0)=\"Menina\",matPeso!T21,matPeso!T87),\"\")","v":""}]
[81,"",{"$f":"IF(Turma!A$2=1,IF(VLOOKUP(\"x\",Turma!$B$4:$H$53,3,0)=\"Menina\",matPeso!J22,matPeso!J88),\"\")","v":""},{"$f":"IF(Turma!A$2=1,IF(VLOOKUP(\"x\",Turma!$B$4:$H$53,3,0)=\"Menina\",matPeso!L22,matPeso!L88),\"\")","v":""},{"$f":"IF(Turma!A$2=1,IF(VLOOKUP(\"x\",Turma!$B$4:$H$53,3,0)=\"Menina\",matPeso!N22,matPeso!N88),\"\")","v":""},{"$f":"IF(Turma!A$2=1,IF(VLOOKUP(\"x\",Turma!$B$4:$H$53,3,0)=\"Menina\",matPeso!O22,matPeso!O88),\"\")","v":""},{"$f":"IF(Turma!A$2=1,IF(VLOOKUP(\"x\",Turma!$B$4:$H$53,3,0)=\"Menina\",matPeso!P22,matPeso!P88),\"\")","v":""},{"$f":"IF(Turma!A$2=1,IF(VLOOKUP(\"x\",Turma!$B$4:$H$53,3,0)=\"Menina\",matPeso!R22,matPeso!R88),\"\")","v":""},{"$f":"IF(Turma!A$2=1,IF(VLOOKUP(\"x\",Turma!$B$4:$H$53,3,0)=\"Menina\",matPeso!T22,matPeso!T88),\"\")","v":""}]
[82,"",{"$f":"IF(Turma!A$2=1,IF(VLOOKUP(\"x\",Turma!$B$4:$H$53,3,0)=\"Menina\",matPeso!J23,matPeso!J89),\"\")","v":""},{"$f":"IF(Turma!A$2=1,IF(VLOOKUP(\"x\",Turma!$B$4:$H$53,3,0)=\"Menina\",matPeso!L23,matPeso!L89),\"\")","v":""},{"$f":"IF(Turma!A$2=1,IF(VLOOKUP(\"x\",Turma!$B$4:$H$53,3,0)=\"Menina\",matPeso!N23,matPeso!N89),\"\")","v":""},{"$f":"IF(Turma!A$2=1,IF(VLOOKUP(\"x\",Turma!$B$4:$H$53,3,0)=\"Menina\",matPeso!O23,matPeso!O89),\"\")","v":""},{"$f":"IF(Turma!A$2=1,IF(VLOOKUP(\"x\",Turma!$B$4:$H$53,3,0)=\"Menina\",matPeso!P23,matPeso!P89),\"\")","v":""},{"$f":"IF(Turma!A$2=1,IF(VLOOKUP(\"x\",Turma!$B$4:$H$53,3,0)=\"Menina\",matPeso!R23,matPeso!R89),\"\")","v":""},{"$f":"IF(Turma!A$2=1,IF(VLOOKUP(\"x\",Turma!$B$4:$H$53,3,0)=\"Menina\",matPeso!T23,matPeso!T89),\"\")","v":""}]
[83,"",{"$f":"IF(Turma!A$2=1,IF(VLOOKUP(\"x\",Turma!$B$4:$H$53,3,0)=\"Menina\",matPeso!J24,matPeso!J90),\"\")","v":""},{"$f":"IF(Turma!A$2=1,IF(VLOOKUP(\"x\",Turma!$B$4:$H$53,3,0)=\"Menina\",matPeso!L24,matPeso!L90),\"\")","v":""},{"$f":"IF(Turma!A$2=1,IF(VLOOKUP(\"x\",Turma!$B$4:$H$53,3,0)=\"Menina\",matPeso!N24,matPeso!N90),\"\")","v":""},{"$f":"IF(Turma!A$2=1,IF(VLOOKUP(\"x\",Turma!$B$4:$H$53,3,0)=\"Menina\",matPeso!O24,matPeso!O90),\"\")","v":""},{"$f":"IF(Turma!A$2=1,IF(VLOOKUP(\"x\",Turma!$B$4:$H$53,3,0)=\"Menina\",matPeso!P24,matPeso!P90),\"\")","v":""},{"$f":"IF(Turma!A$2=1,IF(VLOOKUP(\"x\",Turma!$B$4:$H$53,3,0)=\"Menina\",matPeso!R24,matPeso!R90),\"\")","v":""},{"$f":"IF(Turma!A$2=1,IF(VLOOKUP(\"x\",Turma!$B$4:$H$53,3,0)=\"Menina\",matPeso!T24,matPeso!T90),\"\")","v":""}]
[84,7,{"$f":"IF(Turma!A$2=1,IF(VLOOKUP(\"x\",Turma!$B$4:$H$53,3,0)=\"Menina\",matPeso!J25,matPeso!J91),\"\")","v":""},{"$f":"IF(Turma!A$2=1,IF(VLOOKUP(\"x\",Turma!$B$4:$H$53,3,0)=\"Menina\",matPeso!L25,matPeso!L91),\"\")","v":""},{"$f":"IF(Turma!A$2=1,IF(VLOOKUP(\"x\",Turma!$B$4:$H$53,3,0)=\"Menina\",matPeso!N25,matPeso!N91),\"\")","v":""},{"$f":"IF(Turma!A$2=1,IF(VLOOKUP(\"x\",Turma!$B$4:$H$53,3,0)=\"Menina\",matPeso!O25,matPeso!O91),\"\")","v":""},{"$f":"IF(Turma!A$2=1,IF(VLOOKUP(\"x\",Turma!$B$4:$H$53,3,0)=\"Menina\",matPeso!P25,matPeso!P91),\"\")","v":""},{"$f":"IF(Turma!A$2=1,IF(VLOOKUP(\"x\",Turma!$B$4:$H$53,3,0)=\"Menina\",matPeso!R25,matPeso!R91),\"\")","v":""},{"$f":"IF(Turma!A$2=1,IF(VLOOKUP(\"x\",Turma!$B$4:$H$53,3,0)=\"Menina\",matPeso!T25,matPeso!T91),\"\")","v":""}]
[85,"",{"$f":"IF(Turma!A$2=1,IF(VLOOKUP(\"x\",Turma!$B$4:$H$53,3,0)=\"Menina\",matPeso!J26,matPeso!J92),\"\")","v":""},{"$f":"IF(Turma!A$2=1,IF(VLOOKUP(\"x\",Turma!$B$4:$H$53,3,0)=\"Menina\",matPeso!L26,matPeso!L92),\"\")","v":""},{"$f":"IF(Turma!A$2=1,IF(VLOOKUP(\"x\",Turma!$B$4:$H$53,3,0)=\"Menina\",matPeso!N26,matPeso!N92),\"\")","v":""},{"$f":"IF(Turma!A$2=1,IF(VLOOKUP(\"x\",Turma!$B$4:$H$53,3,0)=\"Menina\",matPeso!O26,matPeso!O92),\"\")","v":""},{"$f":"IF(Turma!A$2=1,IF(VLOOKUP(\"x\",Turma!$B$4:$H$53,3,0)=\"Menina\",matPeso!P26,matPeso!P92),\"\")","v":""},{"$f":"IF(Turma!A$2=1,IF(VLOOKUP(\"x\",Turma!$B$4:$H$53,3,0)=\"Menina\",matPeso!R26,matPeso!R92),\"\")","v":""},{"$f":"IF(Turma!A$2=1,IF(VLOOKUP(\"x\",Turma!$B$4:$H$53,3,0)=\"Menina\",matPeso!T26,matPeso!T92),\"\")","v":""}]
[86,"",{"$f":"IF(Turma!A$2=1,IF(VLOOKUP(\"x\",Turma!$B$4:$H$53,3,0)=\"Menina\",matPeso!J27,matPeso!J93),\"\")","v":""},{"$f":"IF(Turma!A$2=1,IF(VLOOKUP(\"x\",Turma!$B$4:$H$53,3,0)=\"Menina\",matPeso!L27,matPeso!L93),\"\")","v":""},{"$f":"IF(Turma!A$2=1,IF(VLOOKUP(\"x\",Turma!$B$4:$H$53,3,0)=\"Menina\",matPeso!N27,matPeso!N93),\"\")","v":""},{"$f":"IF(Turma!A$2=1,IF(VLOOKUP(\"x\",Turma!$B$4:$H$53,3,0)=\"Menina\",matPeso!O27,matPeso!O93),\"\")","v":""},{"$f":"IF(Turma!A$2=1,IF(VLOOKUP(\"x\",Turma!$B$4:$H$53,3,0)=\"Menina\",matPeso!P27,matPeso!P93),\"\")","v":""},{"$f":"IF(Turma!A$2=1,IF(VLOOKUP(\"x\",Turma!$B$4:$H$53,3,0)=\"Menina\",matPeso!R27,matPeso!R93),\"\")","v":""},{"$f":"IF(Turma!A$2=1,IF(VLOOKUP(\"x\",Turma!$B$4:$H$53,3,0)=\"Menina\",matPeso!T27,matPeso!T93),\"\")","v":""}]
[87,"",{"$f":"IF(Turma!A$2=1,IF(VLOOKUP(\"x\",Turma!$B$4:$H$53,3,0)=\"Menina\",matPeso!J28,matPeso!J94),\"\")","v":""},{"$f":"IF(Turma!A$2=1,IF(VLOOKUP(\"x\",Turma!$B$4:$H$53,3,0)=\"Menina\",matPeso!L28,matPeso!L94),\"\")","v":""},{"$f":"IF(Turma!A$2=1,IF(VLOOKUP(\"x\",Turma!$B$4:$H$53,3,0)=\"Menina\",matPeso!N28,matPeso!N94),\"\")","v":""},{"$f":"IF(Turma!A$2=1,IF(VLOOKUP(\"x\",Turma!$B$4:$H$53,3,0)=\"Menina\",matPeso!O28,matPeso!O94),\"\")","v":""},{"$f":"IF(Turma!A$2=1,IF(VLOOKUP(\"x\",Turma!$B$4:$H$53,3,0)=\"Menina\",matPeso!P28,matPeso!P94),\"\")","v":""},{"$f":"IF(Turma!A$2=1,IF(VLOOKUP(\"x\",Turma!$B$4:$H$53,3,0)=\"Menina\",matPeso!R28,matPeso!R94),\"\")","v":""},{"$f":"IF(Turma!A$2=1,IF(VLOOKUP(\"x\",Turma!$B$4:$H$53,3,0)=\"Menina\",matPeso!T28,matPeso!T94),\"\")","v":""}]
[88,"",{"$f":"IF(Turma!A$2=1,IF(VLOOKUP(\"x\",Turma!$B$4:$H$53,3,0)=\"Menina\",matPeso!J29,matPeso!J95),\"\")","v":""},{"$f":"IF(Turma!A$2=1,IF(VLOOKUP(\"x\",Turma!$B$4:$H$53,3,0)=\"Menina\",matPeso!L29,matPeso!L95),\"\")","v":""},{"$f":"IF(Turma!A$2=1,IF(VLOOKUP(\"x\",Turma!$B$4:$H$53,3,0)=\"Menina\",matPeso!N29,matPeso!N95),\"\")","v":""},{"$f":"IF(Turma!A$2=1,IF(VLOOKUP(\"x\",Turma!$B$4:$H$53,3,0)=\"Menina\",matPeso!O29,matPeso!O95),\"\")","v":""},{"$f":"IF(Turma!A$2=1,IF(VLOOKUP(\"x\",Turma!$B$4:$H$53,3,0)=\"Menina\",matPeso!P29,matPeso!P95),\"\")","v":""},{"$f":"IF(Turma!A$2=1,IF(VLOOKUP(\"x\",Turma!$B$4:$H$53,3,0)=\"Menina\",matPeso!R29,matPeso!R95),\"\")","v":""},{"$f":"IF(Turma!A$2=1,IF(VLOOKUP(\"x\",Turma!$B$4:$H$53,3,0)=\"Menina\",matPeso!T29,matPeso!T95),\"\")","v":""}]
[89,"",{"$f":"IF(Turma!A$2=1,IF(VLOOKUP(\"x\",Turma!$B$4:$H$53,3,0)=\"Menina\",matPeso!J30,matPeso!J96),\"\")","v":""},{"$f":"IF(Turma!A$2=1,IF(VLOOKUP(\"x\",Turma!$B$4:$H$53,3,0)=\"Menina\",matPeso!L30,matPeso!L96),\"\")","v":""},{"$f":"IF(Turma!A$2=1,IF(VLOOKUP(\"x\",Turma!$B$4:$H$53,3,0)=\"Menina\",matPeso!N30,matPeso!N96),\"\")","v":""},{"$f":"IF(Turma!A$2=1,IF(VLOOKUP(\"x\",Turma!$B$4:$H$53,3,0)=\"Menina\",matPeso!O30,matPeso!O96),\"\")","v":""},{"$f":"IF(Turma!A$2=1,IF(VLOOKUP(\"x\",Turma!$B$4:$H$53,3,0)=\"Menina\",matPeso!P30,matPeso!P96),\"\")","v":""},{"$f":"IF(Turma!A$2=1,IF(VLOOKUP(\"x\",Turma!$B$4:$H$53,3,0)=\"Menina\",matPeso!R30,matPeso!R96),\"\")","v":""},{"$f":"IF(Turma!A$2=1,IF(VLOOKUP(\"x\",Turma!$B$4:$H$53,3,0)=\"Menina\",matPeso!T30,matPeso!T96),\"\")","v":""}]
[90,"",{"$f":"IF(Turma!A$2=1,IF(VLOOKUP(\"x\",Turma!$B$4:$H$53,3,0)=\"Menina\",matPeso!J31,matPeso!J97),\"\")","v":""},{"$f":"IF(Turma!A$2=1,IF(VLOOKUP(\"x\",Turma!$B$4:$H$53,3,0)=\"Menina\",matPeso!L31,matPeso!L97),\"\")","v":""},{"$f":"IF(Turma!A$2=1,IF(VLOOKUP(\"x\",Turma!$B$4:$H$53,3,0)=\"Menina\",matPeso!N31,matPeso!N97),\"\")","v":""},{"$f":"IF(Turma!A$2=1,IF(VLOOKUP(\"x\",Turma!$B$4:$H$53,3,0)=\"Menina\",matPeso!O31,matPeso!O97),\"\")","v":""},{"$f":"IF(Turma!A$2=1,IF(VLOOKUP(\"x\",Turma!$B$4:$H$53,3,0)=\"Menina\",matPeso!P31,matPeso!P97),\"\")","v":""},{"$f":"IF(Turma!A$2=1,IF(VLOOKUP(\"x\",Turma!$B$4:$H$53,3,0)=\"Menina\",matPeso!R31,matPeso!R97),\"\")","v":""},{"$f":"IF(Turma!A$2=1,IF(VLOOKUP(\"x\",Turma!$B$4:$H$53,3,0)=\"Menina\",matPeso!T31,matPeso!T97),\"\")","v":""}]
[91,"",{"$f":"IF(Turma!A$2=1,IF(VLOOKUP(\"x\",Turma!$B$4:$H$53,3,0)=\"Menina\",matPeso!J32,matPeso!J98),\"\")","v":""},{"$f":"IF(Turma!A$2=1,IF(VLOOKUP(\"x\",Turma!$B$4:$H$53,3,0)=\"Menina\",matPeso!L32,matPeso!L98),\"\")","v":""},{"$f":"IF(Turma!A$2=1,IF(VLOOKUP(\"x\",Turma!$B$4:$H$53,3,0)=\"Menina\",matPeso!N32,matPeso!N98),\"\")","v":""},{"$f":"IF(Turma!A$2=1,IF(VLOOKUP(\"x\",Turma!$B$4:$H$53,3,0)=\"Menina\",matPeso!O32,matPeso!O98),\"\")","v":""},{"$f":"IF(Turma!A$2=1,IF(VLOOKUP(\"x\",Turma!$B$4:$H$53,3,0)=\"Menina\",matPeso!P32,matPeso!P98),\"\")","v":""},{"$f":"IF(Turma!A$2=1,IF(VLOOKUP(\"x\",Turma!$B$4:$H$53,3,0)=\"Menina\",matPeso!R32,matPeso!R98),\"\")","v":""},{"$f":"IF(Turma!A$2=1,IF(VLOOKUP(\"x\",Turma!$B$4:$H$53,3,0)=\"Menina\",matPeso!T32,matPeso!T98),\"\")","v":""}]
[92,"",{"$f":"IF(Turma!A$2=1,IF(VLOOKUP(\"x\",Turma!$B$4:$H$53,3,0)=\"Menina\",matPeso!J33,matPeso!J99),\"\")","v":""},{"$f":"IF(Turma!A$2=1,IF(VLOOKUP(\"x\",Turma!$B$4:$H$53,3,0)=\"Menina\",matPeso!L33,matPeso!L99),\"\")","v":""},{"$f":"IF(Turma!A$2=1,IF(VLOOKUP(\"x\",Turma!$B$4:$H$53,3,0)=\"Menina\",matPeso!N33,matPeso!N99),\"\")","v":""},{"$f":"IF(Turma!A$2=1,IF(VLOOKUP(\"x\",Turma!$B$4:$H$53,3,0)=\"Menina\",matPeso!O33,matPeso!O99),\"\")","v":""},{"$f":"IF(Turma!A$2=1,IF(VLOOKUP(\"x\",Turma!$B$4:$H$53,3,0)=\"Menina\",matPeso!P33,matPeso!P99),\"\")","v":""},{"$f":"IF(Turma!A$2=1,IF(VLOOKUP(\"x\",Turma!$B$4:$H$53,3,0)=\"Menina\",matPeso!R33,matPeso!R99),\"\")","v":""},{"$f":"IF(Turma!A$2=1,IF(VLOOKUP(\"x\",Turma!$B$4:$H$53,3,0)=\"Menina\",matPeso!T33,matPeso!T99),\"\")","v":""}]
[93,"",{"$f":"IF(Turma!A$2=1,IF(VLOOKUP(\"x\",Turma!$B$4:$H$53,3,0)=\"Menina\",matPeso!J34,matPeso!J100),\"\")","v":""},{"$f":"IF(Turma!A$2=1,IF(VLOOKUP(\"x\",Turma!$B$4:$H$53,3,0)=\"Menina\",matPeso!L34,matPeso!L100),\"\")","v":""},{"$f":"IF(Turma!A$2=1,IF(VLOOKUP(\"x\",Turma!$B$4:$H$53,3,0)=\"Menina\",matPeso!N34,matPeso!N100),\"\")","v":""},{"$f":"IF(Turma!A$2=1,IF(VLOOKUP(\"x\",Turma!$B$4:$H$53,3,0)=\"Menina\",matPeso!O34,matPeso!O100),\"\")","v":""},{"$f":"IF(Turma!A$2=1,IF(VLOOKUP(\"x\",Turma!$B$4:$H$53,3,0)=\"Menina\",matPeso!P34,matPeso!P100),\"\")","v":""},{"$f":"IF(Turma!A$2=1,IF(VLOOKUP(\"x\",Turma!$B$4:$H$53,3,0)=\"Menina\",matPeso!R34,matPeso!R100),\"\")","v":""},{"$f":"IF(Turma!A$2=1,IF(VLOOKUP(\"x\",Turma!$B$4:$H$53,3,0)=\"Menina\",matPeso!T34,matPeso!T100),\"\")","v":""}]
[94,"",{"$f":"IF(Turma!A$2=1,IF(VLOOKUP(\"x\",Turma!$B$4:$H$53,3,0)=\"Menina\",matPeso!J35,matPeso!J101),\"\")","v":""},{"$f":"IF(Turma!A$2=1,IF(VLOOKUP(\"x\",Turma!$B$4:$H$53,3,0)=\"Menina\",matPeso!L35,matPeso!L101),\"\")","v":""},{"$f":"IF(Turma!A$2=1,IF(VLOOKUP(\"x\",Turma!$B$4:$H$53,3,0)=\"Menina\",matPeso!N35,matPeso!N101),\"\")","v":""},{"$f":"IF(Turma!A$2=1,IF(VLOOKUP(\"x\",Turma!$B$4:$H$53,3,0)=\"Menina\",matPeso!O35,matPeso!O101),\"\")","v":""},{"$f":"IF(Turma!A$2=1,IF(VLOOKUP(\"x\",Turma!$B$4:$H$53,3,0)=\"Menina\",matPeso!P35,matPeso!P101),\"\")","v":""},{"$f":"IF(Turma!A$2=1,IF(VLOOKUP(\"x\",Turma!$B$4:$H$53,3,0)=\"Menina\",matPeso!R35,matPeso!R101),\"\")","v":""},{"$f":"IF(Turma!A$2=1,IF(VLOOKUP(\"x\",Turma!$B$4:$H$53,3,0)=\"Menina\",matPeso!T35,matPeso!T101),\"\")","v":""}]
[95,"",{"$f":"IF(Turma!A$2=1,IF(VLOOKUP(\"x\",Turma!$B$4:$H$53,3,0)=\"Menina\",matPeso!J36,matPeso!J102),\"\")","v":""},{"$f":"IF(Turma!A$2=1,IF(VLOOKUP(\"x\",Turma!$B$4:$H$53,3,0)=\"Menina\",matPeso!L36,matPeso!L102),\"\")","v":""},{"$f":"IF(Turma!A$2=1,IF(VLOOKUP(\"x\",Turma!$B$4:$H$53,3,0)=\"Menina\",matPeso!N36,matPeso!N102),\"\")","v":""},{"$f":"IF(Turma!A$2=1,IF(VLOOKUP(\"x\",Turma!$B$4:$H$53,3,0)=\"Menina\",matPeso!O36,matPeso!O102),\"\")","v":""},{"$f":"IF(Turma!A$2=1,IF(VLOOKUP(\"x\",Turma!$B$4:$H$53,3,0)=\"Menina\",matPeso!P36,matPeso!P102),\"\")","v":""},{"$f":"IF(Turma!A$2=1,IF(VLOOKUP(\"x\",Turma!$B$4:$H$53,3,0)=\"Menina\",matPeso!R36,matPeso!R102),\"\")","v":""},{"$f":"IF(Turma!A$2=1,IF(VLOOKUP(\"x\",Turma!$B$4:$H$53,3,0)=\"Menina\",matPeso!T36,matPeso!T102),\"\")","v":""}]
[96,8,{"$f":"IF(Turma!A$2=1,IF(VLOOKUP(\"x\",Turma!$B$4:$H$53,3,0)=\"Menina\",matPeso!J37,matPeso!J103),\"\")","v":""},{"$f":"IF(Turma!A$2=1,IF(VLOOKUP(\"x\",Turma!$B$4:$H$53,3,0)=\"Menina\",matPeso!L37,matPeso!L103),\"\")","v":""},{"$f":"IF(Turma!A$2=1,IF(VLOOKUP(\"x\",Turma!$B$4:$H$53,3,0)=\"Menina\",matPeso!N37,matPeso!N103),\"\")","v":""},{"$f":"IF(Turma!A$2=1,IF(VLOOKUP(\"x\",Turma!$B$4:$H$53,3,0)=\"Menina\",matPeso!O37,matPeso!O103),\"\")","v":""},{"$f":"IF(Turma!A$2=1,IF(VLOOKUP(\"x\",Turma!$B$4:$H$53,3,0)=\"Menina\",matPeso!P37,matPeso!P103),\"\")","v":""},{"$f":"IF(Turma!A$2=1,IF(VLOOKUP(\"x\",Turma!$B$4:$H$53,3,0)=\"Menina\",matPeso!R37,matPeso!R103),\"\")","v":""},{"$f":"IF(Turma!A$2=1,IF(VLOOKUP(\"x\",Turma!$B$4:$H$53,3,0)=\"Menina\",matPeso!T37,matPeso!T103),\"\")","v":""}]
[97,"",{"$f":"IF(Turma!A$2=1,IF(VLOOKUP(\"x\",Turma!$B$4:$H$53,3,0)=\"Menina\",matPeso!J38,matPeso!J104),\"\")","v":""},{"$f":"IF(Turma!A$2=1,IF(VLOOKUP(\"x\",Turma!$B$4:$H$53,3,0)=\"Menina\",matPeso!L38,matPeso!L104),\"\")","v":""},{"$f":"IF(Turma!A$2=1,IF(VLOOKUP(\"x\",Turma!$B$4:$H$53,3,0)=\"Menina\",matPeso!N38,matPeso!N104),\"\")","v":""},{"$f":"IF(Turma!A$2=1,IF(VLOOKUP(\"x\",Turma!$B$4:$H$53,3,0)=\"Menina\",matPeso!O38,matPeso!O104),\"\")","v":""},{"$f":"IF(Turma!A$2=1,IF(VLOOKUP(\"x\",Turma!$B$4:$H$53,3,0)=\"Menina\",matPeso!P38,matPeso!P104),\"\")","v":""},{"$f":"IF(Turma!A$2=1,IF(VLOOKUP(\"x\",Turma!$B$4:$H$53,3,0)=\"Menina\",matPeso!R38,matPeso!R104),\"\")","v":""},{"$f":"IF(Turma!A$2=1,IF(VLOOKUP(\"x\",Turma!$B$4:$H$53,3,0)=\"Menina\",matPeso!T38,matPeso!T104),\"\")","v":""}]
[98,"",{"$f":"IF(Turma!A$2=1,IF(VLOOKUP(\"x\",Turma!$B$4:$H$53,3,0)=\"Menina\",matPeso!J39,matPeso!J105),\"\")","v":""},{"$f":"IF(Turma!A$2=1,IF(VLOOKUP(\"x\",Turma!$B$4:$H$53,3,0)=\"Menina\",matPeso!L39,matPeso!L105),\"\")","v":""},{"$f":"IF(Turma!A$2=1,IF(VLOOKUP(\"x\",Turma!$B$4:$H$53,3,0)=\"Menina\",matPeso!N39,matPeso!N105),\"\")","v":""},{"$f":"IF(Turma!A$2=1,IF(VLOOKUP(\"x\",Turma!$B$4:$H$53,3,0)=\"Menina\",matPeso!O39,matPeso!O105),\"\")","v":""},{"$f":"IF(Turma!A$2=1,IF(VLOOKUP(\"x\",Turma!$B$4:$H$53,3,0)=\"Menina\",matPeso!P39,matPeso!P105),\"\")","v":""},{"$f":"IF(Turma!A$2=1,IF(VLOOKUP(\"x\",Turma!$B$4:$H$53,3,0)=\"Menina\",matPeso!R39,matPeso!R105),\"\")","v":""},{"$f":"IF(Turma!A$2=1,IF(VLOOKUP(\"x\",Turma!$B$4:$H$53,3,0)=\"Menina\",matPeso!T39,matPeso!T105),\"\")","v":""}]
[99,"",{"$f":"IF(Turma!A$2=1,IF(VLOOKUP(\"x\",Turma!$B$4:$H$53,3,0)=\"Menina\",matPeso!J40,matPeso!J106),\"\")","v":""},{"$f":"IF(Turma!A$2=1,IF(VLOOKUP(\"x\",Turma!$B$4:$H$53,3,0)=\"Menina\",matPeso!L40,matPeso!L106),\"\")","v":""},{"$f":"IF(Turma!A$2=1,IF(VLOOKUP(\"x\",Turma!$B$4:$H$53,3,0)=\"Menina\",matPeso!N40,matPeso!N106),\"\")","v":""},{"$f":"IF(Turma!A$2=1,IF(VLOOKUP(\"x\",Turma!$B$4:$H$53,3,0)=\"Menina\",matPeso!O40,matPeso!O106),\"\")","v":""},{"$f":"IF(Turma!A$2=1,IF(VLOOKUP(\"x\",Turma!$B$4:$H$53,3,0)=\"Menina\",matPeso!P40,matPeso!P106),\"\")","v":""},{"$f":"IF(Turma!A$2=1,IF(VLOOKUP(\"x\",Turma!$B$4:$H$53,3,0)=\"Menina\",matPeso!R40,matPeso!R106),\"\")","v":""},{"$f":"IF(Turma!A$2=1,IF(VLOOKUP(\"x\",Turma!$B$4:$H$53,3,0)=\"Menina\",matPeso!T40,matPeso!T106),\"\")","v":""}]
[100,"",{"$f":"IF(Turma!A$2=1,IF(VLOOKUP(\"x\",Turma!$B$4:$H$53,3,0)=\"Menina\",matPeso!J41,matPeso!J107),\"\")","v":""},{"$f":"IF(Turma!A$2=1,IF(VLOOKUP(\"x\",Turma!$B$4:$H$53,3,0)=\"Menina\",matPeso!L41,matPeso!L107),\"\")","v":""},{"$f":"IF(Turma!A$2=1,IF(VLOOKUP(\"x\",Turma!$B$4:$H$53,3,0)=\"Menina\",matPeso!N41,matPeso!N107),\"\")","v":""},{"$f":"IF(Turma!A$2=1,IF(VLOOKUP(\"x\",Turma!$B$4:$H$53,3,0)=\"Menina\",matPeso!O41,matPeso!O107),\"\")","v":""},{"$f":"IF(Turma!A$2=1,IF(VLOOKUP(\"x\",Turma!$B$4:$H$53,3,0)=\"Menina\",matPeso!P41,matPeso!P107),\"\")","v":""},{"$f":"IF(Turma!A$2=1,IF(VLOOKUP(\"x\",Turma!$B$4:$H$53,3,0)=\"Menina\",matPeso!R41,matPeso!R107),\"\")","v":""},{"$f":"IF(Turma!A$2=1,IF(VLOOKUP(\"x\",Turma!$B$4:$H$53,3,0)=\"Menina\",matPeso!T41,matPeso!T107),\"\")","v":""}]
[101,"",{"$f":"IF(Turma!A$2=1,IF(VLOOKUP(\"x\",Turma!$B$4:$H$53,3,0)=\"Menina\",matPeso!J42,matPeso!J108),\"\")","v":""},{"$f":"IF(Turma!A$2=1,IF(VLOOKUP(\"x\",Turma!$B$4:$H$53,3,0)=\"Menina\",matPeso!L42,matPeso!L108),\"\")","v":""},{"$f":"IF(Turma!A$2=1,IF(VLOOKUP(\"x\",Turma!$B$4:$H$53,3,0)=\"Menina\",matPeso!N42,matPeso!N108),\"\")","v":""},{"$f":"IF(Turma!A$2=1,IF(VLOOKUP(\"x\",Turma!$B$4:$H$53,3,0)=\"Menina\",matPeso!O42,matPeso!O108),\"\")","v":""},{"$f":"IF(Turma!A$2=1,IF(VLOOKUP(\"x\",Turma!$B$4:$H$53,3,0)=\"Menina\",matPeso!P42,matPeso!P108),\"\")","v":""},{"$f":"IF(Turma!A$2=1,IF(VLOOKUP(\"x\",Turma!$B$4:$H$53,3,0)=\"Menina\",matPeso!R42,matPeso!R108),\"\")","v":""},{"$f":"IF(Turma!A$2=1,IF(VLOOKUP(\"x\",Turma!$B$4:$H$53,3,0)=\"Menina\",matPeso!T42,matPeso!T108),\"\")","v":""}]
[102,"",{"$f":"IF(Turma!A$2=1,IF(VLOOKUP(\"x\",Turma!$B$4:$H$53,3,0)=\"Menina\",matPeso!J43,matPeso!J109),\"\")","v":""},{"$f":"IF(Turma!A$2=1,IF(VLOOKUP(\"x\",Turma!$B$4:$H$53,3,0)=\"Menina\",matPeso!L43,matPeso!L109),\"\")","v":""},{"$f":"IF(Turma!A$2=1,IF(VLOOKUP(\"x\",Turma!$B$4:$H$53,3,0)=\"Menina\",matPeso!N43,matPeso!N109),\"\")","v":""},{"$f":"IF(Turma!A$2=1,IF(VLOOKUP(\"x\",Turma!$B$4:$H$53,3,0)=\"Menina\",matPeso!O43,matPeso!O109),\"\")","v":""},{"$f":"IF(Turma!A$2=1,IF(VLOOKUP(\"x\",Turma!$B$4:$H$53,3,0)=\"Menina\",matPeso!P43,matPeso!P109),\"\")","v":""},{"$f":"IF(Turma!A$2=1,IF(VLOOKUP(\"x\",Turma!$B$4:$H$53,3,0)=\"Menina\",matPeso!R43,matPeso!R109),\"\")","v":""},{"$f":"IF(Turma!A$2=1,IF(VLOOKUP(\"x\",Turma!$B$4:$H$53,3,0)=\"Menina\",matPeso!T43,matPeso!T109),\"\")","v":""}]
[103,"",{"$f":"IF(Turma!A$2=1,IF(VLOOKUP(\"x\",Turma!$B$4:$H$53,3,0)=\"Menina\",matPeso!J44,matPeso!J110),\"\")","v":""},{"$f":"IF(Turma!A$2=1,IF(VLOOKUP(\"x\",Turma!$B$4:$H$53,3,0)=\"Menina\",matPeso!L44,matPeso!L110),\"\")","v":""},{"$f":"IF(Turma!A$2=1,IF(VLOOKUP(\"x\",Turma!$B$4:$H$53,3,0)=\"Menina\",matPeso!N44,matPeso!N110),\"\")","v":""},{"$f":"IF(Turma!A$2=1,IF(VLOOKUP(\"x\",Turma!$B$4:$H$53,3,0)=\"Menina\",matPeso!O44,matPeso!O110),\"\")","v":""},{"$f":"IF(Turma!A$2=1,IF(VLOOKUP(\"x\",Turma!$B$4:$H$53,3,0)=\"Menina\",matPeso!P44,matPeso!P110),\"\")","v":""},{"$f":"IF(Turma!A$2=1,IF(VLOOKUP(\"x\",Turma!$B$4:$H$53,3,0)=\"Menina\",matPeso!R44,matPeso!R110),\"\")","v":""},{"$f":"IF(Turma!A$2=1,IF(VLOOKUP(\"x\",Turma!$B$4:$H$53,3,0)=\"Menina\",matPeso!T44,matPeso!T110),\"\")","v":""}]
[104,"",{"$f":"IF(Turma!A$2=1,IF(VLOOKUP(\"x\",Turma!$B$4:$H$53,3,0)=\"Menina\",matPeso!J45,matPeso!J111),\"\")","v":""},{"$f":"IF(Turma!A$2=1,IF(VLOOKUP(\"x\",Turma!$B$4:$H$53,3,0)=\"Menina\",matPeso!L45,matPeso!L111),\"\")","v":""},{"$f":"IF(Turma!A$2=1,IF(VLOOKUP(\"x\",Turma!$B$4:$H$53,3,0)=\"Menina\",matPeso!N45,matPeso!N111),\"\")","v":""},{"$f":"IF(Turma!A$2=1,IF(VLOOKUP(\"x\",Turma!$B$4:$H$53,3,0)=\"Menina\",matPeso!O45,matPeso!O111),\"\")","v":""},{"$f":"IF(Turma!A$2=1,IF(VLOOKUP(\"x\",Turma!$B$4:$H$53,3,0)=\"Menina\",matPeso!P45,matPeso!P111),\"\")","v":""},{"$f":"IF(Turma!A$2=1,IF(VLOOKUP(\"x\",Turma!$B$4:$H$53,3,0)=\"Menina\",matPeso!R45,matPeso!R111),\"\")","v":""},{"$f":"IF(Turma!A$2=1,IF(VLOOKUP(\"x\",Turma!$B$4:$H$53,3,0)=\"Menina\",matPeso!T45,matPeso!T111),\"\")","v":""}]
[105,"",{"$f":"IF(Turma!A$2=1,IF(VLOOKUP(\"x\",Turma!$B$4:$H$53,3,0)=\"Menina\",matPeso!J46,matPeso!J112),\"\")","v":""},{"$f":"IF(Turma!A$2=1,IF(VLOOKUP(\"x\",Turma!$B$4:$H$53,3,0)=\"Menina\",matPeso!L46,matPeso!L112),\"\")","v":""},{"$f":"IF(Turma!A$2=1,IF(VLOOKUP(\"x\",Turma!$B$4:$H$53,3,0)=\"Menina\",matPeso!N46,matPeso!N112),\"\")","v":""},{"$f":"IF(Turma!A$2=1,IF(VLOOKUP(\"x\",Turma!$B$4:$H$53,3,0)=\"Menina\",matPeso!O46,matPeso!O112),\"\")","v":""},{"$f":"IF(Turma!A$2=1,IF(VLOOKUP(\"x\",Turma!$B$4:$H$53,3,0)=\"Menina\",matPeso!P46,matPeso!P112),\"\")","v":""},{"$f":"IF(Turma!A$2=1,IF(VLOOKUP(\"x\",Turma!$B$4:$H$53,3,0)=\"Menina\",matPeso!R46,matPeso!R112),\"\")","v":""},{"$f":"IF(Turma!A$2=1,IF(VLOOKUP(\"x\",Turma!$B$4:$H$53,3,0)=\"Menina\",matPeso!T46,matPeso!T112),\"\")","v":""}]
[106,"",{"$f":"IF(Turma!A$2=1,IF(VLOOKUP(\"x\",Turma!$B$4:$H$53,3,0)=\"Menina\",matPeso!J47,matPeso!J113),\"\")","v":""},{"$f":"IF(Turma!A$2=1,IF(VLOOKUP(\"x\",Turma!$B$4:$H$53,3,0)=\"Menina\",matPeso!L47,matPeso!L113),\"\")","v":""},{"$f":"IF(Turma!A$2=1,IF(VLOOKUP(\"x\",Turma!$B$4:$H$53,3,0)=\"Menina\",matPeso!N47,matPeso!N113),\"\")","v":""},{"$f":"IF(Turma!A$2=1,IF(VLOOKUP(\"x\",Turma!$B$4:$H$53,3,0)=\"Menina\",matPeso!O47,matPeso!O113),\"\")","v":""},{"$f":"IF(Turma!A$2=1,IF(VLOOKUP(\"x\",Turma!$B$4:$H$53,3,0)=\"Menina\",matPeso!P47,matPeso!P113),\"\")","v":""},{"$f":"IF(Turma!A$2=1,IF(VLOOKUP(\"x\",Turma!$B$4:$H$53,3,0)=\"Menina\",matPeso!R47,matPeso!R113),\"\")","v":""},{"$f":"IF(Turma!A$2=1,IF(VLOOKUP(\"x\",Turma!$B$4:$H$53,3,0)=\"Menina\",matPeso!T47,matPeso!T113),\"\")","v":""}]
[107,"",{"$f":"IF(Turma!A$2=1,IF(VLOOKUP(\"x\",Turma!$B$4:$H$53,3,0)=\"Menina\",matPeso!J48,matPeso!J114),\"\")","v":""},{"$f":"IF(Turma!A$2=1,IF(VLOOKUP(\"x\",Turma!$B$4:$H$53,3,0)=\"Menina\",matPeso!L48,matPeso!L114),\"\")","v":""},{"$f":"IF(Turma!A$2=1,IF(VLOOKUP(\"x\",Turma!$B$4:$H$53,3,0)=\"Menina\",matPeso!N48,matPeso!N114),\"\")","v":""},{"$f":"IF(Turma!A$2=1,IF(VLOOKUP(\"x\",Turma!$B$4:$H$53,3,0)=\"Menina\",matPeso!O48,matPeso!O114),\"\")","v":""},{"$f":"IF(Turma!A$2=1,IF(VLOOKUP(\"x\",Turma!$B$4:$H$53,3,0)=\"Menina\",matPeso!P48,matPeso!P114),\"\")","v":""},{"$f":"IF(Turma!A$2=1,IF(VLOOKUP(\"x\",Turma!$B$4:$H$53,3,0)=\"Menina\",matPeso!R48,matPeso!R114),\"\")","v":""},{"$f":"IF(Turma!A$2=1,IF(VLOOKUP(\"x\",Turma!$B$4:$H$53,3,0)=\"Menina\",matPeso!T48,matPeso!T114),\"\")","v":""}]
[108,9,{"$f":"IF(Turma!A$2=1,IF(VLOOKUP(\"x\",Turma!$B$4:$H$53,3,0)=\"Menina\",matPeso!J49,matPeso!J115),\"\")","v":""},{"$f":"IF(Turma!A$2=1,IF(VLOOKUP(\"x\",Turma!$B$4:$H$53,3,0)=\"Menina\",matPeso!L49,matPeso!L115),\"\")","v":""},{"$f":"IF(Turma!A$2=1,IF(VLOOKUP(\"x\",Turma!$B$4:$H$53,3,0)=\"Menina\",matPeso!N49,matPeso!N115),\"\")","v":""},{"$f":"IF(Turma!A$2=1,IF(VLOOKUP(\"x\",Turma!$B$4:$H$53,3,0)=\"Menina\",matPeso!O49,matPeso!O115),\"\")","v":""},{"$f":"IF(Turma!A$2=1,IF(VLOOKUP(\"x\",Turma!$B$4:$H$53,3,0)=\"Menina\",matPeso!P49,matPeso!P115),\"\")","v":""},{"$f":"IF(Turma!A$2=1,IF(VLOOKUP(\"x\",Turma!$B$4:$H$53,3,0)=\"Menina\",matPeso!R49,matPeso!R115),\"\")","v":""},{"$f":"IF(Turma!A$2=1,IF(VLOOKUP(\"x\",Turma!$B$4:$H$53,3,0)=\"Menina\",matPeso!T49,matPeso!T115),\"\")","v":""}]
[109,"",{"$f":"IF(Turma!A$2=1,IF(VLOOKUP(\"x\",Turma!$B$4:$H$53,3,0)=\"Menina\",matPeso!J50,matPeso!J116),\"\")","v":""},{"$f":"IF(Turma!A$2=1,IF(VLOOKUP(\"x\",Turma!$B$4:$H$53,3,0)=\"Menina\",matPeso!L50,matPeso!L116),\"\")","v":""},{"$f":"IF(Turma!A$2=1,IF(VLOOKUP(\"x\",Turma!$B$4:$H$53,3,0)=\"Menina\",matPeso!N50,matPeso!N116),\"\")","v":""},{"$f":"IF(Turma!A$2=1,IF(VLOOKUP(\"x\",Turma!$B$4:$H$53,3,0)=\"Menina\",matPeso!O50,matPeso!O116),\"\")","v":""},{"$f":"IF(Turma!A$2=1,IF(VLOOKUP(\"x\",Turma!$B$4:$H$53,3,0)=\"Menina\",matPeso!P50,matPeso!P116),\"\")","v":""},{"$f":"IF(Turma!A$2=1,IF(VLOOKUP(\"x\",Turma!$B$4:$H$53,3,0)=\"Menina\",matPeso!R50,matPeso!R116),\"\")","v":""},{"$f":"IF(Turma!A$2=1,IF(VLOOKUP(\"x\",Turma!$B$4:$H$53,3,0)=\"Menina\",matPeso!T50,matPeso!T116),\"\")","v":""}]
[110,"",{"$f":"IF(Turma!A$2=1,IF(VLOOKUP(\"x\",Turma!$B$4:$H$53,3,0)=\"Menina\",matPeso!J51,matPeso!J117),\"\")","v":""},{"$f":"IF(Turma!A$2=1,IF(VLOOKUP(\"x\",Turma!$B$4:$H$53,3,0)=\"Menina\",matPeso!L51,matPeso!L117),\"\")","v":""},{"$f":"IF(Turma!A$2=1,IF(VLOOKUP(\"x\",Turma!$B$4:$H$53,3,0)=\"Menina\",matPeso!N51,matPeso!N117),\"\")","v":""},{"$f":"IF(Turma!A$2=1,IF(VLOOKUP(\"x\",Turma!$B$4:$H$53,3,0)=\"Menina\",matPeso!O51,matPeso!O117),\"\")","v":""},{"$f":"IF(Turma!A$2=1,IF(VLOOKUP(\"x\",Turma!$B$4:$H$53,3,0)=\"Menina\",matPeso!P51,matPeso!P117),\"\")","v":""},{"$f":"IF(Turma!A$2=1,IF(VLOOKUP(\"x\",Turma!$B$4:$H$53,3,0)=\"Menina\",matPeso!R51,matPeso!R117),\"\")","v":""},{"$f":"IF(Turma!A$2=1,IF(VLOOKUP(\"x\",Turma!$B$4:$H$53,3,0)=\"Menina\",matPeso!T51,matPeso!T117),\"\")","v":""}]
[111,"",{"$f":"IF(Turma!A$2=1,IF(VLOOKUP(\"x\",Turma!$B$4:$H$53,3,0)=\"Menina\",matPeso!J52,matPeso!J118),\"\")","v":""},{"$f":"IF(Turma!A$2=1,IF(VLOOKUP(\"x\",Turma!$B$4:$H$53,3,0)=\"Menina\",matPeso!L52,matPeso!L118),\"\")","v":""},{"$f":"IF(Turma!A$2=1,IF(VLOOKUP(\"x\",Turma!$B$4:$H$53,3,0)=\"Menina\",matPeso!N52,matPeso!N118),\"\")","v":""},{"$f":"IF(Turma!A$2=1,IF(VLOOKUP(\"x\",Turma!$B$4:$H$53,3,0)=\"Menina\",matPeso!O52,matPeso!O118),\"\")","v":""},{"$f":"IF(Turma!A$2=1,IF(VLOOKUP(\"x\",Turma!$B$4:$H$53,3,0)=\"Menina\",matPeso!P52,matPeso!P118),\"\")","v":""},{"$f":"IF(Turma!A$2=1,IF(VLOOKUP(\"x\",Turma!$B$4:$H$53,3,0)=\"Menina\",matPeso!R52,matPeso!R118),\"\")","v":""},{"$f":"IF(Turma!A$2=1,IF(VLOOKUP(\"x\",Turma!$B$4:$H$53,3,0)=\"Menina\",matPeso!T52,matPeso!T118),\"\")","v":""}]
[112,"",{"$f":"IF(Turma!A$2=1,IF(VLOOKUP(\"x\",Turma!$B$4:$H$53,3,0)=\"Menina\",matPeso!J53,matPeso!J119),\"\")","v":""},{"$f":"IF(Turma!A$2=1,IF(VLOOKUP(\"x\",Turma!$B$4:$H$53,3,0)=\"Menina\",matPeso!L53,matPeso!L119),\"\")","v":""},{"$f":"IF(Turma!A$2=1,IF(VLOOKUP(\"x\",Turma!$B$4:$H$53,3,0)=\"Menina\",matPeso!N53,matPeso!N119),\"\")","v":""},{"$f":"IF(Turma!A$2=1,IF(VLOOKUP(\"x\",Turma!$B$4:$H$53,3,0)=\"Menina\",matPeso!O53,matPeso!O119),\"\")","v":""},{"$f":"IF(Turma!A$2=1,IF(VLOOKUP(\"x\",Turma!$B$4:$H$53,3,0)=\"Menina\",matPeso!P53,matPeso!P119),\"\")","v":""},{"$f":"IF(Turma!A$2=1,IF(VLOOKUP(\"x\",Turma!$B$4:$H$53,3,0)=\"Menina\",matPeso!R53,matPeso!R119),\"\")","v":""},{"$f":"IF(Turma!A$2=1,IF(VLOOKUP(\"x\",Turma!$B$4:$H$53,3,0)=\"Menina\",matPeso!T53,matPeso!T119),\"\")","v":""}]
[113,"",{"$f":"IF(Turma!A$2=1,IF(VLOOKUP(\"x\",Turma!$B$4:$H$53,3,0)=\"Menina\",matPeso!J54,matPeso!J120),\"\")","v":""},{"$f":"IF(Turma!A$2=1,IF(VLOOKUP(\"x\",Turma!$B$4:$H$53,3,0)=\"Menina\",matPeso!L54,matPeso!L120),\"\")","v":""},{"$f":"IF(Turma!A$2=1,IF(VLOOKUP(\"x\",Turma!$B$4:$H$53,3,0)=\"Menina\",matPeso!N54,matPeso!N120),\"\")","v":""},{"$f":"IF(Turma!A$2=1,IF(VLOOKUP(\"x\",Turma!$B$4:$H$53,3,0)=\"Menina\",matPeso!O54,matPeso!O120),\"\")","v":""},{"$f":"IF(Turma!A$2=1,IF(VLOOKUP(\"x\",Turma!$B$4:$H$53,3,0)=\"Menina\",matPeso!P54,matPeso!P120),\"\")","v":""},{"$f":"IF(Turma!A$2=1,IF(VLOOKUP(\"x\",Turma!$B$4:$H$53,3,0)=\"Menina\",matPeso!R54,matPeso!R120),\"\")","v":""},{"$f":"IF(Turma!A$2=1,IF(VLOOKUP(\"x\",Turma!$B$4:$H$53,3,0)=\"Menina\",matPeso!T54,matPeso!T120),\"\")","v":""}]
[114,"",{"$f":"IF(Turma!A$2=1,IF(VLOOKUP(\"x\",Turma!$B$4:$H$53,3,0)=\"Menina\",matPeso!J55,matPeso!J121),\"\")","v":""},{"$f":"IF(Turma!A$2=1,IF(VLOOKUP(\"x\",Turma!$B$4:$H$53,3,0)=\"Menina\",matPeso!L55,matPeso!L121),\"\")","v":""},{"$f":"IF(Turma!A$2=1,IF(VLOOKUP(\"x\",Turma!$B$4:$H$53,3,0)=\"Menina\",matPeso!N55,matPeso!N121),\"\")","v":""},{"$f":"IF(Turma!A$2=1,IF(VLOOKUP(\"x\",Turma!$B$4:$H$53,3,0)=\"Menina\",matPeso!O55,matPeso!O121),\"\")","v":""},{"$f":"IF(Turma!A$2=1,IF(VLOOKUP(\"x\",Turma!$B$4:$H$53,3,0)=\"Menina\",matPeso!P55,matPeso!P121),\"\")","v":""},{"$f":"IF(Turma!A$2=1,IF(VLOOKUP(\"x\",Turma!$B$4:$H$53,3,0)=\"Menina\",matPeso!R55,matPeso!R121),\"\")","v":""},{"$f":"IF(Turma!A$2=1,IF(VLOOKUP(\"x\",Turma!$B$4:$H$53,3,0)=\"Menina\",matPeso!T55,matPeso!T121),\"\")","v":""}]
[115,"",{"$f":"IF(Turma!A$2=1,IF(VLOOKUP(\"x\",Turma!$B$4:$H$53,3,0)=\"Menina\",matPeso!J56,matPeso!J122),\"\")","v":""},{"$f":"IF(Turma!A$2=1,IF(VLOOKUP(\"x\",Turma!$B$4:$H$53,3,0)=\"Menina\",matPeso!L56,matPeso!L122),\"\")","v":""},{"$f":"IF(Turma!A$2=1,IF(VLOOKUP(\"x\",Turma!$B$4:$H$53,3,0)=\"Menina\",matPeso!N56,matPeso!N122),\"\")","v":""},{"$f":"IF(Turma!A$2=1,IF(VLOOKUP(\"x\",Turma!$B$4:$H$53,3,0)=\"Menina\",matPeso!O56,matPeso!O122),\"\")","v":""},{"$f":"IF(Turma!A$2=1,IF(VLOOKUP(\"x\",Turma!$B$4:$H$53,3,0)=\"Menina\",matPeso!P56,matPeso!P122),\"\")","v":""},{"$f":"IF(Turma!A$2=1,IF(VLOOKUP(\"x\",Turma!$B$4:$H$53,3,0)=\"Menina\",matPeso!R56,matPeso!R122),\"\")","v":""},{"$f":"IF(Turma!A$2=1,IF(VLOOKUP(\"x\",Turma!$B$4:$H$53,3,0)=\"Menina\",matPeso!T56,matPeso!T122),\"\")","v":""}]
[116,"",{"$f":"IF(Turma!A$2=1,IF(VLOOKUP(\"x\",Turma!$B$4:$H$53,3,0)=\"Menina\",matPeso!J57,matPeso!J123),\"\")","v":""},{"$f":"IF(Turma!A$2=1,IF(VLOOKUP(\"x\",Turma!$B$4:$H$53,3,0)=\"Menina\",matPeso!L57,matPeso!L123),\"\")","v":""},{"$f":"IF(Turma!A$2=1,IF(VLOOKUP(\"x\",Turma!$B$4:$H$53,3,0)=\"Menina\",matPeso!N57,matPeso!N123),\"\")","v":""},{"$f":"IF(Turma!A$2=1,IF(VLOOKUP(\"x\",Turma!$B$4:$H$53,3,0)=\"Menina\",matPeso!O57,matPeso!O123),\"\")","v":""},{"$f":"IF(Turma!A$2=1,IF(VLOOKUP(\"x\",Turma!$B$4:$H$53,3,0)=\"Menina\",matPeso!P57,matPeso!P123),\"\")","v":""},{"$f":"IF(Turma!A$2=1,IF(VLOOKUP(\"x\",Turma!$B$4:$H$53,3,0)=\"Menina\",matPeso!R57,matPeso!R123),\"\")","v":""},{"$f":"IF(Turma!A$2=1,IF(VLOOKUP(\"x\",Turma!$B$4:$H$53,3,0)=\"Menina\",matPeso!T57,matPeso!T123),\"\")","v":""}]
[117,"",{"$f":"IF(Turma!A$2=1,IF(VLOOKUP(\"x\",Turma!$B$4:$H$53,3,0)=\"Menina\",matPeso!J58,matPeso!J124),\"\")","v":""},{"$f":"IF(Turma!A$2=1,IF(VLOOKUP(\"x\",Turma!$B$4:$H$53,3,0)=\"Menina\",matPeso!L58,matPeso!L124),\"\")","v":""},{"$f":"IF(Turma!A$2=1,IF(VLOOKUP(\"x\",Turma!$B$4:$H$53,3,0)=\"Menina\",matPeso!N58,matPeso!N124),\"\")","v":""},{"$f":"IF(Turma!A$2=1,IF(VLOOKUP(\"x\",Turma!$B$4:$H$53,3,0)=\"Menina\",matPeso!O58,matPeso!O124),\"\")","v":""},{"$f":"IF(Turma!A$2=1,IF(VLOOKUP(\"x\",Turma!$B$4:$H$53,3,0)=\"Menina\",matPeso!P58,matPeso!P124),\"\")","v":""},{"$f":"IF(Turma!A$2=1,IF(VLOOKUP(\"x\",Turma!$B$4:$H$53,3,0)=\"Menina\",matPeso!R58,matPeso!R124),\"\")","v":""},{"$f":"IF(Turma!A$2=1,IF(VLOOKUP(\"x\",Turma!$B$4:$H$53,3,0)=\"Menina\",matPeso!T58,matPeso!T124),\"\")","v":""}]
[118,"",{"$f":"IF(Turma!A$2=1,IF(VLOOKUP(\"x\",Turma!$B$4:$H$53,3,0)=\"Menina\",matPeso!J59,matPeso!J125),\"\")","v":""},{"$f":"IF(Turma!A$2=1,IF(VLOOKUP(\"x\",Turma!$B$4:$H$53,3,0)=\"Menina\",matPeso!L59,matPeso!L125),\"\")","v":""},{"$f":"IF(Turma!A$2=1,IF(VLOOKUP(\"x\",Turma!$B$4:$H$53,3,0)=\"Menina\",matPeso!N59,matPeso!N125),\"\")","v":""},{"$f":"IF(Turma!A$2=1,IF(VLOOKUP(\"x\",Turma!$B$4:$H$53,3,0)=\"Menina\",matPeso!O59,matPeso!O125),\"\")","v":""},{"$f":"IF(Turma!A$2=1,IF(VLOOKUP(\"x\",Turma!$B$4:$H$53,3,0)=\"Menina\",matPeso!P59,matPeso!P125),\"\")","v":""},{"$f":"IF(Turma!A$2=1,IF(VLOOKUP(\"x\",Turma!$B$4:$H$53,3,0)=\"Menina\",matPeso!R59,matPeso!R125),\"\")","v":""},{"$f":"IF(Turma!A$2=1,IF(VLOOKUP(\"x\",Turma!$B$4:$H$53,3,0)=\"Menina\",matPeso!T59,matPeso!T125),\"\")","v":""}]
[119,"",{"$f":"IF(Turma!A$2=1,IF(VLOOKUP(\"x\",Turma!$B$4:$H$53,3,0)=\"Menina\",matPeso!J60,matPeso!J126),\"\")","v":""},{"$f":"IF(Turma!A$2=1,IF(VLOOKUP(\"x\",Turma!$B$4:$H$53,3,0)=\"Menina\",matPeso!L60,matPeso!L126),\"\")","v":""},{"$f":"IF(Turma!A$2=1,IF(VLOOKUP(\"x\",Turma!$B$4:$H$53,3,0)=\"Menina\",matPeso!N60,matPeso!N126),\"\")","v":""},{"$f":"IF(Turma!A$2=1,IF(VLOOKUP(\"x\",Turma!$B$4:$H$53,3,0)=\"Menina\",matPeso!O60,matPeso!O126),\"\")","v":""},{"$f":"IF(Turma!A$2=1,IF(VLOOKUP(\"x\",Turma!$B$4:$H$53,3,0)=\"Menina\",matPeso!P60,matPeso!P126),\"\")","v":""},{"$f":"IF(Turma!A$2=1,IF(VLOOKUP(\"x\",Turma!$B$4:$H$53,3,0)=\"Menina\",matPeso!R60,matPeso!R126),\"\")","v":""},{"$f":"IF(Turma!A$2=1,IF(VLOOKUP(\"x\",Turma!$B$4:$H$53,3,0)=\"Menina\",matPeso!T60,matPeso!T126),\"\")","v":""}]
[120,10,{"$f":"IF(Turma!A$2=1,IF(VLOOKUP(\"x\",Turma!$B$4:$H$53,3,0)=\"Menina\",matPeso!J61,matPeso!J127),\"\")","v":""},{"$f":"IF(Turma!A$2=1,IF(VLOOKUP(\"x\",Turma!$B$4:$H$53,3,0)=\"Menina\",matPeso!L61,matPeso!L127),\"\")","v":""},{"$f":"IF(Turma!A$2=1,IF(VLOOKUP(\"x\",Turma!$B$4:$H$53,3,0)=\"Menina\",matPeso!N61,matPeso!N127),\"\")","v":""},{"$f":"IF(Turma!A$2=1,IF(VLOOKUP(\"x\",Turma!$B$4:$H$53,3,0)=\"Menina\",matPeso!O61,matPeso!O127),\"\")","v":""},{"$f":"IF(Turma!A$2=1,IF(VLOOKUP(\"x\",Turma!$B$4:$H$53,3,0)=\"Menina\",matPeso!P61,matPeso!P127),\"\")","v":""},{"$f":"IF(Turma!A$2=1,IF(VLOOKUP(\"x\",Turma!$B$4:$H$53,3,0)=\"Menina\",matPeso!R61,matPeso!R127),\"\")","v":""},{"$f":"IF(Turma!A$2=1,IF(VLOOKUP(\"x\",Turma!$B$4:$H$53,3,0)=\"Menina\",matPeso!T61,matPeso!T127),\"\")","v":""}]
[121,"",{"$f":"IF(Turma!A$2=1,IF(VLOOKUP(\"x\",Turma!$B$4:$H$53,3,0)=\"Menina\",matPeso!J62,matPeso!J128),\"\")","v":""},{"$f":"IF(Turma!A$2=1,IF(VLOOKUP(\"x\",Turma!$B$4:$H$53,3,0)=\"Menina\",matPeso!L62,matPeso!L128),\"\")","v":""},{"$f":"IF(Turma!A$2=1,IF(VLOOKUP(\"x\",Turma!$B$4:$H$53,3,0)=\"Menina\",matPeso!N62,matPeso!N128),\"\")","v":""},{"$f":"IF(Turma!A$2=1,IF(VLOOKUP(\"x\",Turma!$B$4:$H$53,3,0)=\"Menina\",matPeso!O62,matPeso!O128),\"\")","v":""},{"$f":"IF(Turma!A$2=1,IF(VLOOKUP(\"x\",Turma!$B$4:$H$53,3,0)=\"Menina\",matPeso!P62,matPeso!P128),\"\")","v":""},{"$f":"IF(Turma!A$2=1,IF(VLOOKUP(\"x\",Turma!$B$4:$H$53,3,0)=\"Menina\",matPeso!R62,matPeso!R128),\"\")","v":""},{"$f":"IF(Turma!A$2=1,IF(VLOOKUP(\"x\",Turma!$B$4:$H$53,3,0)=\"Menina\",matPeso!T62,matPeso!T128),\"\")","v":""}]
[122,"",{"$f":"IF(Turma!A$2=1,IF(VLOOKUP(\"x\",Turma!$B$4:$H$53,3,0)=\"Menina\",matPeso!J63,matPeso!J129),\"\")","v":""},{"$f":"IF(Turma!A$2=1,IF(VLOOKUP(\"x\",Turma!$B$4:$H$53,3,0)=\"Menina\",matPeso!L63,matPeso!L129),\"\")","v":""},{"$f":"IF(Turma!A$2=1,IF(VLOOKUP(\"x\",Turma!$B$4:$H$53,3,0)=\"Menina\",matPeso!N63,matPeso!N129),\"\")","v":""},{"$f":"IF(Turma!A$2=1,IF(VLOOKUP(\"x\",Turma!$B$4:$H$53,3,0)=\"Menina\",matPeso!O63,matPeso!O129),\"\")","v":""},{"$f":"IF(Turma!A$2=1,IF(VLOOKUP(\"x\",Turma!$B$4:$H$53,3,0)=\"Menina\",matPeso!P63,matPeso!P129),\"\")","v":""},{"$f":"IF(Turma!A$2=1,IF(VLOOKUP(\"x\",Turma!$B$4:$H$53,3,0)=\"Menina\",matPeso!R63,matPeso!R129),\"\")","v":""},{"$f":"IF(Turma!A$2=1,IF(VLOOKUP(\"x\",Turma!$B$4:$H$53,3,0)=\"Menina\",matPeso!T63,matPeso!T129),\"\")","v":""}]
[123,"",{"$f":"IF(Turma!A$2=1,IF(VLOOKUP(\"x\",Turma!$B$4:$H$53,3,0)=\"Menina\",matPeso!J64,matPeso!J130),\"\")","v":""},{"$f":"IF(Turma!A$2=1,IF(VLOOKUP(\"x\",Turma!$B$4:$H$53,3,0)=\"Menina\",matPeso!L64,matPeso!L130),\"\")","v":""},{"$f":"IF(Turma!A$2=1,IF(VLOOKUP(\"x\",Turma!$B$4:$H$53,3,0)=\"Menina\",matPeso!N64,matPeso!N130),\"\")","v":""},{"$f":"IF(Turma!A$2=1,IF(VLOOKUP(\"x\",Turma!$B$4:$H$53,3,0)=\"Menina\",matPeso!O64,matPeso!O130),\"\")","v":""},{"$f":"IF(Turma!A$2=1,IF(VLOOKUP(\"x\",Turma!$B$4:$H$53,3,0)=\"Menina\",matPeso!P64,matPeso!P130),\"\")","v":""},{"$f":"IF(Turma!A$2=1,IF(VLOOKUP(\"x\",Turma!$B$4:$H$53,3,0)=\"Menina\",matPeso!R64,matPeso!R130),\"\")","v":""},{"$f":"IF(Turma!A$2=1,IF(VLOOKUP(\"x\",Turma!$B$4:$H$53,3,0)=\"Menina\",matPeso!T64,matPeso!T130),\"\")","v":""}]
[124,"",{"$f":"IF(Turma!A$2=1,IF(VLOOKUP(\"x\",Turma!$B$4:$H$53,3,0)=\"Menina\",matPeso!J65,matPeso!J131),\"\")","v":""},{"$f":"IF(Turma!A$2=1,IF(VLOOKUP(\"x\",Turma!$B$4:$H$53,3,0)=\"Menina\",matPeso!L65,matPeso!L131),\"\")","v":""},{"$f":"IF(Turma!A$2=1,IF(VLOOKUP(\"x\",Turma!$B$4:$H$53,3,0)=\"Menina\",matPeso!N65,matPeso!N131),\"\")","v":""},{"$f":"IF(Turma!A$2=1,IF(VLOOKUP(\"x\",Turma!$B$4:$H$53,3,0)=\"Menina\",matPeso!O65,matPeso!O131),\"\")","v":""},{"$f":"IF(Turma!A$2=1,IF(VLOOKUP(\"x\",Turma!$B$4:$H$53,3,0)=\"Menina\",matPeso!P65,matPeso!P131),\"\")","v":""},{"$f":"IF(Turma!A$2=1,IF(VLOOKUP(\"x\",Turma!$B$4:$H$53,3,0)=\"Menina\",matPeso!R65,matPeso!R131),\"\")","v":""},{"$f":"IF(Turma!A$2=1,IF(VLOOKUP(\"x\",Turma!$B$4:$H$53,3,0)=\"Menina\",matPeso!T65,matPeso!T131),\"\")","v":""}]
[125,"",{"$f":"IF(Turma!A$2=1,IF(VLOOKUP(\"x\",Turma!$B$4:$H$53,3,0)=\"Menina\",matPeso!J66,matPeso!J132),\"\")","v":""},{"$f":"IF(Turma!A$2=1,IF(VLOOKUP(\"x\",Turma!$B$4:$H$53,3,0)=\"Menina\",matPeso!L66,matPeso!L132),\"\")","v":""},{"$f":"IF(Turma!A$2=1,IF(VLOOKUP(\"x\",Turma!$B$4:$H$53,3,0)=\"Menina\",matPeso!N66,matPeso!N132),\"\")","v":""},{"$f":"IF(Turma!A$2=1,IF(VLOOKUP(\"x\",Turma!$B$4:$H$53,3,0)=\"Menina\",matPeso!O66,matPeso!O132),\"\")","v":""},{"$f":"IF(Turma!A$2=1,IF(VLOOKUP(\"x\",Turma!$B$4:$H$53,3,0)=\"Menina\",matPeso!P66,matPeso!P132),\"\")","v":""},{"$f":"IF(Turma!A$2=1,IF(VLOOKUP(\"x\",Turma!$B$4:$H$53,3,0)=\"Menina\",matPeso!R66,matPeso!R132),\"\")","v":""},{"$f":"IF(Turma!A$2=1,IF(VLOOKUP(\"x\",Turma!$B$4:$H$53,3,0)=\"Menina\",matPeso!T66,matPeso!T132),\"\")","v":""}]
[126,"",{"$f":"IF(Turma!A$2=1,IF(VLOOKUP(\"x\",Turma!$B$4:$H$53,3,0)=\"Menina\",matPeso!J67,matPeso!J133),\"\")","v":""},{"$f":"IF(Turma!A$2=1,IF(VLOOKUP(\"x\",Turma!$B$4:$H$53,3,0)=\"Menina\",matPeso!L67,matPeso!L133),\"\")","v":""},{"$f":"IF(Turma!A$2=1,IF(VLOOKUP(\"x\",Turma!$B$4:$H$53,3,0)=\"Menina\",matPeso!N67,matPeso!N133),\"\")","v":""},{"$f":"IF(Turma!A$2=1,IF(VLOOKUP(\"x\",Turma!$B$4:$H$53,3,0)=\"Menina\",matPeso!O67,matPeso!O133),\"\")","v":""},{"$f":"IF(Turma!A$2=1,IF(VLOOKUP(\"x\",Turma!$B$4:$H$53,3,0)=\"Menina\",matPeso!P67,matPeso!P133),\"\")","v":""},{"$f":"IF(Turma!A$2=1,IF(VLOOKUP(\"x\",Turma!$B$4:$H$53,3,0)=\"Menina\",matPeso!R67,matPeso!R133),\"\")","v":""},{"$f":"IF(Turma!A$2=1,IF(VLOOKUP(\"x\",Turma!$B$4:$H$53,3,0)=\"Menina\",matPeso!T67,matPeso!T133),\"\")","v":""}]

{"sheet":"imcPercentis","index":3,"n_rows":68,"n_cols":13,"rows_kept":68,"cut":false,"hidden":true,"merged":[]}
["meses","anos","P3","P10","P25","P50","P75","P90","P97",null,"Género","Meses","IMC"]
[60,{"$f":"IF(A2/12=INT(A2/12),A2/12,\"\")","v":5},null,null,null,null,null,null,null,null,{"$f":"IF(Turma!A2=1,VLOOKUP(\"x\",Turma!B4:H53,3,0),\"\")","v":""},{"$f":"IF(Turma!A2=1,VLOOKUP(\"x\",Turma!B4:I53,8,0),\"\")","v":""},{"$f":"IF(Turma!A2=1,VLOOKUP(\"x\",Turma!B4:J53,9,0),\"\")","v":""}]
[61,{"$f":"IF(A3/12=INT(A3/12),A3/12,\"\")","v":""},{"$f":"IF(Turma!A$2=1,IF(VLOOKUP(\"x\",Turma!$B$4:$H$53,3,0)=\"Menina\",matIMC!J2,matIMC!J68),\"\")","v":""},{"$f":"IF(Turma!A$2=1,IF(VLOOKUP(\"x\",Turma!$B$4:$H$53,3,0)=\"Menina\",matIMC!L2,matIMC!L68),\"\")","v":""},{"$f":"IF(Turma!A$2=1,IF(VLOOKUP(\"x\",Turma!$B$4:$H$53,3,0)=\"Menina\",matIMC!N2,matIMC!N68),\"\")","v":""},{"$f":"IF(Turma!A$2=1,IF(VLOOKUP(\"x\",Turma!$B$4:$H$53,3,0)=\"Menina\",matIMC!O2,matIMC!O68),\"\")","v":""},{"$f":"IF(Turma!A$2=1,IF(VLOOKUP(\"x\",Turma!$B$4:$H$53,3,0)=\"Menina\",matIMC!P2,matIMC!P68),\"\")","v":""},{"$f":"IF(Turma!A$2=1,IF(VLOOKUP(\"x\",Turma!$B$4:$H$53,3,0)=\"Menina\",matIMC!R2,matIMC!R68),\"\")","v":""},{"$f":"IF(Turma!A$2=1,IF(VLOOKUP(\"x\",Turma!$B$4:$H$53,3,0)=\"Menina\",matIMC!T2,matIMC!T68),\"\")","v":""}]
[62,"",{"$f":"IF(Turma!A$2=1,IF(VLOOKUP(\"x\",Turma!$B$4:$H$53,3,0)=\"Menina\",matIMC!J3,matIMC!J69),\"\")","v":""},{"$f":"IF(Turma!A$2=1,IF(VLOOKUP(\"x\",Turma!$B$4:$H$53,3,0)=\"Menina\",matIMC!L3,matIMC!L69),\"\")","v":""},{"$f":"IF(Turma!A$2=1,IF(VLOOKUP(\"x\",Turma!$B$4:$H$53,3,0)=\"Menina\",matIMC!N3,matIMC!N69),\"\")","v":""},{"$f":"IF(Turma!A$2=1,IF(VLOOKUP(\"x\",Turma!$B$4:$H$53,3,0)=\"Menina\",matIMC!O3,matIMC!O69),\"\")","v":""},{"$f":"IF(Turma!A$2=1,IF(VLOOKUP(\"x\",Turma!$B$4:$H$53,3,0)=\"Menina\",matIMC!P3,matIMC!P69),\"\")","v":""},{"$f":"IF(Turma!A$2=1,IF(VLOOKUP(\"x\",Turma!$B$4:$H$53,3,0)=\"Menina\",matIMC!R3,matIMC!R69),\"\")","v":""},{"$f":"IF(Turma!A$2=1,IF(VLOOKUP(\"x\",Turma!$B$4:$H$53,3,0)=\"Menina\",matIMC!T3,matIMC!T69),\"\")","v":""}]
[63,"",{"$f":"IF(Turma!A$2=1,IF(VLOOKUP(\"x\",Turma!$B$4:$H$53,3,0)=\"Menina\",matIMC!J4,matIMC!J70),\"\")","v":""},{"$f":"IF(Turma!A$2=1,IF(VLOOKUP(\"x\",Turma!$B$4:$H$53,3,0)=\"Menina\",matIMC!L4,matIMC!L70),\"\")","v":""},{"$f":"IF(Turma!A$2=1,IF(VLOOKUP(\"x\",Turma!$B$4:$H$53,3,0)=\"Menina\",matIMC!N4,matIMC!N70),\"\")","v":""},{"$f":"IF(Turma!A$2=1,IF(VLOOKUP(\"x\",Turma!$B$4:$H$53,3,0)=\"Menina\",matIMC!O4,matIMC!O70),\"\")","v":""},{"$f":"IF(Turma!A$2=1,IF(VLOOKUP(\"x\",Turma!$B$4:$H$53,3,0)=\"Menina\",matIMC!P4,matIMC!P70),\"\")","v":""},{"$f":"IF(Turma!A$2=1,IF(VLOOKUP(\"x\",Turma!$B$4:$H$53,3,0)=\"Menina\",matIMC!R4,matIMC!R70),\"\")","v":""},{"$f":"IF(Turma!A$2=1,IF(VLOOKUP(\"x\",Turma!$B$4:$H$53,3,0)=\"Menina\",matIMC!T4,matIMC!T70),\"\")","v":""}]
[64,"",{"$f":"IF(Turma!A$2=1,IF(VLOOKUP(\"x\",Turma!$B$4:$H$53,3,0)=\"Menina\",matIMC!J5,matIMC!J71),\"\")","v":""},{"$f":"IF(Turma!A$2=1,IF(VLOOKUP(\"x\",Turma!$B$4:$H$53,3,0)=\"Menina\",matIMC!L5,matIMC!L71),\"\")","v":""},{"$f":"IF(Turma!A$2=1,IF(VLOOKUP(\"x\",Turma!$B$4:$H$53,3,0)=\"Menina\",matIMC!N5,matIMC!N71),\"\")","v":""},{"$f":"IF(Turma!A$2=1,IF(VLOOKUP(\"x\",Turma!$B$4:$H$53,3,0)=\"Menina\",matIMC!O5,matIMC!O71),\"\")","v":""},{"$f":"IF(Turma!A$2=1,IF(VLOOKUP(\"x\",Turma!$B$4:$H$53,3,0)=\"Menina\",matIMC!P5,matIMC!P71),\"\")","v":""},{"$f":"IF(Turma!A$2=1,IF(VLOOKUP(\"x\",Turma!$B$4:$H$53,3,0)=\"Menina\",matIMC!R5,matIMC!R71),\"\")","v":""},{"$f":"IF(Turma!A$2=1,IF(VLOOKUP(\"x\",Turma!$B$4:$H$53,3,0)=\"Menina\",matIMC!T5,matIMC!T71),\"\")","v":""}]
[65,"",{"$f":"IF(Turma!A$2=1,IF(VLOOKUP(\"x\",Turma!$B$4:$H$53,3,0)=\"Menina\",matIMC!J6,matIMC!J72),\"\")","v":""},{"$f":"IF(Turma!A$2=1,IF(VLOOKUP(\"x\",Turma!$B$4:$H$53,3,0)=\"Menina\",matIMC!L6,matIMC!L72),\"\")","v":""},{"$f":"IF(Turma!A$2=1,IF(VLOOKUP(\"x\",Turma!$B$4:$H$53,3,0)=\"Menina\",matIMC!N6,matIMC!N72),\"\")","v":""},{"$f":"IF(Turma!A$2=1,IF(VLOOKUP(\"x\",Turma!$B$4:$H$53,3,0)=\"Menina\",matIMC!O6,matIMC!O72),\"\")","v":""},{"$f":"IF(Turma!A$2=1,IF(VLOOKUP(\"x\",Turma!$B$4:$H$53,3,0)=\"Menina\",matIMC!P6,matIMC!P72),\"\")","v":""},{"$f":"IF(Turma!A$2=1,IF(VLOOKUP(\"x\",Turma!$B$4:$H$53,3,0)=\"Menina\",matIMC!R6,matIMC!R72),\"\")","v":""},{"$f":"IF(Turma!A$2=1,IF(VLOOKUP(\"x\",Turma!$B$4:$H$53,3,0)=\"Menina\",matIMC!T6,matIMC!T72),\"\")","v":""}]
[66,"",{"$f":"IF(Turma!A$2=1,IF(VLOOKUP(\"x\",Turma!$B$4:$H$53,3,0)=\"Menina\",matIMC!J7,matIMC!J73),\"\")","v":""},{"$f":"IF(Turma!A$2=1,IF(VLOOKUP(\"x\",Turma!$B$4:$H$53,3,0)=\"Menina\",matIMC!L7,matIMC!L73),\"\")","v":""},{"$f":"IF(Turma!A$2=1,IF(VLOOKUP(\"x\",Turma!$B$4:$H$53,3,0)=\"Menina\",matIMC!N7,matIMC!N73),\"\")","v":""},{"$f":"IF(Turma!A$2=1,IF(VLOOKUP(\"x\",Turma!$B$4:$H$53,3,0)=\"Menina\",matIMC!O7,matIMC!O73),\"\")","v":""},{"$f":"IF(Turma!A$2=1,IF(VLOOKUP(\"x\",Turma!$B$4:$H$53,3,0)=\"Menina\",matIMC!P7,matIMC!P73),\"\")","v":""},{"$f":"IF(Turma!A$2=1,IF(VLOOKUP(\"x\",Turma!$B$4:$H$53,3,0)=\"Menina\",matIMC!R7,matIMC!R73),\"\")","v":""},{"$f":"IF(Turma!A$2=1,IF(VLOOKUP(\"x\",Turma!$B$4:$H$53,3,0)=\"Menina\",matIMC!T7,matIMC!T73),\"\")","v":""}]
[67,"",{"$f":"IF(Turma!A$2=1,IF(VLOOKUP(\"x\",Turma!$B$4:$H$53,3,0)=\"Menina\",matIMC!J8,matIMC!J74),\"\")","v":""},{"$f":"IF(Turma!A$2=1,IF(VLOOKUP(\"x\",Turma!$B$4:$H$53,3,0)=\"Menina\",matIMC!L8,matIMC!L74),\"\")","v":""},{"$f":"IF(Turma!A$2=1,IF(VLOOKUP(\"x\",Turma!$B$4:$H$53,3,0)=\"Menina\",matIMC!N8,matIMC!N74),\"\")","v":""},{"$f":"IF(Turma!A$2=1,IF(VLOOKUP(\"x\",Turma!$B$4:$H$53,3,0)=\"Menina\",matIMC!O8,matIMC!O74),\"\")","v":""},{"$f":"IF(Turma!A$2=1,IF(VLOOKUP(\"x\",Turma!$B$4:$H$53,3,0)=\"Menina\",matIMC!P8,matIMC!P74),\"\")","v":""},{"$f":"IF(Turma!A$2=1,IF(VLOOKUP(\"x\",Turma!$B$4:$H$53,3,0)=\"Menina\",matIMC!R8,matIMC!R74),\"\")","v":""},{"$f":"IF(Turma!A$2=1,IF(VLOOKUP(\"x\",Turma!$B$4:$H$53,3,0)=\"Menina\",matIMC!T8,matIMC!T74),\"\")","v":""}]
[68,"",{"$f":"IF(Turma!A$2=1,IF(VLOOKUP(\"x\",Turma!$B$4:$H$53,3,0)=\"Menina\",matIMC!J9,matIMC!J75),\"\")","v":""},{"$f":"IF(Turma!A$2=1,IF(VLOOKUP(\"x\",Turma!$B$4:$H$53,3,0)=\"Menina\",matIMC!L9,matIMC!L75),\"\")","v":""},{"$f":"IF(Turma!A$2=1,IF(VLOOKUP(\"x\",Turma!$B$4:$H$53,3,0)=\"Menina\",matIMC!N9,matIMC!N75),\"\")","v":""},{"$f":"IF(Turma!A$2=1,IF(VLOOKUP(\"x\",Turma!$B$4:$H$53,3,0)=\"Menina\",matIMC!O9,matIMC!O75),\"\")","v":""},{"$f":"IF(Turma!A$2=1,IF(VLOOKUP(\"x\",Turma!$B$4:$H$53,3,0)=\"Menina\",matIMC!P9,matIMC!P75),\"\")","v":""},{"$f":"IF(Turma!A$2=1,IF(VLOOKUP(\"x\",Turma!$B$4:$H$53,3,0)=\"Menina\",matIMC!R9,matIMC!R75),\"\")","v":""},{"$f":"IF(Turma!A$2=1,IF(VLOOKUP(\"x\",Turma!$B$4:$H$53,3,0)=\"Menina\",matIMC!T9,matIMC!T75),\"\")","v":""}]
[69,"",{"$f":"IF(Turma!A$2=1,IF(VLOOKUP(\"x\",Turma!$B$4:$H$53,3,0)=\"Menina\",matIMC!J10,matIMC!J76),\"\")","v":""},{"$f":"IF(Turma!A$2=1,IF(VLOOKUP(\"x\",Turma!$B$4:$H$53,3,0)=\"Menina\",matIMC!L10,matIMC!L76),\"\")","v":""},{"$f":"IF(Turma!A$2=1,IF(VLOOKUP(\"x\",Turma!$B$4:$H$53,3,0)=\"Menina\",matIMC!N10,matIMC!N76),\"\")","v":""},{"$f":"IF(Turma!A$2=1,IF(VLOOKUP(\"x\",Turma!$B$4:$H$53,3,0)=\"Menina\",matIMC!O10,matIMC!O76),\"\")","v":""},{"$f":"IF(Turma!A$2=1,IF(VLOOKUP(\"x\",Turma!$B$4:$H$53,3,0)=\"Menina\",matIMC!P10,matIMC!P76),\"\")","v":""},{"$f":"IF(Turma!A$2=1,IF(VLOOKUP(\"x\",Turma!$B$4:$H$53,3,0)=\"Menina\",matIMC!R10,matIMC!R76),\"\")","v":""},{"$f":"IF(Turma!A$2=1,IF(VLOOKUP(\"x\",Turma!$B$4:$H$53,3,0)=\"Menina\",matIMC!T10,matIMC!T76),\"\")","v":""}]
[70,"",{"$f":"IF(Turma!A$2=1,IF(VLOOKUP(\"x\",Turma!$B$4:$H$53,3,0)=\"Menina\",matIMC!J11,matIMC!J77),\"\")","v":""},{"$f":"IF(Turma!A$2=1,IF(VLOOKUP(\"x\",Turma!$B$4:$H$53,3,0)=\"Menina\",matIMC!L11,matIMC!L77),\"\")","v":""},{"$f":"IF(Turma!A$2=1,IF(VLOOKUP(\"x\",Turma!$B$4:$H$53,3,0)=\"Menina\",matIMC!N11,matIMC!N77),\"\")","v":""},{"$f":"IF(Turma!A$2=1,IF(VLOOKUP(\"x\",Turma!$B$4:$H$53,3,0)=\"Menina\",matIMC!O11,matIMC!O77),\"\")","v":""},{"$f":"IF(Turma!A$2=1,IF(VLOOKUP(\"x\",Turma!$B$4:$H$53,3,0)=\"Menina\",matIMC!P11,matIMC!P77),\"\")","v":""},{"$f":"IF(Turma!A$2=1,IF(VLOOKUP(\"x\",Turma!$B$4:$H$53,3,0)=\"Menina\",matIMC!R11,matIMC!R77),\"\")","v":""},{"$f":"IF(Turma!A$2=1,IF(VLOOKUP(\"x\",Turma!$B$4:$H$53,3,0)=\"Menina\",matIMC!T11,matIMC!T77),\"\")","v":""}]
[71,"",{"$f":"IF(Turma!A$2=1,IF(VLOOKUP(\"x\",Turma!$B$4:$H$53,3,0)=\"Menina\",matIMC!J12,matIMC!J78),\"\")","v":""},{"$f":"IF(Turma!A$2=1,IF(VLOOKUP(\"x\",Turma!$B$4:$H$53,3,0)=\"Menina\",matIMC!L12,matIMC!L78),\"\")","v":""},{"$f":"IF(Turma!A$2=1,IF(VLOOKUP(\"x\",Turma!$B$4:$H$53,3,0)=\"Menina\",matIMC!N12,matIMC!N78),\"\")","v":""},{"$f":"IF(Turma!A$2=1,IF(VLOOKUP(\"x\",Turma!$B$4:$H$53,3,0)=\"Menina\",matIMC!O12,matIMC!O78),\"\")","v":""},{"$f":"IF(Turma!A$2=1,IF(VLOOKUP(\"x\",Turma!$B$4:$H$53,3,0)=\"Menina\",matIMC!P12,matIMC!P78),\"\")","v":""},{"$f":"IF(Turma!A$2=1,IF(VLOOKUP(\"x\",Turma!$B$4:$H$53,3,0)=\"Menina\",matIMC!R12,matIMC!R78),\"\")","v":""},{"$f":"IF(Turma!A$2=1,IF(VLOOKUP(\"x\",Turma!$B$4:$H$53,3,0)=\"Menina\",matIMC!T12,matIMC!T78),\"\")","v":""}]
[72,6,{"$f":"IF(Turma!A$2=1,IF(VLOOKUP(\"x\",Turma!$B$4:$H$53,3,0)=\"Menina\",matIMC!J13,matIMC!J79),\"\")","v":""},{"$f":"IF(Turma!A$2=1,IF(VLOOKUP(\"x\",Turma!$B$4:$H$53,3,0)=\"Menina\",matIMC!L13,matIMC!L79),\"\")","v":""},{"$f":"IF(Turma!A$2=1,IF(VLOOKUP(\"x\",Turma!$B$4:$H$53,3,0)=\"Menina\",matIMC!N13,matIMC!N79),\"\")","v":""},{"$f":"IF(Turma!A$2=1,IF(VLOOKUP(\"x\",Turma!$B$4:$H$53,3,0)=\"Menina\",matIMC!O13,matIMC!O79),\"\")","v":""},{"$f":"IF(Turma!A$2=1,IF(VLOOKUP(\"x\",Turma!$B$4:$H$53,3,0)=\"Menina\",matIMC!P13,matIMC!P79),\"\")","v":""},{"$f":"IF(Turma!A$2=1,IF(VLOOKUP(\"x\",Turma!$B$4:$H$53,3,0)=\"Menina\",matIMC!R13,matIMC!R79),\"\")","v":""},{"$f":"IF(Turma!A$2=1,IF(VLOOKUP(\"x\",Turma!$B$4:$H$53,3,0)=\"Menina\",matIMC!T13,matIMC!T79),\"\")","v":""}]
[73,"",{"$f":"IF(Turma!A$2=1,IF(VLOOKUP(\"x\",Turma!$B$4:$H$53,3,0)=\"Menina\",matIMC!J14,matIMC!J80),\"\")","v":""},{"$f":"IF(Turma!A$2=1,IF(VLOOKUP(\"x\",Turma!$B$4:$H$53,3,0)=\"Menina\",matIMC!L14,matIMC!L80),\"\")","v":""},{"$f":"IF(Turma!A$2=1,IF(VLOOKUP(\"x\",Turma!$B$4:$H$53,3,0)=\"Menina\",matIMC!N14,matIMC!N80),\"\")","v":""},{"$f":"IF(Turma!A$2=1,IF(VLOOKUP(\"x\",Turma!$B$4:$H$53,3,0)=\"Menina\",matIMC!O14,matIMC!O80),\"\")","v":""},{"$f":"IF(Turma!A$2=1,IF(VLOOKUP(\"x\",Turma!$B$4:$H$53,3,0)=\"Menina\",matIMC!P14,matIMC!P80),\"\")","v":""},{"$f":"IF(Turma!A$2=1,IF(VLOOKUP(\"x\",Turma!$B$4:$H$53,3,0)=\"Menina\",matIMC!R14,matIMC!R80),\"\")","v":""},{"$f":"IF(Turma!A$2=1,IF(VLOOKUP(\"x\",Turma!$B$4:$H$53,3,0)=\"Menina\",matIMC!T14,matIMC!T80),\"\")","v":""}]
[74,"",{"$f":"IF(Turma!A$2=1,IF(VLOOKUP(\"x\",Turma!$B$4:$H$53,3,0)=\"Menina\",matIMC!J15,matIMC!J81),\"\")","v":""},{"$f":"IF(Turma!A$2=1,IF(VLOOKUP(\"x\",Turma!$B$4:$H$53,3,0)=\"Menina\",matIMC!L15,matIMC!L81),\"\")","v":""},{"$f":"IF(Turma!A$2=1,IF(VLOOKUP(\"x\",Turma!$B$4:$H$53,3,0)=\"Menina\",matIMC!N15,matIMC!N81),\"\")","v":""},{"$f":"IF(Turma!A$2=1,IF(VLOOKUP(\"x\",Turma!$B$4:$H$53,3,0)=\"Menina\",matIMC!O15,matIMC!O81),\"\")","v":""},{"$f":"IF(Turma!A$2=1,IF(VLOOKUP(\"x\",Turma!$B$4:$H$53,3,0)=\"Menina\",matIMC!P15,matIMC!P81),\"\")","v":""},{"$f":"IF(Turma!A$2=1,IF(VLOOKUP(\"x\",Turma!$B$4:$H$53,3,0)=\"Menina\",matIMC!R15,matIMC!R81),\"\")","v":""},{"$f":"IF(Turma!A$2=1,IF(VLOOKUP(\"x\",Turma!$B$4:$H$53,3,0)=\"Menina\",matIMC!T15,matIMC!T81),\"\")","v":""}]
[75,"",{"$f":"IF(Turma!A$2=1,IF(VLOOKUP(\"x\",Turma!$B$4:$H$53,3,0)=\"Menina\",matIMC!J16,matIMC!J82),\"\")","v":""},{"$f":"IF(Turma!A$2=1,IF(VLOOKUP(\"x\",Turma!$B$4:$H$53,3,0)=\"Menina\",matIMC!L16,matIMC!L82),\"\")","v":""},{"$f":"IF(Turma!A$2=1,IF(VLOOKUP(\"x\",Turma!$B$4:$H$53,3,0)=\"Menina\",matIMC!N16,matIMC!N82),\"\")","v":""},{"$f":"IF(Turma!A$2=1,IF(VLOOKUP(\"x\",Turma!$B$4:$H$53,3,0)=\"Menina\",matIMC!O16,matIMC!O82),\"\")","v":""},{"$f":"IF(Turma!A$2=1,IF(VLOOKUP(\"x\",Turma!$B$4:$H$53,3,0)=\"Menina\",matIMC!P16,matIMC!P82),\"\")","v":""},{"$f":"IF(Turma!A$2=1,IF(VLOOKUP(\"x\",Turma!$B$4:$H$53,3,0)=\"Menina\",matIMC!R16,matIMC!R82),\"\")","v":""},{"$f":"IF(Turma!A$2=1,IF(VLOOKUP(\"x\",Turma!$B$4:$H$53,3,0)=\"Menina\",matIMC!T16,matIMC!T82),\"\")","v":""}]
[76,"",{"$f":"IF(Turma!A$2=1,IF(VLOOKUP(\"x\",Turma!$B$4:$H$53,3,0)=\"Menina\",matIMC!J17,matIMC!J83),\"\")","v":""},{"$f":"IF(Turma!A$2=1,IF(VLOOKUP(\"x\",Turma!$B$4:$H$53,3,0)=\"Menina\",matIMC!L17,matIMC!L83),\"\")","v":""},{"$f":"IF(Turma!A$2=1,IF(VLOOKUP(\"x\",Turma!$B$4:$H$53,3,0)=\"Menina\",matIMC!N17,matIMC!N83),\"\")","v":""},{"$f":"IF(Turma!A$2=1,IF(VLOOKUP(\"x\",Turma!$B$4:$H$53,3,0)=\"Menina\",matIMC!O17,matIMC!O83),\"\")","v":""},{"$f":"IF(Turma!A$2=1,IF(VLOOKUP(\"x\",Turma!$B$4:$H$53,3,0)=\"Menina\",matIMC!P17,matIMC!P83),\"\")","v":""},{"$f":"IF(Turma!A$2=1,IF(VLOOKUP(\"x\",Turma!$B$4:$H$53,3,0)=\"Menina\",matIMC!R17,matIMC!R83),\"\")","v":""},{"$f":"IF(Turma!A$2=1,IF(VLOOKUP(\"x\",Turma!$B$4:$H$53,3,0)=\"Menina\",matIMC!T17,matIMC!T83),\"\")","v":""}]
[77,"",{"$f":"IF(Turma!A$2=1,IF(VLOOKUP(\"x\",Turma!$B$4:$H$53,3,0)=\"Menina\",matIMC!J18,matIMC!J84),\"\")","v":""},{"$f":"IF(Turma!A$2=1,IF(VLOOKUP(\"x\",Turma!$B$4:$H$53,3,0)=\"Menina\",matIMC!L18,matIMC!L84),\"\")","v":""},{"$f":"IF(Turma!A$2=1,IF(VLOOKUP(\"x\",Turma!$B$4:$H$53,3,0)=\"Menina\",matIMC!N18,matIMC!N84),\"\")","v":""},{"$f":"IF(Turma!A$2=1,IF(VLOOKUP(\"x\",Turma!$B$4:$H$53,3,0)=\"Menina\",matIMC!O18,matIMC!O84),\"\")","v":""},{"$f":"IF(Turma!A$2=1,IF(VLOOKUP(\"x\",Turma!$B$4:$H$53,3,0)=\"Menina\",matIMC!P18,matIMC!P84),\"\")","v":""},{"$f":"IF(Turma!A$2=1,IF(VLOOKUP(\"x\",Turma!$B$4:$H$53,3,0)=\"Menina\",matIMC!R18,matIMC!R84),\"\")","v":""},{"$f":"IF(Turma!A$2=1,IF(VLOOKUP(\"x\",Turma!$B$4:$H$53,3,0)=\"Menina\",matIMC!T18,matIMC!T84),\"\")","v":""}]
[78,"",{"$f":"IF(Turma!A$2=1,IF(VLOOKUP(\"x\",Turma!$B$4:$H$53,3,0)=\"Menina\",matIMC!J19,matIMC!J85),\"\")","v":""},{"$f":"IF(Turma!A$2=1,IF(VLOOKUP(\"x\",Turma!$B$4:$H$53,3,0)=\"Menina\",matIMC!L19,matIMC!L85),\"\")","v":""},{"$f":"IF(Turma!A$2=1,IF(VLOOKUP(\"x\",Turma!$B$4:$H$53,3,0)=\"Menina\",matIMC!N19,matIMC!N85),\"\")","v":""},{"$f":"IF(Turma!A$2=1,IF(VLOOKUP(\"x\",Turma!$B$4:$H$53,3,0)=\"Menina\",matIMC!O19,matIMC!O85),\"\")","v":""},{"$f":"IF(Turma!A$2=1,IF(VLOOKUP(\"x\",Turma!$B$4:$H$53,3,0)=\"Menina\",matIMC!P19,matIMC!P85),\"\")","v":""},{"$f":"IF(Turma!A$2=1,IF(VLOOKUP(\"x\",Turma!$B$4:$H$53,3,0)=\"Menina\",matIMC!R19,matIMC!R85),\"\")","v":""},{"$f":"IF(Turma!A$2=1,IF(VLOOKUP(\"x\",Turma!$B$4:$H$53,3,0)=\"Menina\",matIMC!T19,matIMC!T85),\"\")","v":""}]
[79,"",{"$f":"IF(Turma!A$2=1,IF(VLOOKUP(\"x\",Turma!$B$4:$H$53,3,0)=\"Menina\",matIMC!J20,matIMC!J86),\"\")","v":""},{"$f":"IF(Turma!A$2=1,IF(VLOOKUP(\"x\",Turma!$B$4:$H$53,3,0)=\"Menina\",matIMC!L20,matIMC!L86),\"\")","v":""},{"$f":"IF(Turma!A$2=1,IF(VLOOKUP(\"x\",Turma!$B$4:$H$53,3,0)=\"Menina\",matIMC!N20,matIMC!N86),\"\")","v":""},{"$f":"IF(Turma!A$2=1,IF(VLOOKUP(\"x\",Turma!$B$4:$H$53,3,0)=\"Menina\",matIMC!O20,matIMC!O86),\"\")","v":""},{"$f":"IF(Turma!A$2=1,IF(VLOOKUP(\"x\",Turma!$B$4:$H$53,3,0)=\"Menina\",matIMC!P20,matIMC!P86),\"\")","v":""},{"$f":"IF(Turma!A$2=1,IF(VLOOKUP(\"x\",Turma!$B$4:$H$53,3,0)=\"Menina\",matIMC!R20,matIMC!R86),\"\")","v":""},{"$f":"IF(Turma!A$2=1,IF(VLOOKUP(\"x\",Turma!$B$4:$H$53,3,0)=\"Menina\",matIMC!T20,matIMC!T86),\"\")","v":""}]
[80,"",{"$f":"IF(Turma!A$2=1,IF(VLOOKUP(\"x\",Turma!$B$4:$H$53,3,0)=\"Menina\",matIMC!J21,matIMC!J87),\"\")","v":""},{"$f":"IF(Turma!A$2=1,IF(VLOOKUP(\"x\",Turma!$B$4:$H$53,3,0)=\"Menina\",matIMC!L21,matIMC!L87),\"\")","v":""},{"$f":"IF(Turma!A$2=1,IF(VLOOKUP(\"x\",Turma!$B$4:$H$53,3,0)=\"Menina\",matIMC!N21,matIMC!N87),\"\")","v":""},{"$f":"IF(Turma!A$2=1,IF(VLOOKUP(\"x\",Turma!$B$4:$H$53,3,0)=\"Menina\",matIMC!O21,matIMC!O87),\"\")","v":""},{"$f":"IF(Turma!A$2=1,IF(VLOOKUP(\"x\",Turma!$B$4:$H$53,3,0)=\"Menina\",matIMC!P21,matIMC!P87),\"\")","v":""},{"$f":"IF(Turma!A$2=1,IF(VLOOKUP(\"x\",Turma!$B$4:$H$53,3,0)=\"Menina\",matIMC!R21,matIMC!R87),\"\")","v":""},{"$f":"IF(Turma!A$2=1,IF(VLOOKUP(\"x\",Turma!$B$4:$H$53,3,0)=\"Menina\",matIMC!T21,matIMC!T87),\"\")","v":""}]
[81,"",{"$f":"IF(Turma!A$2=1,IF(VLOOKUP(\"x\",Turma!$B$4:$H$53,3,0)=\"Menina\",matIMC!J22,matIMC!J88),\"\")","v":""},{"$f":"IF(Turma!A$2=1,IF(VLOOKUP(\"x\",Turma!$B$4:$H$53,3,0)=\"Menina\",matIMC!L22,matIMC!L88),\"\")","v":""},{"$f":"IF(Turma!A$2=1,IF(VLOOKUP(\"x\",Turma!$B$4:$H$53,3,0)=\"Menina\",matIMC!N22,matIMC!N88),\"\")","v":""},{"$f":"IF(Turma!A$2=1,IF(VLOOKUP(\"x\",Turma!$B$4:$H$53,3,0)=\"Menina\",matIMC!O22,matIMC!O88),\"\")","v":""},{"$f":"IF(Turma!A$2=1,IF(VLOOKUP(\"x\",Turma!$B$4:$H$53,3,0)=\"Menina\",matIMC!P22,matIMC!P88),\"\")","v":""},{"$f":"IF(Turma!A$2=1,IF(VLOOKUP(\"x\",Turma!$B$4:$H$53,3,0)=\"Menina\",matIMC!R22,matIMC!R88),\"\")","v":""},{"$f":"IF(Turma!A$2=1,IF(VLOOKUP(\"x\",Turma!$B$4:$H$53,3,0)=\"Menina\",matIMC!T22,matIMC!T88),\"\")","v":""}]
[82,"",{"$f":"IF(Turma!A$2=1,IF(VLOOKUP(\"x\",Turma!$B$4:$H$53,3,0)=\"Menina\",matIMC!J23,matIMC!J89),\"\")","v":""},{"$f":"IF(Turma!A$2=1,IF(VLOOKUP(\"x\",Turma!$B$4:$H$53,3,0)=\"Menina\",matIMC!L23,matIMC!L89),\"\")","v":""},{"$f":"IF(Turma!A$2=1,IF(VLOOKUP(\"x\",Turma!$B$4:$H$53,3,0)=\"Menina\",matIMC!N23,matIMC!N89),\"\")","v":""},{"$f":"IF(Turma!A$2=1,IF(VLOOKUP(\"x\",Turma!$B$4:$H$53,3,0)=\"Menina\",matIMC!O23,matIMC!O89),\"\")","v":""},{"$f":"IF(Turma!A$2=1,IF(VLOOKUP(\"x\",Turma!$B$4:$H$53,3,0)=\"Menina\",matIMC!P23,matIMC!P89),\"\")","v":""},{"$f":"IF(Turma!A$2=1,IF(VLOOKUP(\"x\",Turma!$B$4:$H$53,3,0)=\"Menina\",matIMC!R23,matIMC!R89),\"\")","v":""},{"$f":"IF(Turma!A$2=1,IF(VLOOKUP(\"x\",Turma!$B$4:$H$53,3,0)=\"Menina\",matIMC!T23,matIMC!T89),\"\")","v":""}]
[83,"",{"$f":"IF(Turma!A$2=1,IF(VLOOKUP(\"x\",Turma!$B$4:$H$53,3,0)=\"Menina\",matIMC!J24,matIMC!J90),\"\")","v":""},{"$f":"IF(Turma!A$2=1,IF(VLOOKUP(\"x\",Turma!$B$4:$H$53,3,0)=\"Menina\",matIMC!L24,matIMC!L90),\"\")","v":""},{"$f":"IF(Turma!A$2=1,IF(VLOOKUP(\"x\",Turma!$B$4:$H$53,3,0)=\"Menina\",matIMC!N24,matIMC!N90),\"\")","v":""},{"$f":"IF(Turma!A$2=1,IF(VLOOKUP(\"x\",Turma!$B$4:$H$53,3,0)=\"Menina\",matIMC!O24,matIMC!O90),\"\")","v":""},{"$f":"IF(Turma!A$2=1,IF(VLOOKUP(\"x\",Turma!$B$4:$H$53,3,0)=\"Menina\",matIMC!P24,matIMC!P90),\"\")","v":""},{"$f":"IF(Turma!A$2=1,IF(VLOOKUP(\"x\",Turma!$B$4:$H$53,3,0)=\"Menina\",matIMC!R24,matIMC!R90),\"\")","v":""},{"$f":"IF(Turma!A$2=1,IF(VLOOKUP(\"x\",Turma!$B$4:$H$53,3,0)=\"Menina\",matIMC!T24,matIMC!T90),\"\")","v":""}]
[84,7,{"$f":"IF(Turma!A$2=1,IF(VLOOKUP(\"x\",Turma!$B$4:$H$53,3,0)=\"Menina\",matIMC!J25,matIMC!J91),\"\")","v":""},{"$f":"IF(Turma!A$2=1,IF(VLOOKUP(\"x\",Turma!$B$4:$H$53,3,0)=\"Menina\",matIMC!L25,matIMC!L91),\"\")","v":""},{"$f":"IF(Turma!A$2=1,IF(VLOOKUP(\"x\",Turma!$B$4:$H$53,3,0)=\"Menina\",matIMC!N25,matIMC!N91),\"\")","v":""},{"$f":"IF(Turma!A$2=1,IF(VLOOKUP(\"x\",Turma!$B$4:$H$53,3,0)=\"Menina\",matIMC!O25,matIMC!O91),\"\")","v":""},{"$f":"IF(Turma!A$2=1,IF(VLOOKUP(\"x\",Turma!$B$4:$H$53,3,0)=\"Menina\",matIMC!P25,matIMC!P91),\"\")","v":""},{"$f":"IF(Turma!A$2=1,IF(VLOOKUP(\"x\",Turma!$B$4:$H$53,3,0)=\"Menina\",matIMC!R25,matIMC!R91),\"\")","v":""},{"$f":"IF(Turma!A$2=1,IF(VLOOKUP(\"x\",Turma!$B$4:$H$53,3,0)=\"Menina\",matIMC!T25,matIMC!T91),\"\")","v":""}]
[85,"",{"$f":"IF(Turma!A$2=1,IF(VLOOKUP(\"x\",Turma!$B$4:$H$53,3,0)=\"Menina\",matIMC!J26,matIMC!J92),\"\")","v":""},{"$f":"IF(Turma!A$2=1,IF(VLOOKUP(\"x\",Turma!$B$4:$H$53,3,0)=\"Menina\",matIMC!L26,matIMC!L92),\"\")","v":""},{"$f":"IF(Turma!A$2=1,IF(VLOOKUP(\"x\",Turma!$B$4:$H$53,3,0)=\"Menina\",matIMC!N26,matIMC!N92),\"\")","v":""},{"$f":"IF(Turma!A$2=1,IF(VLOOKUP(\"x\",Turma!$B$4:$H$53,3,0)=\"Menina\",matIMC!O26,matIMC!O92),\"\")","v":""},{"$f":"IF(Turma!A$2=1,IF(VLOOKUP(\"x\",Turma!$B$4:$H$53,3,0)=\"Menina\",matIMC!P26,matIMC!P92),\"\")","v":""},{"$f":"IF(Turma!A$2=1,IF(VLOOKUP(\"x\",Turma!$B$4:$H$53,3,0)=\"Menina\",matIMC!R26,matIMC!R92),\"\")","v":""},{"$f":"IF(Turma!A$2=1,IF(VLOOKUP(\"x\",Turma!$B$4:$H$53,3,0)=\"Menina\",matIMC!T26,matIMC!T92),\"\")","v":""}]
[86,"",{"$f":"IF(Turma!A$2=1,IF(VLOOKUP(\"x\",Turma!$B$4:$H$53,3,0)=\"Menina\",matIMC!J27,matIMC!J93),\"\")","v":""},{"$f":"IF(Turma!A$2=1,IF(VLOOKUP(\"x\",Turma!$B$4:$H$53,3,0)=\"Menina\",matIMC!L27,matIMC!L93),\"\")","v":""},{"$f":"IF(Turma!A$2=1,IF(VLOOKUP(\"x\",Turma!$B$4:$H$53,3,0)=\"Menina\",matIMC!N27,matIMC!N93),\"\")","v":""},{"$f":"IF(Turma!A$2=1,IF(VLOOKUP(\"x\",Turma!$B$4:$H$53,3,0)=\"Menina\",matIMC!O27,matIMC!O93),\"\")","v":""},{"$f":"IF(Turma!A$2=1,IF(VLOOKUP(\"x\",Turma!$B$4:$H$53,3,0)=\"Menina\",matIMC!P27,matIMC!P93),\"\")","v":""},{"$f":"IF(Turma!A$2=1,IF(VLOOKUP(\"x\",Turma!$B$4:$H$53,3,0)=\"Menina\",matIMC!R27,matIMC!R93),\"\")","v":""},{"$f":"IF(Turma!A$2=1,IF(VLOOKUP(\"x\",Turma!$B$4:$H$53,3,0)=\"Menina\",matIMC!T27,matIMC!T93),\"\")","v":""}]
[87,"",{"$f":"IF(Turma!A$2=1,IF(VLOOKUP(\"x\",Turma!$B$4:$H$53,3,0)=\"Menina\",matIMC!J28,matIMC!J94),\"\")","v":""},{"$f":"IF(Turma!A$2=1,IF(VLOOKUP(\"x\",Turma!$B$4:$H$53,3,0)=\"Menina\",matIMC!L28,matIMC!L94),\"\")","v":""},{"$f":"IF(Turma!A$2=1,IF(VLOOKUP(\"x\",Turma!$B$4:$H$53,3,0)=\"Menina\",matIMC!N28,matIMC!N94),\"\")","v":""},{"$f":"IF(Turma!A$2=1,IF(VLOOKUP(\"x\",Turma!$B$4:$H$53,3,0)=\"Menina\",matIMC!O28,matIMC!O94),\"\")","v":""},{"$f":"IF(Turma!A$2=1,IF(VLOOKUP(\"x\",Turma!$B$4:$H$53,3,0)=\"Menina\",matIMC!P28,matIMC!P94),\"\")","v":""},{"$f":"IF(Turma!A$2=1,IF(VLOOKUP(\"x\",Turma!$B$4:$H$53,3,0)=\"Menina\",matIMC!R28,matIMC!R94),\"\")","v":""},{"$f":"IF(Turma!A$2=1,IF(VLOOKUP(\"x\",Turma!$B$4:$H$53,3,0)=\"Menina\",matIMC!T28,matIMC!T94),\"\")","v":""}]
[88,"",{"$f":"IF(Turma!A$2=1,IF(VLOOKUP(\"x\",Turma!$B$4:$H$53,3,0)=\"Menina\",matIMC!J29,matIMC!J95),\"\")","v":""},{"$f":"IF(Turma!A$2=1,IF(VLOOKUP(\"x\",Turma!$B$4:$H$53,3,0)=\"Menina\",matIMC!L29,matIMC!L95),\"\")","v":""},{"$f":"IF(Turma!A$2=1,IF(VLOOKUP(\"x\",Turma!$B$4:$H$53,3,0)=\"Menina\",matIMC!N29,matIMC!N95),\"\")","v":""},{"$f":"IF(Turma!A$2=1,IF(VLOOKUP(\"x\",Turma!$B$4:$H$53,3,0)=\"Menina\",matIMC!O29,matIMC!O95),\"\")","v":""},{"$f":"IF(Turma!A$2=1,IF(VLOOKUP(\"x\",Turma!$B$4:$H$53,3,0)=\"Menina\",matIMC!P29,matIMC!P95),\"\")","v":""},{"$f":"IF(Turma!A$2=1,IF(VLOOKUP(\"x\",Turma!$B$4:$H$53,3,0)=\"Menina\",matIMC!R29,matIMC!R95),\"\")","v":""},{"$f":"IF(Turma!A$2=1,IF(VLOOKUP(\"x\",Turma!$B$4:$H$53,3,0)=\"Menina\",matIMC!T29,matIMC!T95),\"\")","v":""}]
[89,"",{"$f":"IF(Turma!A$2=1,IF(VLOOKUP(\"x\",Turma!$B$4:$H$53,3,0)=\"Menina\",matIMC!J30,matIMC!J96),\"\")","v":""},{"$f":"IF(Turma!A$2=1,IF(VLOOKUP(\"x\",Turma!$B$4:$H$53,3,0)=\"Menina\",matIMC!L30,matIMC!L96),\"\")","v":""},{"$f":"IF(Turma!A$2=1,IF(VLOOKUP(\"x\",Turma!$B$4:$H$53,3,0)=\"Menina\",matIMC!N30,matIMC!N96),\"\")","v":""},{"$f":"IF(Turma!A$2=1,IF(VLOOKUP(\"x\",Turma!$B$4:$H$53,3,0)=\"Menina\",matIMC!O30,matIMC!O96),\"\")","v":""},{"$f":"IF(Turma!A$2=1,IF(VLOOKUP(\"x\",Turma!$B$4:$H$53,3,0)=\"Menina\",matIMC!P30,matIMC!P96),\"\")","v":""},{"$f":"IF(Turma!A$2=1,IF(VLOOKUP(\"x\",Turma!$B$4:$H$53,3,0)=\"Menina\",matIMC!R30,matIMC!R96),\"\")","v":""},{"$f":"IF(Turma!A$2=1,IF(VLOOKUP(\"x\",Turma!$B$4:$H$53,3,0)=\"Menina\",matIMC!T30,matIMC!T96),\"\")","v":""}]
[90,"",{"$f":"IF(Turma!A$2=1,IF(VLOOKUP(\"x\",Turma!$B$4:$H$53,3,0)=\"Menina\",matIMC!J31,matIMC!J97),\"\")","v":""},{"$f":"IF(Turma!A$2=1,IF(VLOOKUP(\"x\",Turma!$B$4:$H$53,3,0)=\"Menina\",matIMC!L31,matIMC!L97),\"\")","v":""},{"$f":"IF(Turma!A$2=1,IF(VLOOKUP(\"x\",Turma!$B$4:$H$53,3,0)=\"Menina\",matIMC!N31,matIMC!N97),\"\")","v":""},{"$f":"IF(Turma!A$2=1,IF(VLOOKUP(\"x\",Turma!$B$4:$H$53,3,0)=\"Menina\",matIMC!O31,matIMC!O97),\"\")","v":""},{"$f":"IF(Turma!A$2=1,IF(VLOOKUP(\"x\",Turma!$B$4:$H$53,3,0)=\"Menina\",matIMC!P31,matIMC!P97),\"\")","v":""},{"$f":"IF(Turma!A$2=1,IF(VLOOKUP(\"x\",Turma!$B$4:$H$53,3,0)=\"Menina\",matIMC!R31,matIMC!R97),\"\")","v":""},{"$f":"IF(Turma!A$2=1,IF(VLOOKUP(\"x\",Turma!$B$4:$H$53,3,0)=\"Menina\",matIMC!T31,matIMC!T97),\"\")","v":""}]
[91,"",{"$f":"IF(Turma!A$2=1,IF(VLOOKUP(\"x\",Turma!$B$4:$H$53,3,0)=\"Menina\",matIMC!J32,matIMC!J98),\"\")","v":""},{"$f":"IF(Turma!A$2=1,IF(VLOOKUP(\"x\",Turma!$B$4:$H$53,3,0)=\"Menina\",matIMC!L32,matIMC!L98),\"\")","v":""},{"$f":"IF(Turma!A$2=1,IF(VLOOKUP(\"x\",Turma!$B$4:$H$53,3,0)=\"Menina\",matIMC!N32,matIMC!N98),\"\")","v":""},{"$f":"IF(Turma!A$2=1,IF(VLOOKUP(\"x\",Turma!$B$4:$H$53,3,0)=\"Menina\",matIMC!O32,matIMC!O98),\"\")","v":""},{"$f":"IF(Turma!A$2=1,IF(VLOOKUP(\"x\",Turma!$B$4:$H$53,3,0)=\"Menina\",matIMC!P32,matIMC!P98),\"\")","v":""},{"$f":"IF(Turma!A$2=1,IF(VLOOKUP(\"x\",Turma!$B$4:$H$53,3,0)=\"Menina\",matIMC!R32,matIMC!R98),\"\")","v":""},{"$f":"IF(Turma!A$2=1,IF(VLOOKUP(\"x\",Turma!$B$4:$H$53,3,0)=\"Menina\",matIMC!T32,matIMC!T98),\"\")","v":""}]
[92,"",{"$f":"IF(Turma!A$2=1,IF(VLOOKUP(\"x\",Turma!$B$4:$H$53,3,0)=\"Menina\",matIMC!J33,matIMC!J99),\"\")","v":""},{"$f":"IF(Turma!A$2=1,IF(VLOOKUP(\"x\",Turma!$B$4:$H$53,3,0)=\"Menina\",matIMC!L33,matIMC!L99),\"\")","v":""},{"$f":"IF(Turma!A$2=1,IF(VLOOKUP(\"x\",Turma!$B$4:$H$53,3,0)=\"Menina\",matIMC!N33,matIMC!N99),\"\")","v":""},{"$f":"IF(Turma!A$2=1,IF(VLOOKUP(\"x\",Turma!$B$4:$H$53,3,0)=\"Menina\",matIMC!O33,matIMC!O99),\"\")","v":""},{"$f":"IF(Turma!A$2=1,IF(VLOOKUP(\"x\",Turma!$B$4:$H$53,3,0)=\"Menina\",matIMC!P33,matIMC!P99),\"\")","v":""},{"$f":"IF(Turma!A$2=1,IF(VLOOKUP(\"x\",Turma!$B$4:$H$53,3,0)=\"Menina\",matIMC!R33,matIMC!R99),\"\")","v":""},{"$f":"IF(Turma!A$2=1,IF(VLOOKUP(\"x\",Turma!$B$4:$H$53,3,0)=\"Menina\",matIMC!T33,matIMC!T99),\"\")","v":""}]
[93,"",{"$f":"IF(Turma!A$2=1,IF(VLOOKUP(\"x\",Turma!$B$4:$H$53,3,0)=\"Menina\",matIMC!J34,matIMC!J100),\"\")","v":""},{"$f":"IF(Turma!A$2=1,IF(VLOOKUP(\"x\",Turma!$B$4:$H$53,3,0)=\"Menina\",matIMC!L34,matIMC!L100),\"\")","v":""},{"$f":"IF(Turma!A$2=1,IF(VLOOKUP(\"x\",Turma!$B$4:$H$53,3,0)=\"Menina\",matIMC!N34,matIMC!N100),\"\")","v":""},{"$f":"IF(Turma!A$2=1,IF(VLOOKUP(\"x\",Turma!$B$4:$H$53,3,0)=\"Menina\",matIMC!O34,matIMC!O100),\"\")","v":""},{"$f":"IF(Turma!A$2=1,IF(VLOOKUP(\"x\",Turma!$B$4:$H$53,3,0)=\"Menina\",matIMC!P34,matIMC!P100),\"\")","v":""},{"$f":"IF(Turma!A$2=1,IF(VLOOKUP(\"x\",Turma!$B$4:$H$53,3,0)=\"Menina\",matIMC!R34,matIMC!R100),\"\")","v":""},{"$f":"IF(Turma!A$2=1,IF(VLOOKUP(\"x\",Turma!$B$4:$H$53,3,0)=\"Menina\",matIMC!T34,matIMC!T100),\"\")","v":""}]
[94,"",{"$f":"IF(Turma!A$2=1,IF(VLOOKUP(\"x\",Turma!$B$4:$H$53,3,0)=\"Menina\",matIMC!J35,matIMC!J101),\"\")","v":""},{"$f":"IF(Turma!A$2=1,IF(VLOOKUP(\"x\",Turma!$B$4:$H$53,3,0)=\"Menina\",matIMC!L35,matIMC!L101),\"\")","v":""},{"$f":"IF(Turma!A$2=1,IF(VLOOKUP(\"x\",Turma!$B$4:$H$53,3,0)=\"Menina\",matIMC!N35,matIMC!N101),\"\")","v":""},{"$f":"IF(Turma!A$2=1,IF(VLOOKUP(\"x\",Turma!$B$4:$H$53,3,0)=\"Menina\",matIMC!O35,matIMC!O101),\"\")","v":""},{"$f":"IF(Turma!A$2=1,IF(VLOOKUP(\"x\",Turma!$B$4:$H$53,3,0)=\"Menina\",matIMC!P35,matIMC!P101),\"\")","v":""},{"$f":"IF(Turma!A$2=1,IF(VLOOKUP(\"x\",Turma!$B$4:$H$53,3,0)=\"Menina\",matIMC!R35,matIMC!R101),\"\")","v":""},{"$f":"IF(Turma!A$2=1,IF(VLOOKUP(\"x\",Turma!$B$4:$H$53,3,0)=\"Menina\",matIMC!T35,matIMC!T101),\"\")","v":""}]
[95,"",{"$f":"IF(Turma!A$2=1,IF(VLOOKUP(\"x\",Turma!$B$4:$H$53,3,0)=\"Menina\",matIMC!J36,matIMC!J102),\"\")","v":""},{"$f":"IF(Turma!A$2=1,IF(VLOOKUP(\"x\",Turma!$B$4:$H$53,3,0)=\"Menina\",matIMC!L36,matIMC!L102),\"\")","v":""},{"$f":"IF(Turma!A$2=1,IF(VLOOKUP(\"x\",Turma!$B$4:$H$53,3,0)=\"Menina\",matIMC!N36,matIMC!N102),\"\")","v":""},{"$f":"IF(Turma!A$2=1,IF(VLOOKUP(\"x\",Turma!$B$4:$H$53,3,0)=\"Menina\",matIMC!O36,matIMC!O102),\"\")","v":""},{"$f":"IF(Turma!A$2=1,IF(VLOOKUP(\"x\",Turma!$B$4:$H$53,3,0)=\"Menina\",matIMC!P36,matIMC!P102),\"\")","v":""},{"$f":"IF(Turma!A$2=1,IF(VLOOKUP(\"x\",Turma!$B$4:$H$53,3,0)=\"Menina\",matIMC!R36,matIMC!R102),\"\")","v":""},{"$f":"IF(Turma!A$2=1,IF(VLOOKUP(\"x\",Turma!$B$4:$H$53,3,0)=\"Menina\",matIMC!T36,matIMC!T102),\"\")","v":""}]
[96,8,{"$f":"IF(Turma!A$2=1,IF(VLOOKUP(\"x\",Turma!$B$4:$H$53,3,0)=\"Menina\",matIMC!J37,matIMC!J103),\"\")","v":""},{"$f":"IF(Turma!A$2=1,IF(VLOOKUP(\"x\",Turma!$B$4:$H$53,3,0)=\"Menina\",matIMC!L37,matIMC!L103),\"\")","v":""},{"$f":"IF(Turma!A$2=1,IF(VLOOKUP(\"x\",Turma!$B$4:$H$53,3,0)=\"Menina\",matIMC!N37,matIMC!N103),\"\")","v":""},{"$f":"IF(Turma!A$2=1,IF(VLOOKUP(\"x\",Turma!$B$4:$H$53,3,0)=\"Menina\",matIMC!O37,matIMC!O103),\"\")","v":""},{"$f":"IF(Turma!A$2=1,IF(VLOOKUP(\"x\",Turma!$B$4:$H$53,3,0)=\"Menina\",matIMC!P37,matIMC!P103),\"\")","v":""},{"$f":"IF(Turma!A$2=1,IF(VLOOKUP(\"x\",Turma!$B$4:$H$53,3,0)=\"Menina\",matIMC!R37,matIMC!R103),\"\")","v":""},{"$f":"IF(Turma!A$2=1,IF(VLOOKUP(\"x\",Turma!$B$4:$H$53,3,0)=\"Menina\",matIMC!T37,matIMC!T103),\"\")","v":""}]
[97,"",{"$f":"IF(Turma!A$2=1,IF(VLOOKUP(\"x\",Turma!$B$4:$H$53,3,0)=\"Menina\",matIMC!J38,matIMC!J104),\"\")","v":""},{"$f":"IF(Turma!A$2=1,IF(VLOOKUP(\"x\",Turma!$B$4:$H$53,3,0)=\"Menina\",matIMC!L38,matIMC!L104),\"\")","v":""},{"$f":"IF(Turma!A$2=1,IF(VLOOKUP(\"x\",Turma!$B$4:$H$53,3,0)=\"Menina\",matIMC!N38,matIMC!N104),\"\")","v":""},{"$f":"IF(Turma!A$2=1,IF(VLOOKUP(\"x\",Turma!$B$4:$H$53,3,0)=\"Menina\",matIMC!O38,matIMC!O104),\"\")","v":""},{"$f":"IF(Turma!A$2=1,IF(VLOOKUP(\"x\",Turma!$B$4:$H$53,3,0)=\"Menina\",matIMC!P38,matIMC!P104),\"\")","v":""},{"$f":"IF(Turma!A$2=1,IF(VLOOKUP(\"x\",Turma!$B$4:$H$53,3,0)=\"Menina\",matIMC!R38,matIMC!R104),\"\")","v":""},{"$f":"IF(Turma!A$2=1,IF(VLOOKUP(\"x\",Turma!$B$4:$H$53,3,0)=\"Menina\",matIMC!T38,matIMC!T104),\"\")","v":""}]
[98,"",{"$f":"IF(Turma!A$2=1,IF(VLOOKUP(\"x\",Turma!$B$4:$H$53,3,0)=\"Menina\",matIMC!J39,matIMC!J105),\"\")","v":""},{"$f":"IF(Turma!A$2=1,IF(VLOOKUP(\"x\",Turma!$B$4:$H$53,3,0)=\"Menina\",matIMC!L39,matIMC!L105),\"\")","v":""},{"$f":"IF(Turma!A$2=1,IF(VLOOKUP(\"x\",Turma!$B$4:$H$53,3,0)=\"Menina\",matIMC!N39,matIMC!N105),\"\")","v":""},{"$f":"IF(Turma!A$2=1,IF(VLOOKUP(\"x\",Turma!$B$4:$H$53,3,0)=\"Menina\",matIMC!O39,matIMC!O105),\"\")","v":""},{"$f":"IF(Turma!A$2=1,IF(VLOOKUP(\"x\",Turma!$B$4:$H$53,3,0)=\"Menina\",matIMC!P39,matIMC!P105),\"\")","v":""},{"$f":"IF(Turma!A$2=1,IF(VLOOKUP(\"x\",Turma!$B$4:$H$53,3,0)=\"Menina\",matIMC!R39,matIMC!R105),\"\")","v":""},{"$f":"IF(Turma!A$2=1,IF(VLOOKUP(\"x\",Turma!$B$4:$H$53,3,0)=\"Menina\",matIMC!T39,matIMC!T105),\"\")","v":""}]
[99,"",{"$f":"IF(Turma!A$2=1,IF(VLOOKUP(\"x\",Turma!$B$4:$H$53,3,0)=\"Menina\",matIMC!J40,matIMC!J106),\"\")","v":""},{"$f":"IF(Turma!A$2=1,IF(VLOOKUP(\"x\",Turma!$B$4:$H$53,3,0)=\"Menina\",matIMC!L40,matIMC!L106),\"\")","v":""},{"$f":"IF(Turma!A$2=1,IF(VLOOKUP(\"x\",Turma!$B$4:$H$53,3,0)=\"Menina\",matIMC!N40,matIMC!N106),\"\")","v":""},{"$f":"IF(Turma!A$2=1,IF(VLOOKUP(\"x\",Turma!$B$4:$H$53,3,0)=\"Menina\",matIMC!O40,matIMC!O106),\"\")","v":""},{"$f":"IF(Turma!A$2=1,IF(VLOOKUP(\"x\",Turma!$B$4:$H$53,3,0)=\"Menina\",matIMC!P40,matIMC!P106),\"\")","v":""},{"$f":"IF(Turma!A$2=1,IF(VLOOKUP(\"x\",Turma!$B$4:$H$53,3,0)=\"Menina\",matIMC!R40,matIMC!R106),\"\")","v":""},{"$f":"IF(Turma!A$2=1,IF(VLOOKUP(\"x\",Turma!$B$4:$H$53,3,0)=\"Menina\",matIMC!T40,matIMC!T106),\"\")","v":""}]
[100,"",{"$f":"IF(Turma!A$2=1,IF(VLOOKUP(\"x\",Turma!$B$4:$H$53,3,0)=\"Menina\",matIMC!J41,matIMC!J107),\"\")","v":""},{"$f":"IF(Turma!A$2=1,IF(VLOOKUP(\"x\",Turma!$B$4:$H$53,3,0)=\"Menina\",matIMC!L41,matIMC!L107),\"\")","v":""},{"$f":"IF(Turma!A$2=1,IF(VLOOKUP(\"x\",Turma!$B$4:$H$53,3,0)=\"Menina\",matIMC!N41,matIMC!N107),\"\")","v":""},{"$f":"IF(Turma!A$2=1,IF(VLOOKUP(\"x\",Turma!$B$4:$H$53,3,0)=\"Menina\",matIMC!O41,matIMC!O107),\"\")","v":""},{"$f":"IF(Turma!A$2=1,IF(VLOOKUP(\"x\",Turma!$B$4:$H$53,3,0)=\"Menina\",matIMC!P41,matIMC!P107),\"\")","v":""},{"$f":"IF(Turma!A$2=1,IF(VLOOKUP(\"x\",Turma!$B$4:$H$53,3,0)=\"Menina\",matIMC!R41,matIMC!R107),\"\")","v":""},{"$f":"IF(Turma!A$2=1,IF(VLOOKUP(\"x\",Turma!$B$4:$H$53,3,0)=\"Menina\",matIMC!T41,matIMC!T107),\"\")","v":""}]
[101,"",{"$f":"IF(Turma!A$2=1,IF(VLOOKUP(\"x\",Turma!$B$4:$H$53,3,0)=\"Menina\",matIMC!J42,matIMC!J108),\"\")","v":""},{"$f":"IF(Turma!A$2=1,IF(VLOOKUP(\"x\",Turma!$B$4:$H$53,3,0)=\"Menina\",matIMC!L42,matIMC!L108),\"\")","v":""},{"$f":"IF(Turma!A$2=1,IF(VLOOKUP(\"x\",Turma!$B$4:$H$53,3,0)=\"Menina\",matIMC!N42,matIMC!N108),\"\")","v":""},{"$f":"IF(Turma!A$2=1,IF(VLOOKUP(\"x\",Turma!$B$4:$H$53,3,0)=\"Menina\",matIMC!O42,matIMC!O108),\"\")","v":""},{"$f":"IF(Turma!A$2=1,IF(VLOOKUP(\"x\",Turma!$B$4:$H$53,3,0)=\"Menina\",matIMC!P42,matIMC!P108),\"\")","v":""},{"$f":"IF(Turma!A$2=1,IF(VLOOKUP(\"x\",Turma!$B$4:$H$53,3,0)=\"Menina\",matIMC!R42,matIMC!R108),\"\")","v":""},{"$f":"IF(Turma!A$2=1,IF(VLOOKUP(\"x\",Turma!$B$4:$H$53,3,0)=\"Menina\",matIMC!T42,matIMC!T108),\"\")","v":""}]
[102,"",{"$f":"IF(Turma!A$2=1,IF(VLOOKUP(\"x\",Turma!$B$4:$H$53,3,0)=\"Menina\",matIMC!J43,matIMC!J109),\"\")","v":""},{"$f":"IF(Turma!A$2=1,IF(VLOOKUP(\"x\",Turma!$B$4:$H$53,3,0)=\"Menina\",matIMC!L43,matIMC!L109),\"\")","v":""},{"$f":"IF(Turma!A$2=1,IF(VLOOKUP(\"x\",Turma!$B$4:$H$53,3,0)=\"Menina\",matIMC!N43,matIMC!N109),\"\")","v":""},{"$f":"IF(Turma!A$2=1,IF(VLOOKUP(\"x\",Turma!$B$4:$H$53,3,0)=\"Menina\",matIMC!O43,matIMC!O109),\"\")","v":""},{"$f":"IF(Turma!A$2=1,IF(VLOOKUP(\"x\",Turma!$B$4:$H$53,3,0)=\"Menina\",matIMC!P43,matIMC!P109),\"\")","v":""},{"$f":"IF(Turma!A$2=1,IF(VLOOKUP(\"x\",Turma!$B$4:$H$53,3,0)=\"Menina\",matIMC!R43,matIMC!R109),\"\")","v":""},{"$f":"IF(Turma!A$2=1,IF(VLOOKUP(\"x\",Turma!$B$4:$H$53,3,0)=\"Menina\",matIMC!T43,matIMC!T109),\"\")","v":""}]
[103,"",{"$f":"IF(Turma!A$2=1,IF(VLOOKUP(\"x\",Turma!$B$4:$H$53,3,0)=\"Menina\",matIMC!J44,matIMC!J110),\"\")","v":""},{"$f":"IF(Turma!A$2=1,IF(VLOOKUP(\"x\",Turma!$B$4:$H$53,3,0)=\"Menina\",matIMC!L44,matIMC!L110),\"\")","v":""},{"$f":"IF(Turma!A$2=1,IF(VLOOKUP(\"x\",Turma!$B$4:$H$53,3,0)=\"Menina\",matIMC!N44,matIMC!N110),\"\")","v":""},{"$f":"IF(Turma!A$2=1,IF(VLOOKUP(\"x\",Turma!$B$4:$H$53,3,0)=\"Menina\",matIMC!O44,matIMC!O110),\"\")","v":""},{"$f":"IF(Turma!A$2=1,IF(VLOOKUP(\"x\",Turma!$B$4:$H$53,3,0)=\"Menina\",matIMC!P44,matIMC!P110),\"\")","v":""},{"$f":"IF(Turma!A$2=1,IF(VLOOKUP(\"x\",Turma!$B$4:$H$53,3,0)=\"Menina\",matIMC!R44,matIMC!R110),\"\")","v":""},{"$f":"IF(Turma!A$2=1,IF(VLOOKUP(\"x\",Turma!$B$4:$H$53,3,0)=\"Menina\",matIMC!T44,matIMC!T110),\"\")","v":""}]
[104,"",{"$f":"IF(Turma!A$2=1,IF(VLOOKUP(\"x\",Turma!$B$4:$H$53,3,0)=\"Menina\",matIMC!J45,matIMC!J111),\"\")","v":""},{"$f":"IF(Turma!A$2=1,IF(VLOOKUP(\"x\",Turma!$B$4:$H$53,3,0)=\"Menina\",matIMC!L45,matIMC!L111),\"\")","v":""},{"$f":"IF(Turma!A$2=1,IF(VLOOKUP(\"x\",Turma!$B$4:$H$53,3,0)=\"Menina\",matIMC!N45,matIMC!N111),\"\")","v":""},{"$f":"IF(Turma!A$2=1,IF(VLOOKUP(\"x\",Turma!$B$4:$H$53,3,0)=\"Menina\",matIMC!O45,matIMC!O111),\"\")","v":""},{"$f":"IF(Turma!A$2=1,IF(VLOOKUP(\"x\",Turma!$B$4:$H$53,3,0)=\"Menina\",matIMC!P45,matIMC!P111),\"\")","v":""},{"$f":"IF(Turma!A$2=1,IF(VLOOKUP(\"x\",Turma!$B$4:$H$53,3,0)=\"Menina\",matIMC!R45,matIMC!R111),\"\")","v":""},{"$f":"IF(Turma!A$2=1,IF(VLOOKUP(\"x\",Turma!$B$4:$H$53,3,0)=\"Menina\",matIMC!T45,matIMC!T111),\"\")","v":""}]
[105,"",{"$f":"IF(Turma!A$2=1,IF(VLOOKUP(\"x\",Turma!$B$4:$H$53,3,0)=\"Menina\",matIMC!J46,matIMC!J112),\"\")","v":""},{"$f":"IF(Turma!A$2=1,IF(VLOOKUP(\"x\",Turma!$B$4:$H$53,3,0)=\"Menina\",matIMC!L46,matIMC!L112),\"\")","v":""},{"$f":"IF(Turma!A$2=1,IF(VLOOKUP(\"x\",Turma!$B$4:$H$53,3,0)=\"Menina\",matIMC!N46,matIMC!N112),\"\")","v":""},{"$f":"IF(Turma!A$2=1,IF(VLOOKUP(\"x\",Turma!$B$4:$H$53,3,0)=\"Menina\",matIMC!O46,matIMC!O112),\"\")","v":""},{"$f":"IF(Turma!A$2=1,IF(VLOOKUP(\"x\",Turma!$B$4:$H$53,3,0)=\"Menina\",matIMC!P46,matIMC!P112),\"\")","v":""},{"$f":"IF(Turma!A$2=1,IF(VLOOKUP(\"x\",Turma!$B$4:$H$53,3,0)=\"Menina\",matIMC!R46,matIMC!R112),\"\")","v":""},{"$f":"IF(Turma!A$2=1,IF(VLOOKUP(\"x\",Turma!$B$4:$H$53,3,0)=\"Menina\",matIMC!T46,matIMC!T112),\"\")","v":""}]
[106,"",{"$f":"IF(Turma!A$2=1,IF(VLOOKUP(\"x\",Turma!$B$4:$H$53,3,0)=\"Menina\",matIMC!J47,matIMC!J113),\"\")","v":""},{"$f":"IF(Turma!A$2=1,IF(VLOOKUP(\"x\",Turma!$B$4:$H$53,3,0)=\"Menina\",matIMC!L47,matIMC!L113),\"\")","v":""},{"$f":"IF(Turma!A$2=1,IF(VLOOKUP(\"x\",Turma!$B$4:$H$53,3,0)=\"Menina\",matIMC!N47,matIMC!N113),\"\")","v":""},{"$f":"IF(Turma!A$2=1,IF(VLOOKUP(\"x\",Turma!$B$4:$H$53,3,0)=\"Menina\",matIMC!O47,matIMC!O113),\"\")","v":""},{"$f":"IF(Turma!A$2=1,IF(VLOOKUP(\"x\",Turma!$B$4:$H$53,3,0)=\"Menina\",matIMC!P47,matIMC!P113),\"\")","v":""},{"$f":"IF(Turma!A$2=1,IF(VLOOKUP(\"x\",Turma!$B$4:$H$53,3,0)=\"Menina\",matIMC!R47,matIMC!R113),\"\")","v":""},{"$f":"IF(Turma!A$2=1,IF(VLOOKUP(\"x\",Turma!$B$4:$H$53,3,0)=\"Menina\",matIMC!T47,matIMC!T113),\"\")","v":""}]
[107,"",{"$f":"IF(Turma!A$2=1,IF(VLOOKUP(\"x\",Turma!$B$4:$H$53,3,0)=\"Menina\",matIMC!J48,matIMC!J114),\"\")","v":""},{"$f":"IF(Turma!A$2=1,IF(VLOOKUP(\"x\",Turma!$B$4:$H$53,3,0)=\"Menina\",matIMC!L48,matIMC!L114),\"\")","v":""},{"$f":"IF(Turma!A$2=1,IF(VLOOKUP(\"x\",Turma!$B$4:$H$53,3,0)=\"Menina\",matIMC!N48,matIMC!N114),\"\")","v":""},{"$f":"IF(Turma!A$2=1,IF(VLOOKUP(\"x\",Turma!$B$4:$H$53,3,0)=\"Menina\",matIMC!O48,matIMC!O114),\"\")","v":""},{"$f":"IF(Turma!A$2=1,IF(VLOOKUP(\"x\",Turma!$B$4:$H$53,3,0)=\"Menina\",matIMC!P48,matIMC!P114),\"\")","v":""},{"$f":"IF(Turma!A$2=1,IF(VLOOKUP(\"x\",Turma!$B$4:$H$53,3,0)=\"Menina\",matIMC!R48,matIMC!R114),\"\")","v":""},{"$f":"IF(Turma!A$2=1,IF(VLOOKUP(\"x\",Turma!$B$4:$H$53,3,0)=\"Menina\",matIMC!T48,matIMC!T114),\"\")","v":""}]
[108,9,{"$f":"IF(Turma!A$2=1,IF(VLOOKUP(\"x\",Turma!$B$4:$H$53,3,0)=\"Menina\",matIMC!J49,matIMC!J115),\"\")","v":""},{"$f":"IF(Turma!A$2=1,IF(VLOOKUP(\"x\",Turma!$B$4:$H$53,3,0)=\"Menina\",matIMC!L49,matIMC!L115),\"\")","v":""},{"$f":"IF(Turma!A$2=1,IF(VLOOKUP(\"x\",Turma!$B$4:$H$53,3,0)=\"Menina\",matIMC!N49,matIMC!N115),\"\")","v":""},{"$f":"IF(Turma!A$2=1,IF(VLOOKUP(\"x\",Turma!$B$4:$H$53,3,0)=\"Menina\",matIMC!O49,matIMC!O115),\"\")","v":""},{"$f":"IF(Turma!A$2=1,IF(VLOOKUP(\"x\",Turma!$B$4:$H$53,3,0)=\"Menina\",matIMC!P49,matIMC!P115),\"\")","v":""},{"$f":"IF(Turma!A$2=1,IF(VLOOKUP(\"x\",Turma!$B$4:$H$53,3,0)=\"Menina\",matIMC!R49,matIMC!R115),\"\")","v":""},{"$f":"IF(Turma!A$2=1,IF(VLOOKUP(\"x\",Turma!$B$4:$H$53,3,0)=\"Menina\",matIMC!T49,matIMC!T115),\"\")","v":""}]
[109,"",{"$f":"IF(Turma!A$2=1,IF(VLOOKUP(\"x\",Turma!$B$4:$H$53,3,0)=\"Menina\",matIMC!J50,matIMC!J116),\"\")","v":""},{"$f":"IF(Turma!A$2=1,IF(VLOOKUP(\"x\",Turma!$B$4:$H$53,3,0)=\"Menina\",matIMC!L50,matIMC!L116),\"\")","v":""},{"$f":"IF(Turma!A$2=1,IF(VLOOKUP(\"x\",Turma!$B$4:$H$53,3,0)=\"Menina\",matIMC!N50,matIMC!N116),\"\")","v":""},{"$f":"IF(Turma!A$2=1,IF(VLOOKUP(\"x\",Turma!$B$4:$H$53,3,0)=\"Menina\",matIMC!O50,matIMC!O116),\"\")","v":""},{"$f":"IF(Turma!A$2=1,IF(VLOOKUP(\"x\",Turma!$B$4:$H$53,3,0)=\"Menina\",matIMC!P50,matIMC!P116),\"\")","v":""},{"$f":"IF(Turma!A$2=1,IF(VLOOKUP(\"x\",Turma!$B$4:$H$53,3,0)=\"Menina\",matIMC!R50,matIMC!R116),\"\")","v":""},{"$f":"IF(Turma!A$2=1,IF(VLOOKUP(\"x\",Turma!$B$4:$H$53,3,0)=\"Menina\",matIMC!T50,matIMC!T116),\"\")","v":""}]
[110,"",{"$f":"IF(Turma!A$2=1,IF(VLOOKUP(\"x\",Turma!$B$4:$H$53,3,0)=\"Menina\",matIMC!J51,matIMC!J117),\"\")","v":""},{"$f":"IF(Turma!A$2=1,IF(VLOOKUP(\"x\",Turma!$B$4:$H$53,3,0)=\"Menina\",matIMC!L51,matIMC!L117),\"\")","v":""},{"$f":"IF(Turma!A$2=1,IF(VLOOKUP(\"x\",Turma!$B$4:$H$53,3,0)=\"Menina\",matIMC!N51,matIMC!N117),\"\")","v":""},{"$f":"IF(Turma!A$2=1,IF(VLOOKUP(\"x\",Turma!$B$4:$H$53,3,0)=\"Menina\",matIMC!O51,matIMC!O117),\"\")","v":""},{"$f":"IF(Turma!A$2=1,IF(VLOOKUP(\"x\",Turma!$B$4:$H$53,3,0)=\"Menina\",matIMC!P51,matIMC!P117),\"\")","v":""},{"$f":"IF(Turma!A$2=1,IF(VLOOKUP(\"x\",Turma!$B$4:$H$53,3,0)=\"Menina\",matIMC!R51,matIMC!R117),\"\")","v":""},{"$f":"IF(Turma!A$2=1,IF(VLOOKUP(\"x\",Turma!$B$4:$H$53,3,0)=\"Menina\",matIMC!T51,matIMC!T117),\"\")","v":""}]
[111,"",{"$f":"IF(Turma!A$2=1,IF(VLOOKUP(\"x\",Turma!$B$4:$H$53,3,0)=\"Menina\",matIMC!J52,matIMC!J118),\"\")","v":""},{"$f":"IF(Turma!A$2=1,IF(VLOOKUP(\"x\",Turma!$B$4:$H$53,3,0)=\"Menina\",matIMC!L52,matIMC!L118),\"\")","v":""},{"$f":"IF(Turma!A$2=1,IF(VLOOKUP(\"x\",Turma!$B$4:$H$53,3,0)=\"Menina\",matIMC!N52,matIMC!N118),\"\")","v":""},{"$f":"IF(Turma!A$2=1,IF(VLOOKUP(\"x\",Turma!$B$4:$H$53,3,0)=\"Menina\",matIMC!O52,matIMC!O118),\"\")","v":""},{"$f":"IF(Turma!A$2=1,IF(VLOOKUP(\"x\",Turma!$B$4:$H$53,3,0)=\"Menina\",matIMC!P52,matIMC!P118),\"\")","v":""},{"$f":"IF(Turma!A$2=1,IF(VLOOKUP(\"x\",Turma!$B$4:$H$53,3,0)=\"Menina\",matIMC!R52,matIMC!R118),\"\")","v":""},{"$f":"IF(Turma!A$2=1,IF(VLOOKUP(\"x\",Turma!$B$4:$H$53,3,0)=\"Menina\",matIMC!T52,matIMC!T118),\"\")","v":""}]
[112,"",{"$f":"IF(Turma!A$2=1,IF(VLOOKUP(\"x\",Turma!$B$4:$H$53,3,0)=\"Menina\",matIMC!J53,matIMC!J119),\"\")","v":""},{"$f":"IF(Turma!A$2=1,IF(VLOOKUP(\"x\",Turma!$B$4:$H$53,3,0)=\"Menina\",matIMC!L53,matIMC!L119),\"\")","v":""},{"$f":"IF(Turma!A$2=1,IF(VLOOKUP(\"x\",Turma!$B$4:$H$53,3,0)=\"Menina\",matIMC!N53,matIMC!N119),\"\")","v":""},{"$f":"IF(Turma!A$2=1,IF(VLOOKUP(\"x\",Turma!$B$4:$H$53,3,0)=\"Menina\",matIMC!O53,matIMC!O119),\"\")","v":""},{"$f":"IF(Turma!A$2=1,IF(VLOOKUP(\"x\",Turma!$B$4:$H$53,3,0)=\"Menina\",matIMC!P53,matIMC!P119),\"\")","v":""},{"$f":"IF(Turma!A$2=1,IF(VLOOKUP(\"x\",Turma!$B$4:$H$53,3,0)=\"Menina\",matIMC!R53,matIMC!R119),\"\")","v":""},{"$f":"IF(Turma!A$2=1,IF(VLOOKUP(\"x\",Turma!$B$4:$H$53,3,0)=\"Menina\",matIMC!T53,matIMC!T119),\"\")","v":""}]
[113,"",{"$f":"IF(Turma!A$2=1,IF(VLOOKUP(\"x\",Turma!$B$4:$H$53,3,0)=\"Menina\",matIMC!J54,matIMC!J120),\"\")","v":""},{"$f":"IF(Turma!A$2=1,IF(VLOOKUP(\"x\",Turma!$B$4:$H$53,3,0)=\"Menina\",matIMC!L54,matIMC!L120),\"\")","v":""},{"$f":"IF(Turma!A$2=1,IF(VLOOKUP(\"x\",Turma!$B$4:$H$53,3,0)=\"Menina\",matIMC!N54,matIMC!N120),\"\")","v":""},{"$f":"IF(Turma!A$2=1,IF(VLOOKUP(\"x\",Turma!$B$4:$H$53,3,0)=\"Menina\",matIMC!O54,matIMC!O120),\"\")","v":""},{"$f":"IF(Turma!A$2=1,IF(VLOOKUP(\"x\",Turma!$B$4:$H$53,3,0)=\"Menina\",matIMC!P54,matIMC!P120),\"\")","v":""},{"$f":"IF(Turma!A$2=1,IF(VLOOKUP(\"x\",Turma!$B$4:$H$53,3,0)=\"Menina\",matIMC!R54,matIMC!R120),\"\")","v":""},{"$f":"IF(Turma!A$2=1,IF(VLOOKUP(\"x\",Turma!$B$4:$H$53,3,0)=\"Menina\",matIMC!T54,matIMC!T120),\"\")","v":""}]
[114,"",{"$f":"IF(Turma!A$2=1,IF(VLOOKUP(\"x\",Turma!$B$4:$H$53,3,0)=\"Menina\",matIMC!J55,matIMC!J121),\"\")","v":""},{"$f":"IF(Turma!A$2=1,IF(VLOOKUP(\"x\",Turma!$B$4:$H$53,3,0)=\"Menina\",matIMC!L55,matIMC!L121),\"\")","v":""},{"$f":"IF(Turma!A$2=1,IF(VLOOKUP(\"x\",Turma!$B$4:$H$53,3,0)=\"Menina\",matIMC!N55,matIMC!N121),\"\")","v":""},{"$f":"IF(Turma!A$2=1,IF(VLOOKUP(\"x\",Turma!$B$4:$H$53,3,0)=\"Menina\",matIMC!O55,matIMC!O121),\"\")","v":""},{"$f":"IF(Turma!A$2=1,IF(VLOOKUP(\"x\",Turma!$B$4:$H$53,3,0)=\"Menina\",matIMC!P55,matIMC!P121),\"\")","v":""},{"$f":"IF(Turma!A$2=1,IF(VLOOKUP(\"x\",Turma!$B$4:$H$53,3,0)=\"Menina\",matIMC!R55,matIMC!R121),\"\")","v":""},{"$f":"IF(Turma!A$2=1,IF(VLOOKUP(\"x\",Turma!$B$4:$H$53,3,0)=\"Menina\",matIMC!T55,matIMC!T121),\"\")","v":""}]
[115,"",{"$f":"IF(Turma!A$2=1,IF(VLOOKUP(\"x\",Turma!$B$4:$H$53,3,0)=\"Menina\",matIMC!J56,matIMC!J122),\"\")","v":""},{"$f":"IF(Turma!A$2=1,IF(VLOOKUP(\"x\",Turma!$B$4:$H$53,3,0)=\"Menina\",matIMC!L56,matIMC!L122),\"\")","v":""},{"$f":"IF(Turma!A$2=1,IF(VLOOKUP(\"x\",Turma!$B$4:$H$53,3,0)=\"Menina\",matIMC!N56,matIMC!N122),\"\")","v":""},{"$f":"IF(Turma!A$2=1,IF(VLOOKUP(\"x\",Turma!$B$4:$H$53,3,0)=\"Menina\",matIMC!O56,matIMC!O122),\"\")","v":""},{"$f":"IF(Turma!A$2=1,IF(VLOOKUP(\"x\",Turma!$B$4:$H$53,3,0)=\"Menina\",matIMC!P56,matIMC!P122),\"\")","v":""},{"$f":"IF(Turma!A$2=1,IF(VLOOKUP(\"x\",Turma!$B$4:$H$53,3,0)=\"Menina\",matIMC!R56,matIMC!R122),\"\")","v":""},{"$f":"IF(Turma!A$2=1,IF(VLOOKUP(\"x\",Turma!$B$4:$H$53,3,0)=\"Menina\",matIMC!T56,matIMC!T122),\"\")","v":""}]
[116,"",{"$f":"IF(Turma!A$2=1,IF(VLOOKUP(\"x\",Turma!$B$4:$H$53,3,0)=\"Menina\",matIMC!J57,matIMC!J123),\"\")","v":""},{"$f":"IF(Turma!A$2=1,IF(VLOOKUP(\"x\",Turma!$B$4:$H$53,3,0)=\"Menina\",matIMC!L57,matIMC!L123),\"\")","v":""},{"$f":"IF(Turma!A$2=1,IF(VLOOKUP(\"x\",Turma!$B$4:$H$53,3,0)=\"Menina\",matIMC!N57,matIMC!N123),\"\")","v":""},{"$f":"IF(Turma!A$2=1,IF(VLOOKUP(\"x\",Turma!$B$4:$H$53,3,0)=\"Menina\",matIMC!O57,matIMC!O123),\"\")","v":""},{"$f":"IF(Turma!A$2=1,IF(VLOOKUP(\"x\",Turma!$B$4:$H$53,3,0)=\"Menina\",matIMC!P57,matIMC!P123),\"\")","v":""},{"$f":"IF(Turma!A$2=1,IF(VLOOKUP(\"x\",Turma!$B$4:$H$53,3,0)=\"Menina\",matIMC!R57,matIMC!R123),\"\")","v":""},{"$f":"IF(Turma!A$2=1,IF(VLOOKUP(\"x\",Turma!$B$4:$H$53,3,0)=\"Menina\",matIMC!T57,matIMC!T123),\"\")","v":""}]
[117,"",{"$f":"IF(Turma!A$2=1,IF(VLOOKUP(\"x\",Turma!$B$4:$H$53,3,0)=\"Menina\",matIMC!J58,matIMC!J124),\"\")","v":""},{"$f":"IF(Turma!A$2=1,IF(VLOOKUP(\"x\",Turma!$B$4:$H$53,3,0)=\"Menina\",matIMC!L58,matIMC!L124),\"\")","v":""},{"$f":"IF(Turma!A$2=1,IF(VLOOKUP(\"x\",Turma!$B$4:$H$53,3,0)=\"Menina\",matIMC!N58,matIMC!N124),\"\")","v":""},{"$f":"IF(Turma!A$2=1,IF(VLOOKUP(\"x\",Turma!$B$4:$H$53,3,0)=\"Menina\",matIMC!O58,matIMC!O124),\"\")","v":""},{"$f":"IF(Turma!A$2=1,IF(VLOOKUP(\"x\",Turma!$B$4:$H$53,3,0)=\"Menina\",matIMC!P58,matIMC!P124),\"\")","v":""},{"$f":"IF(Turma!A$2=1,IF(VLOOKUP(\"x\",Turma!$B$4:$H$53,3,0)=\"Menina\",matIMC!R58,matIMC!R124),\"\")","v":""},{"$f":"IF(Turma!A$2=1,IF(VLOOKUP(\"x\",Turma!$B$4:$H$53,3,0)=\"Menina\",matIMC!T58,matIMC!T124),\"\")","v":""}]
[118,"",{"$f":"IF(Turma!A$2=1,IF(VLOOKUP(\"x\",Turma!$B$4:$H$53,3,0)=\"Menina\",matIMC!J59,matIMC!J125),\"\")","v":""},{"$f":"IF(Turma!A$2=1,IF(VLOOKUP(\"x\",Turma!$B$4:$H$53,3,0)=\"Menina\",matIMC!L59,matIMC!L125),\"\")","v":""},{"$f":"IF(Turma!A$2=1,IF(VLOOKUP(\"x\",Turma!$B$4:$H$53,3,0)=\"Menina\",matIMC!N59,matIMC!N125),\"\")","v":""},{"$f":"IF(Turma!A$2=1,IF(VLOOKUP(\"x\",Turma!$B$4:$H$53,3,0)=\"Menina\",matIMC!O59,matIMC!O125),\"\")","v":""},{"$f":"IF(Turma!A$2=1,IF(VLOOKUP(\"x\",Turma!$B$4:$H$53,3,0)=\"Menina\",matIMC!P59,matIMC!P125),\"\")","v":""},{"$f":"IF(Turma!A$2=1,IF(VLOOKUP(\"x\",Turma!$B$4:$H$53,3,0)=\"Menina\",matIMC!R59,matIMC!R125),\"\")","v":""},{"$f":"IF(Turma!A$2=1,IF(VLOOKUP(\"x\",Turma!$B$4:$H$53,3,0)=\"Menina\",matIMC!T59,matIMC!T125),\"\")","v":""}]
[119,"",{"$f":"IF(Turma!A$2=1,IF(VLOOKUP(\"x\",Turma!$B$4:$H$53,3,0)=\"Menina\",matIMC!J60,matIMC!J126),\"\")","v":""},{"$f":"IF(Turma!A$2=1,IF(VLOOKUP(\"x\",Turma!$B$4:$H$53,3,0)=\"Menina\",matIMC!L60,matIMC!L126),\"\")","v":""},{"$f":"IF(Turma!A$2=1,IF(VLOOKUP(\"x\",Turma!$B$4:$H$53,3,0)=\"Menina\",matIMC!N60,matIMC!N126),\"\")","v":""},{"$f":"IF(Turma!A$2=1,IF(VLOOKUP(\"x\",Turma!$B$4:$H$53,3,0)=\"Menina\",matIMC!O60,matIMC!O126),\"\")","v":""},{"$f":"IF(Turma!A$2=1,IF(VLOOKUP(\"x\",Turma!$B$4:$H$53,3,0)=\"Menina\",matIMC!P60,matIMC!P126),\"\")","v":""},{"$f":"IF(Turma!A$2=1,IF(VLOOKUP(\"x\",Turma!$B$4:$H$53,3,0)=\"Menina\",matIMC!R60,matIMC!R126),\"\")","v":""},{"$f":"IF(Turma!A$2=1,IF(VLOOKUP(\"x\",Turma!$B$4:$H$53,3,0)=\"Menina\",matIMC!T60,matIMC!T126),\"\")","v":""}]
[120,10,{"$f":"IF(Turma!A$2=1,IF(VLOOKUP(\"x\",Turma!$B$4:$H$53,3,0)=\"Menina\",matIMC!J61,matIMC!J127),\"\")","v":""},{"$f":"IF(Turma!A$2=1,IF(VLOOKUP(\"x\",Turma!$B$4:$H$53,3,0)=\"Menina\",matIMC!L61,matIMC!L127),\"\")","v":""},{"$f":"IF(Turma!A$2=1,IF(VLOOKUP(\"x\",Turma!$B$4:$H$53,3,0)=\"Menina\",matIMC!N61,matIMC!N127),\"\")","v":""},{"$f":"IF(Turma!A$2=1,IF(VLOOKUP(\"x\",Turma!$B$4:$H$53,3,0)=\"Menina\",matIMC!O61,matIMC!O127),\"\")","v":""},{"$f":"IF(Turma!A$2=1,IF(VLOOKUP(\"x\",Turma!$B$4:$H$53,3,0)=\"Menina\",matIMC!P61,matIMC!P127),\"\")","v":""},{"$f":"IF(Turma!A$2=1,IF(VLOOKUP(\"x\",Turma!$B$4:$H$53,3,0)=\"Menina\",matIMC!R61,matIMC!R127),\"\")","v":""},{"$f":"IF(Turma!A$2=1,IF(VLOOKUP(\"x\",Turma!$B$4:$H$53,3,0)=\"Menina\",matIMC!T61,matIMC!T127),\"\")","v":""}]
[121,"",{"$f":"IF(Turma!A$2=1,IF(VLOOKUP(\"x\",Turma!$B$4:$H$53,3,0)=\"Menina\",matIMC!J62,matIMC!J128),\"\")","v":""},{"$f":"IF(Turma!A$2=1,IF(VLOOKUP(\"x\",Turma!$B$4:$H$53,3,0)=\"Menina\",matIMC!L62,matIMC!L128),\"\")","v":""},{"$f":"IF(Turma!A$2=1,IF(VLOOKUP(\"x\",Turma!$B$4:$H$53,3,0)=\"Menina\",matIMC!N62,matIMC!N128),\"\")","v":""},{"$f":"IF(Turma!A$2=1,IF(VLOOKUP(\"x\",Turma!$B$4:$H$53,3,0)=\"Menina\",matIMC!O62,matIMC!O128),\"\")","v":""},{"$f":"IF(Turma!A$2=1,IF(VLOOKUP(\"x\",Turma!$B$4:$H$53,3,0)=\"Menina\",matIMC!P62,matIMC!P128),\"\")","v":""},{"$f":"IF(Turma!A$2=1,IF(VLOOKUP(\"x\",Turma!$B$4:$H$53,3,0)=\"Menina\",matIMC!R62,matIMC!R128),\"\")","v":""},{"$f":"IF(Turma!A$2=1,IF(VLOOKUP(\"x\",Turma!$B$4:$H$53,3,0)=\"Menina\",matIMC!T62,matIMC!T128),\"\")","v":""}]
[122,"",{"$f":"IF(Turma!A$2=1,IF(VLOOKUP(\"x\",Turma!$B$4:$H$53,3,0)=\"Menina\",matIMC!J63,matIMC!J129),\"\")","v":""},{"$f":"IF(Turma!A$2=1,IF(VLOOKUP(\"x\",Turma!$B$4:$H$53,3,0)=\"Menina\",matIMC!L63,matIMC!L129),\"\")","v":""},{"$f":"IF(Turma!A$2=1,IF(VLOOKUP(\"x\",Turma!$B$4:$H$53,3,0)=\"Menina\",matIMC!N63,matIMC!N129),\"\")","v":""},{"$f":"IF(Turma!A$2=1,IF(VLOOKUP(\"x\",Turma!$B$4:$H$53,3,0)=\"Menina\",matIMC!O63,matIMC!O129),\"\")","v":""},{"$f":"IF(Turma!A$2=1,IF(VLOOKUP(\"x\",Turma!$B$4:$H$53,3,0)=\"Menina\",matIMC!P63,matIMC!P129),\"\")","v":""},{"$f":"IF(Turma!A$2=1,IF(VLOOKUP(\"x\",Turma!$B$4:$H$53,3,0)=\"Menina\",matIMC!R63,matIMC!R129),\"\")","v":""},{"$f":"IF(Turma!A$2=1,IF(VLOOKUP(\"x\",Turma!$B$4:$H$53,3,0)=\"Menina\",matIMC!T63,matIMC!T129),\"\")","v":""}]
[123,"",{"$f":"IF(Turma!A$2=1,IF(VLOOKUP(\"x\",Turma!$B$4:$H$53,3,0)=\"Menina\",matIMC!J64,matIMC!J130),\"\")","v":""},{"$f":"IF(Turma!A$2=1,IF(VLOOKUP(\"x\",Turma!$B$4:$H$53,3,0)=\"Menina\",matIMC!L64,matIMC!L130),\"\")","v":""},{"$f":"IF(Turma!A$2=1,IF(VLOOKUP(\"x\",Turma!$B$4:$H$53,3,0)=\"Menina\",matIMC!N64,matIMC!N130),\"\")","v":""},{"$f":"IF(Turma!A$2=1,IF(VLOOKUP(\"x\",Turma!$B$4:$H$53,3,0)=\"Menina\",matIMC!O64,matIMC!O130),\"\")","v":""},{"$f":"IF(Turma!A$2=1,IF(VLOOKUP(\"x\",Turma!$B$4:$H$53,3,0)=\"Menina\",matIMC!P64,matIMC!P130),\"\")","v":""},{"$f":"IF(Turma!A$2=1,IF(VLOOKUP(\"x\",Turma!$B$4:$H$53,3,0)=\"Menina\",matIMC!R64,matIMC!R130),\"\")","v":""},{"$f":"IF(Turma!A$2=1,IF(VLOOKUP(\"x\",Turma!$B$4:$H$53,3,0)=\"Menina\",matIMC!T64,matIMC!T130),\"\")","v":""}]
[124,"",{"$f":"IF(Turma!A$2=1,IF(VLOOKUP(\"x\",Turma!$B$4:$H$53,3,0)=\"Menina\",matIMC!J65,matIMC!J131),\"\")","v":""},{"$f":"IF(Turma!A$2=1,IF(VLOOKUP(\"x\",Turma!$B$4:$H$53,3,0)=\"Menina\",matIMC!L65,matIMC!L131),\"\")","v":""},{"$f":"IF(Turma!A$2=1,IF(VLOOKUP(\"x\",Turma!$B$4:$H$53,3,0)=\"Menina\",matIMC!N65,matIMC!N131),\"\")","v":""},{"$f":"IF(Turma!A$2=1,IF(VLOOKUP(\"x\",Turma!$B$4:$H$53,3,0)=\"Menina\",matIMC!O65,matIMC!O131),\"\")","v":""},{"$f":"IF(Turma!A$2=1,IF(VLOOKUP(\"x\",Turma!$B$4:$H$53,3,0)=\"Menina\",matIMC!P65,matIMC!P131),\"\")","v":""},{"$f":"IF(Turma!A$2=1,IF(VLOOKUP(\"x\",Turma!$B$4:$H$53,3,0)=\"Menina\",matIMC!R65,matIMC!R131),\"\")","v":""},{"$f":"IF(Turma!A$2=1,IF(VLOOKUP(\"x\",Turma!$B$4:$H$53,3,0)=\"Menina\",matIMC!T65,matIMC!T131),\"\")","v":""}]
[125,"",{"$f":"IF(Turma!A$2=1,IF(VLOOKUP(\"x\",Turma!$B$4:$H$53,3,0)=\"Menina\",matIMC!J66,matIMC!J132),\"\")","v":""},{"$f":"IF(Turma!A$2=1,IF(VLOOKUP(\"x\",Turma!$B$4:$H$53,3,0)=\"Menina\",matIMC!L66,matIMC!L132),\"\")","v":""},{"$f":"IF(Turma!A$2=1,IF(VLOOKUP(\"x\",Turma!$B$4:$H$53,3,0)=\"Menina\",matIMC!N66,matIMC!N132),\"\")","v":""},{"$f":"IF(Turma!A$2=1,IF(VLOOKUP(\"x\",Turma!$B$4:$H$53,3,0)=\"Menina\",matIMC!O66,matIMC!O132),\"\")","v":""},{"$f":"IF(Turma!A$2=1,IF(VLOOKUP(\"x\",Turma!$B$4:$H$53,3,0)=\"Menina\",matIMC!P66,matIMC!P132),\"\")","v":""},{"$f":"IF(Turma!A$2=1,IF(VLOOKUP(\"x\",Turma!$B$4:$H$53,3,0)=\"Menina\",matIMC!R66,matIMC!R132),\"\")","v":""},{"$f":"IF(Turma!A$2=1,IF(VLOOKUP(\"x\",Turma!$B$4:$H$53,3,0)=\"Menina\",matIMC!T66,matIMC!T132),\"\")","v":""}]
[126,"",{"$f":"IF(Turma!A$2=1,IF(VLOOKUP(\"x\",Turma!$B$4:$H$53,3,0)=\"Menina\",matIMC!J67,matIMC!J133),\"\")","v":""},{"$f":"IF(Turma!A$2=1,IF(VLOOKUP(\"x\",Turma!$B$4:$H$53,3,0)=\"Menina\",matIMC!L67,matIMC!L133),\"\")","v":""},{"$f":"IF(Turma!A$2=1,IF(VLOOKUP(\"x\",Turma!$B$4:$H$53,3,0)=\"Menina\",matIMC!N67,matIMC!N133),\"\")","v":""},{"$f":"IF(Turma!A$2=1,IF(VLOOKUP(\"x\",Turma!$B$4:$H$53,3,0)=\"Menina\",matIMC!O67,matIMC!O133),\"\")","v":""},{"$f":"IF(Turma!A$2=1,IF(VLOOKUP(\"x\",Turma!$B$4:$H$53,3,0)=\"Menina\",matIMC!P67,matIMC!P133),\"\")","v":""},{"$f":"IF(Turma!A$2=1,IF(VLOOKUP(\"x\",Turma!$B$4:$H$53,3,0)=\"Menina\",matIMC!R67,matIMC!R133),\"\")","v":""},{"$f":"IF(Turma!A$2=1,IF(VLOOKUP(\"x\",Turma!$B$4:$H$53,3,0)=\"Menina\",matIMC!T67,matIMC!T133),\"\")","v":""}]

{"sheet":"matPeso","index":4,"n_rows":133,"n_cols":22,"rows_kept":133,"cut":false,"hidden":true,"merged":[]}
["idLMS","variavel","genero","meses","L","M","S","P01","P1","P3","P5","P10","P15","P25","P50","P75","P85","P90","P95","P97","P99","P999"]
[1,"peso","menina",61]
[{"$f":"A2+1","v":2},"peso","menina",62]
[{"$f":"A3+1","v":3},"peso","menina",63]
[{"$f":"A4+1","v":4},"peso","menina",64]
[5,"peso","menina",65]
[6,"peso","menina",66]
[7,"peso","menina",67]
[8,"peso","menina",68]
[9,"peso","menina",69]
[10,"peso","menina",70]
[11,"peso","menina",71]
[12,"peso","menina",72,null,null,null,null,null,16.333169999999999,null,17.758649999999999,null,19.492349999999998,21.651399999999999,24.422550000000001,null,28.124130000000001,null,33.349490000000003]
[13,"peso","menina",73]
[14,"peso","menina",74]
[15,"peso","menina",75]
[16,"peso","menina",76]
[17,"peso","menina",77]
[18,"peso","menina",78,null,null,null,null,null,17.015969999999999,null,18.572769999999998,null,20.472950000000001,22.848479999999999,25.91038,null,30.01923,null,35.84872]
[19,"peso","menina",79]
[20,"peso","menina",80]
[21,"peso","menina",81]
[22,"peso","menina",82]
[23,"peso","menina",83]
[24,"peso","menina",84,null,null,null,null,null,17.77647,null,19.491700000000002,null,21.592649999999999,24.228729999999999,27.638950000000001,null,32.231490000000001,null,38.76726]
[25,"peso","menina",85]
[26,"peso","menina",86]
[27,"peso","menina",87]
[28,"peso","menina",88]
[29,"peso","menina",89]
[30,"peso","menina",90,null,null,null,null,null,18.72955,null,20.658619999999999,null,23.028300000000002,26.008679999999998,29.870170000000002,null,35.070270000000001,null,42.448929999999997]
[31,"peso","menina",91]
[32,"peso","menina",92]
[33,"peso","menina",93]
[34,"peso","menina",94]
[35,"peso","menina",95]
[36,"peso","menina",96,null,null,null,null,null,19.826229999999999,null,22.024480000000001,null,24.72803,28.127559999999999,32.521459999999998,null,38.403309999999998,null,46.649859999999997]
[37,"peso","menina",97]
[38,"peso","menina",98]
[39,"peso","menina",99]
[40,"peso","menina",100]
[41,"peso","menina",101]
[42,"peso","menina",102,null,null,null,null,null,20.7578,null,23.210129999999999,null,26.225739999999998,30.010739999999998,34.881680000000003,null,41.348880000000001,null,50.28669]
[43,"peso","menina",103]
[44,"peso","menina",104]
[45,"peso","menina",105]
[46,"peso","menina",106]
[47,"peso","menina",107]
[48,"peso","menina",108,null,null,null,null,null,21.756509999999999,null,24.474139999999998,null,27.810939999999999,31.984480000000001,37.321689999999997,null,44.334409999999998,null,53.865639999999999]
[49,"peso","menina",109]
[50,"peso","menina",110]
[51,"peso","menina",111]
[52,"peso","menina",112]
[53,"peso","menina",113]
[54,"peso","menina",114,null,null,null,null,null,22.845490000000002,null,25.846520000000002,null,29.51933,34.087449999999997,39.877800000000001,null,47.384950000000003,null,57.387659999999997]
[55,"peso","menina",115]
[56,"peso","menina",116]
[57,"peso","menina",117]
[58,"peso","menina",118]
[59,"peso","menina",119]
[60,"peso","menina",120,null,null,null,null,null,23.91225,null,27.186029999999999,null,31.177389999999999,36.111820000000002,42.310679999999998,null,50.24456,null,60.624789999999997]
[61,"peso","menina",121]
[62,"peso","menina",122]
[63,"peso","menina",123]
[64,"peso","menina",124]
[65,"peso","menina",125]
[66,"peso","menina",126,null,null,null,null,null,25.02411,null,28.58474,null,32.910319999999999,38.228160000000003,44.854489999999998,null,53.23901,null,64.037229999999994]
[67,"peso","menino",61]
[{"$f":"A68+1","v":68},"peso","menino",{"$f":"D68+1","v":62}]
[69,"peso","menino",{"$f":"D69+1","v":63}]
[70,"peso","menino",64]
[71,"peso","menino",65]
[72,"peso","menino",66]
[73,"peso","menino",67]
[74,"peso","menino",68]
[75,"peso","menino",69]
[76,"peso","menino",70]
[77,"peso","menino",71]
[78,"peso","menino",72,null,null,null,null,null,17.011980000000001,null,18.17088,null,19.579599999999999,21.340669999999999,23.626429999999999,null,26.754339999999999,null,31.392569999999999]
[79,"peso","menino",73]
[80,"peso","menino",74]
[81,"peso","menino",75]
[82,"peso","menino",76]
[83,"peso","menino",77]
[84,"peso","menino",78,null,null,null,null,null,18.01268,null,19.334489999999999,null,20.953330000000001,22.995729999999998,25.677700000000002,null,29.40559,null,35.061]
[85,"peso","menino",79]
[86,"peso","menino",80]
[87,"peso","menino",81]
[88,"peso","menino",82]
[89,"peso","menino",83]
[90,"peso","menino",84,null,null,null,null,null,18.960360000000001,null,20.453499999999998,null,22.294540000000001,24.636220000000002,27.7425,null,32.11806,null,38.883420000000001]
[91,"peso","menino",85]
[92,"peso","menino",86]
[93,"peso","menino",87]
[94,"peso","menino",88]
[95,"peso","menino",89]
[96,"peso","menino",90,null,null,null,null,null,19.885100000000001,null,21.562670000000001,null,23.642340000000001,26.30395,29.86018,null,34.913089999999997,null,42.810879999999997]
[97,"peso","menino",91]
[98,"peso","menino",92]
[99,"peso","menino",93]
[100,"peso","menino",94]
[101,"peso","menino",95]
[102,"peso","menino",96,null,null,null,null,null,20.717230000000001,null,22.581939999999999,null,24.900739999999999,27.876860000000001,31.862300000000001,null,37.529949999999999,null,46.365409999999997]
[103,"peso","menino",97]
[104,"peso","menino",98]
[105,"peso","menino",99]
[106,"peso","menino",100]
[107,"peso","menino",101]
[108,"peso","menino",102,null,null,null,null,null,21.547830000000001,null,23.615490000000001,null,26.18909,29.491399999999999,33.903109999999998,null,40.136850000000003,null,49.711950000000002]
[109,"peso","menino",103]
[110,"peso","menino",104]
[111,"peso","menino",105]
[112,"peso","menino",106]
[113,"peso","menino",107]
[114,"peso","menino",108,null,null,null,null,null,22.494340000000001,null,24.790330000000001,null,27.644659999999998,31.295059999999999,36.138869999999997,null,42.895740000000004,null,53.022590000000001]
[115,"peso","menino",109]
[116,"peso","menino",110]
[117,"peso","menino",111]
[118,"peso","menino",112]
[119,"peso","menino",113]
[120,"peso","menino",114,null,null,null,null,null,23.498729999999998,null,26.044789999999999,null,29.197669999999999,33.201819999999998,38.452710000000003,null,45.634300000000003,null,56.039650000000002]
[121,"peso","menino",115]
[122,"peso","menino",116]
[123,"peso","menino",117]
[124,"peso","menino",118]
[125,"peso","menino",119]
[126,"peso","menino",120,null,null,null,null,null,24.365259999999999,null,27.175350000000002,null,30.630739999999999,34.970120000000001,40.56268,null,48.009059999999998,null,58.351779999999998]
[127,"peso","menino",121]
[128,"peso","menino",122]
[129,"peso","menino",123]
[130,"peso","menino",124]
[131,"peso","menino",125]
[{"$f":"A132+1","v":132},"peso","menino",126,null,null,null,null,null,25.095199999999998,null,28.19361,null,31.96706,36.637970000000003,42.531880000000001,null,50.142150000000001,null,60.2485]

{"sheet":"matIMC","index":5,"n_rows":133,"n_cols":22,"rows_kept":133,"cut":false,"hidden":true,"merged":[]}
["idLMS","variavel","genero","meses","L","M","S","P01","P1","P3","P5","P10","P15","P25","P50","P75","P85","P90","P95","P97","P99","P999"]
[1,"peso","menina",61]
[{"$f":"A2+1","v":2},"peso","menina",62]
[{"$f":"A3+1","v":3},"peso","menina",63]
[{"$f":"A4+1","v":4},"peso","menina",64]
[5,"peso","menina",65]
[6,"peso","menina",66]
[7,"peso","menina",67]
[8,"peso","menina",68]
[9,"peso","menina",69]
[10,"peso","menina",70]
[11,"peso","menina",71]
[12,"peso","menina",72,null,null,null,null,null,13.5,null,14.2,null,15.1,16.2,17.7,null,19.600000000000001,null,22.6]
[13,"peso","menina",73]
[14,"peso","menina",74]
[15,"peso","menina",75]
[16,"peso","menina",76]
[17,"peso","menina",77]
[18,"peso","menina",78,null,null,null,null,null,13.5,null,14.2,null,15.2,16.3,17.899999999999999,null,20,null,23.1]
[19,"peso","menina",79]
[20,"peso","menina",80]
[21,"peso","menina",81]
[22,"peso","menina",82]
[23,"peso","menina",83]
[24,"peso","menina",84,null,null,null,null,null,13.5,null,14.3,null,15.3,16.5,18.100000000000001,null,20.3,null,23.7]
[25,"peso","menina",85]
[26,"peso","menina",86]
[27,"peso","menina",87]
[28,"peso","menina",88]
[29,"peso","menina",89]
[30,"peso","menina",90,null,null,null,null,null,13.5,null,14.4,null,15.4,16.8,18.5,null,20.9,null,24.6]
[31,"peso","menina",91]
[32,"peso","menina",92]
[33,"peso","menina",93]
[34,"peso","menina",94]
[35,"peso","menina",95]
[36,"peso","menina",96,null,null,null,null,null,13.6,null,14.5,null,15.7,17.100000000000001,19,null,21.6,null,25.6]
[37,"peso","menina",97]
[38,"peso","menina",98]
[39,"peso","menina",99]
[40,"peso","menina",100]
[41,"peso","menina",101]
[42,"peso","menina",102,null,null,null,null,null,13.7,null,14.7,null,15.9,17.399999999999999,19.5,null,22.3,null,26.6]
[43,"peso","menina",103]
[44,"peso","menina",104]
[45,"peso","menina",105]
[46,"peso","menina",106]
[47,"peso","menina",107]
[48,"peso","menina",108,null,null,null,null,null,13.8,null,14.8,null,16.100000000000001,17.8,19.899999999999999,null,22.9,null,27.5]
[49,"peso","menina",109]
[50,"peso","menina",110]
[51,"peso","menina",111]
[52,"peso","menina",112]
[53,"peso","menina",113]
[54,"peso","menina",114,null,null,null,null,null,13.8,null,14.9,null,16.3,18,20.3,null,23.4,null,28.1]
[55,"peso","menina",115]
[56,"peso","menina",116]
[57,"peso","menina",117]
[58,"peso","menina",118]
[59,"peso","menina",119]
[60,"peso","menina",120,null,null,null,null,null,13.9,null,15,null,16.399999999999999,18.2,20.5,null,23.7,null,28.4]
[61,"peso","menina",121]
[62,"peso","menina",122]
[63,"peso","menina",123]
[64,"peso","menina",124]
[65,"peso","menina",125]
[66,"peso","menina",126,null,null,null,null,null,13.9,null,15,null,16.5,18.3,20.7,null,23.9,null,28.6]
[67,"peso","menino",61]
[{"$f":"A68+1","v":68},"peso","menino",{"$f":"D68+1","v":62}]
[69,"peso","menino",{"$f":"D69+1","v":63}]
[70,"peso","menino",64]
[71,"peso","menino",65]
[72,"peso","menino",66]
[73,"peso","menino",67]
[74,"peso","menino",68]
[75,"peso","menino",69]
[76,"peso","menino",70]
[77,"peso","menino",71]
[78,"peso","menino",72,null,null,null,null,null,13.466279999999999,null,14.20537,null,15.099019999999999,16.21163,17.653400000000001,null,19.63354,null,22.616869999999999]
[79,"peso","menino",73]
[80,"peso","menino",74]
[81,"peso","menino",75]
[82,"peso","menino",76]
[83,"peso","menino",77]
[84,"peso","menino",78,null,null,null,null,null,13.47514,null,14.244680000000001,null,15.177619999999999,16.342829999999999,17.858689999999999,null,19.951239999999999,null,23.126830000000002]
[85,"peso","menino",79]
[86,"peso","menino",80]
[87,"peso","menino",81]
[88,"peso","menino",82]
[89,"peso","menino",83]
[90,"peso","menino",84,null,null,null,null,null,13.481999999999999,null,14.28735,null,15.26651,16.493559999999999,18.09637,null,20.320360000000001,null,23.71912]
[91,"peso","menino",85]
[92,"peso","menino",86]
[93,"peso","menino",87]
[94,"peso","menino",88]
[95,"peso","menino",89]
[96,"peso","menino",90,null,null,null,null,null,13.5184,null,14.380129999999999,null,15.43122,16.753070000000001,18.486329999999999,null,20.90117,null,24.60642]
[97,"peso","menino",91]
[98,"peso","menino",92]
[99,"peso","menino",93]
[100,"peso","menino",94]
[101,"peso","menino",95]
[102,"peso","menino",96,null,null,null,null,null,13.583119999999999,null,14.51859,null,15.66211,17.102699999999999,18.993179999999999,null,21.623840000000001,null,25.6356]
[103,"peso","menino",97]
[104,"peso","menino",98]
[105,"peso","menino",99]
[106,"peso","menino",100]
[107,"peso","menino",101]
[108,"peso","menino",102,null,null,null,null,null,13.65497,null,14.658160000000001,null,15.88655,17.435890000000001,19.46951,null,22.294119999999999,null,26.573630000000001]
[109,"peso","menino",103]
[110,"peso","menino",104]
[111,"peso","menino",105]
[112,"peso","menino",106]
[113,"peso","menino",107]
[114,"peso","menino",108,null,null,null,null,null,13.76962,null,14.82794,null,16.126370000000001,17.767099999999999,19.924099999999999,null,22.92285,null,27.462520000000001]
[115,"peso","menino",109]
[116,"peso","menino",110]
[117,"peso","menino",111]
[118,"peso","menino",112]
[119,"peso","menino",113]
[120,"peso","menino",114,null,null,null,null,null,13.84075,null,14.94628,null,16.303100000000001,18.017140000000001,20.26735,null,23.384730000000001,null,28.06682]
[121,"peso","menino",115]
[122,"peso","menino",116]
[123,"peso","menino",117]
[124,"peso","menino",118]
[125,"peso","menino",119]
[126,"peso","menino",120,null,null,null,null,null,13.862360000000001,null,15.00586,null,16.40803,18.175989999999999,20.488700000000001,null,23.671620000000001,null,28.392859999999999]
[127,"peso","menino",121]
[128,"peso","menino",122]
[129,"peso","menino",123]
[130,"peso","menino",124]
[131,"peso","menino",125]
[{"$f":"A132+1","v":132},"peso","menino",126,null,null,null,null,null,13.866199999999999,null,15.043670000000001,null,16.485949999999999,18.300660000000001,20.66555,null,23.898669999999999,null,28.636310000000002]